BEGIN:VCALENDAR
VERSION:2.0
PRODID:-//KSCC - ECPv6.15.20//NONSGML v1.0//EN
CALSCALE:GREGORIAN
METHOD:PUBLISH
X-WR-CALNAME:KSCC
X-ORIGINAL-URL:https://www.kscc.nl
X-WR-CALDESC:Evenementen voor KSCC
REFRESH-INTERVAL;VALUE=DURATION:PT1H
X-Robots-Tag:noindex
X-PUBLISHED-TTL:PT1H
BEGIN:VTIMEZONE
TZID:Europe/Amsterdam
BEGIN:DAYLIGHT
TZOFFSETFROM:+0100
TZOFFSETTO:+0200
TZNAME:CEST
DTSTART:20200329T010000
END:DAYLIGHT
BEGIN:STANDARD
TZOFFSETFROM:+0200
TZOFFSETTO:+0100
TZNAME:CET
DTSTART:20201025T010000
END:STANDARD
BEGIN:DAYLIGHT
TZOFFSETFROM:+0100
TZOFFSETTO:+0200
TZNAME:CEST
DTSTART:20210328T010000
END:DAYLIGHT
BEGIN:STANDARD
TZOFFSETFROM:+0200
TZOFFSETTO:+0100
TZNAME:CET
DTSTART:20211031T010000
END:STANDARD
BEGIN:DAYLIGHT
TZOFFSETFROM:+0100
TZOFFSETTO:+0200
TZNAME:CEST
DTSTART:20220327T010000
END:DAYLIGHT
BEGIN:STANDARD
TZOFFSETFROM:+0200
TZOFFSETTO:+0100
TZNAME:CET
DTSTART:20221030T010000
END:STANDARD
BEGIN:DAYLIGHT
TZOFFSETFROM:+0100
TZOFFSETTO:+0200
TZNAME:CEST
DTSTART:20230326T010000
END:DAYLIGHT
BEGIN:STANDARD
TZOFFSETFROM:+0200
TZOFFSETTO:+0100
TZNAME:CET
DTSTART:20231029T010000
END:STANDARD
BEGIN:DAYLIGHT
TZOFFSETFROM:+0100
TZOFFSETTO:+0200
TZNAME:CEST
DTSTART:20240331T010000
END:DAYLIGHT
BEGIN:STANDARD
TZOFFSETFROM:+0200
TZOFFSETTO:+0100
TZNAME:CET
DTSTART:20241027T010000
END:STANDARD
BEGIN:DAYLIGHT
TZOFFSETFROM:+0100
TZOFFSETTO:+0200
TZNAME:CEST
DTSTART:20250330T010000
END:DAYLIGHT
BEGIN:STANDARD
TZOFFSETFROM:+0200
TZOFFSETTO:+0100
TZNAME:CET
DTSTART:20251026T010000
END:STANDARD
BEGIN:DAYLIGHT
TZOFFSETFROM:+0100
TZOFFSETTO:+0200
TZNAME:CEST
DTSTART:20260329T010000
END:DAYLIGHT
BEGIN:STANDARD
TZOFFSETFROM:+0200
TZOFFSETTO:+0100
TZNAME:CET
DTSTART:20261025T010000
END:STANDARD
BEGIN:DAYLIGHT
TZOFFSETFROM:+0100
TZOFFSETTO:+0200
TZNAME:CEST
DTSTART:20270328T010000
END:DAYLIGHT
BEGIN:STANDARD
TZOFFSETFROM:+0200
TZOFFSETTO:+0100
TZNAME:CET
DTSTART:20271031T010000
END:STANDARD
END:VTIMEZONE
BEGIN:VEVENT
DTSTART;TZID=Europe/Amsterdam:20260415T140000
DTEND;TZID=Europe/Amsterdam:20260415T173000
DTSTAMP:20260421T112816
CREATED:20240826T103527Z
LAST-MODIFIED:20251015T095506Z
UID:10002823-1776261600-1776274200@www.kscc.nl
SUMMARY:Soosmiddag van Millingse SV st. Nicolaas
DESCRIPTION:MSV St Nicolaas organiseert een de Soosmiddag in café ’t Fuske te Millingen aan de Rijn. \nHet wordt weer een gezellige middag onder het genot van een kopje koffie en/of een borrel.
URL:https://www.kscc.nl/event/soosmiddag-van-millingse-sv-st-nicolaas-10/
LOCATION:Café ’t Fuske Millingen a/d Rijn\, Sint Antoniusplein 8\, Millingen aan de Rijn\, 6566 EB\, Nederland
CATEGORIES:Schipperssoos
ATTACH;FMTTYPE=image/jpeg:https://www.kscc.nl/wp-content/uploads/2023/09/Cafe-t-Fuske.jpg
GEO:51.862923;6.047237
X-APPLE-STRUCTURED-LOCATION;VALUE=URI;X-ADDRESS=Café ’t Fuske Millingen a/d Rijn Sint Antoniusplein 8 Millingen aan de Rijn 6566 EB Nederland;X-APPLE-RADIUS=500;X-TITLE=Sint Antoniusplein 8:geo:6.047237,51.862923
END:VEVENT
BEGIN:VEVENT
DTSTART;TZID=Europe/Amsterdam:20260318T140000
DTEND;TZID=Europe/Amsterdam:20260318T173000
DTSTAMP:20260421T112816
CREATED:20240826T103336Z
LAST-MODIFIED:20251015T095417Z
UID:10002822-1773842400-1773855000@www.kscc.nl
SUMMARY:Soosmiddag van Millingse SV st. Nicolaas
DESCRIPTION:MSV St Nicolaas organiseert een de Soosmiddag in café ’t Fuske te Millingen aan de Rijn. \nHet wordt weer een gezellige middag onder het genot van een kopje koffie en/of een borrel.
URL:https://www.kscc.nl/event/soosmiddag-van-millingse-sv-st-nicolaas-9/
LOCATION:Café ’t Fuske Millingen a/d Rijn\, Sint Antoniusplein 8\, Millingen aan de Rijn\, 6566 EB\, Nederland
CATEGORIES:Schipperssoos
ATTACH;FMTTYPE=image/jpeg:https://www.kscc.nl/wp-content/uploads/2023/09/Cafe-t-Fuske.jpg
GEO:51.862923;6.047237
X-APPLE-STRUCTURED-LOCATION;VALUE=URI;X-ADDRESS=Café ’t Fuske Millingen a/d Rijn Sint Antoniusplein 8 Millingen aan de Rijn 6566 EB Nederland;X-APPLE-RADIUS=500;X-TITLE=Sint Antoniusplein 8:geo:6.047237,51.862923
END:VEVENT
BEGIN:VEVENT
DTSTART;TZID=Europe/Amsterdam:20260211T140000
DTEND;TZID=Europe/Amsterdam:20260211T173000
DTSTAMP:20260421T112816
CREATED:20240826T103207Z
LAST-MODIFIED:20251015T095306Z
UID:10002821-1770818400-1770831000@www.kscc.nl
SUMMARY:Soosmiddag van Millingse SV st. Nicolaas
DESCRIPTION:MSV St Nicolaas organiseert een de Soosmiddag in café ’t Fuske te Millingen aan de Rijn. \nHet wordt weer een gezellige middag onder het genot van een kopje koffie en/of een borrel.
URL:https://www.kscc.nl/event/soosmiddag-van-millingse-sv-st-nicolaas-8/
LOCATION:Café ’t Fuske Millingen a/d Rijn\, Sint Antoniusplein 8\, Millingen aan de Rijn\, 6566 EB\, Nederland
CATEGORIES:Schipperssoos
ATTACH;FMTTYPE=image/jpeg:https://www.kscc.nl/wp-content/uploads/2023/09/Cafe-t-Fuske.jpg
GEO:51.862923;6.047237
X-APPLE-STRUCTURED-LOCATION;VALUE=URI;X-ADDRESS=Café ’t Fuske Millingen a/d Rijn Sint Antoniusplein 8 Millingen aan de Rijn 6566 EB Nederland;X-APPLE-RADIUS=500;X-TITLE=Sint Antoniusplein 8:geo:6.047237,51.862923
END:VEVENT
BEGIN:VEVENT
DTSTART;TZID=Europe/Amsterdam:20260121T140000
DTEND;TZID=Europe/Amsterdam:20260121T173000
DTSTAMP:20260421T112816
CREATED:20240826T102808Z
LAST-MODIFIED:20251015T095214Z
UID:10002820-1769004000-1769016600@www.kscc.nl
SUMMARY:Soosmiddag van Millingse SV st. Nicolaas
DESCRIPTION:MSV St Nicolaas organiseert een de Soosmiddag in café ‘ t Fuske te Millingen aan de Rijn. \nHet wordt weer een gezellige middag onder het genot van een kopje koffie en/of een borrel.
URL:https://www.kscc.nl/event/soosmiddag-van-millingse-sv-st-nicolaas-7/
LOCATION:Café ’t Fuske Millingen a/d Rijn\, Sint Antoniusplein 8\, Millingen aan de Rijn\, 6566 EB\, Nederland
CATEGORIES:Schipperssoos
ATTACH;FMTTYPE=image/jpeg:https://www.kscc.nl/wp-content/uploads/2023/09/Cafe-t-Fuske.jpg
GEO:51.862923;6.047237
X-APPLE-STRUCTURED-LOCATION;VALUE=URI;X-ADDRESS=Café ’t Fuske Millingen a/d Rijn Sint Antoniusplein 8 Millingen aan de Rijn 6566 EB Nederland;X-APPLE-RADIUS=500;X-TITLE=Sint Antoniusplein 8:geo:6.047237,51.862923
END:VEVENT
BEGIN:VEVENT
DTSTART;TZID=Europe/Amsterdam:20251217T140000
DTEND;TZID=Europe/Amsterdam:20251217T173000
DTSTAMP:20260421T112816
CREATED:20240826T102854Z
LAST-MODIFIED:20251015T095126Z
UID:10002562-1765980000-1765992600@www.kscc.nl
SUMMARY:Soosmiddag van Millingse SV st. Nicolaas
DESCRIPTION:MSV St Nicolaas organiseert een de Soosmiddag in café De Kastanje te Millingen aan de Rijn. \nHet wordt weer een gezellige middag onder het genot van een kopje koffie en/of een borrel.
URL:https://www.kscc.nl/event/soosmiddag-van-millingse-sv-st-nicolaas-5/
LOCATION:Café ’t Fuske Millingen a/d Rijn\, Sint Antoniusplein 8\, Millingen aan de Rijn\, 6566 EB\, Nederland
CATEGORIES:Schipperssoos
ATTACH;FMTTYPE=image/jpeg:https://www.kscc.nl/wp-content/uploads/2023/09/Cafe-t-Fuske.jpg
GEO:51.862923;6.047237
X-APPLE-STRUCTURED-LOCATION;VALUE=URI;X-ADDRESS=Café ’t Fuske Millingen a/d Rijn Sint Antoniusplein 8 Millingen aan de Rijn 6566 EB Nederland;X-APPLE-RADIUS=500;X-TITLE=Sint Antoniusplein 8:geo:6.047237,51.862923
END:VEVENT
BEGIN:VEVENT
DTSTART;TZID=Europe/Amsterdam:20251119T140000
DTEND;TZID=Europe/Amsterdam:20251119T173000
DTSTAMP:20260421T112816
CREATED:20240826T124251Z
LAST-MODIFIED:20251015T095030Z
UID:10003262-1763560800-1763573400@www.kscc.nl
SUMMARY:Soosmiddag van Millingse SV st. Nicolaas
DESCRIPTION:MSV St Nicolaas organiseert een de Soosmiddag in café De Kastanje te Millingen aan de Rijn. \nHet wordt weer een gezellige middag onder het genot van een kopje koffie en/of een borrel.
URL:https://www.kscc.nl/event/soosmiddag-van-millingse-sv-st-nicolaas-4/
LOCATION:Café ’t Fuske Millingen a/d Rijn\, Sint Antoniusplein 8\, Millingen aan de Rijn\, 6566 EB\, Nederland
CATEGORIES:Schipperssoos
ATTACH;FMTTYPE=image/jpeg:https://www.kscc.nl/wp-content/uploads/2021/04/Cafe-Kastanje-Millingen-aan-de-Rijn.jpg
GEO:51.862923;6.047237
X-APPLE-STRUCTURED-LOCATION;VALUE=URI;X-ADDRESS=Café ’t Fuske Millingen a/d Rijn Sint Antoniusplein 8 Millingen aan de Rijn 6566 EB Nederland;X-APPLE-RADIUS=500;X-TITLE=Sint Antoniusplein 8:geo:6.047237,51.862923
END:VEVENT
BEGIN:VEVENT
DTSTART;TZID=Europe/Amsterdam:20251022T140000
DTEND;TZID=Europe/Amsterdam:20251022T173000
DTSTAMP:20260421T112816
CREATED:20240826T134039Z
LAST-MODIFIED:20251015T094913Z
UID:10005279-1761141600-1761154200@www.kscc.nl
SUMMARY:Soosmiddag van Millingse SV st. Nicolaas
DESCRIPTION:MSV St Nicolaas organiseert een de Soosmiddag in café De Kastanje te Millingen aan de Rijn. \nHet wordt weer een gezellige middag onder het genot van een kopje koffie en/of een borrel.
URL:https://www.kscc.nl/event/soosmiddag-van-millingse-sv-st-nicolaas-12/
LOCATION:Café ’t Fuske Millingen a/d Rijn\, Sint Antoniusplein 8\, Millingen aan de Rijn\, 6566 EB\, Nederland
CATEGORIES:Schipperssoos
ATTACH;FMTTYPE=image/jpeg:https://www.kscc.nl/wp-content/uploads/2023/09/Cafe-t-Fuske.jpg
GEO:51.862923;6.047237
X-APPLE-STRUCTURED-LOCATION;VALUE=URI;X-ADDRESS=Café ’t Fuske Millingen a/d Rijn Sint Antoniusplein 8 Millingen aan de Rijn 6566 EB Nederland;X-APPLE-RADIUS=500;X-TITLE=Sint Antoniusplein 8:geo:6.047237,51.862923
END:VEVENT
BEGIN:VEVENT
DTSTART;TZID=Europe/Amsterdam:20240918T140000
DTEND;TZID=Europe/Amsterdam:20240918T173000
DTSTAMP:20260421T112816
CREATED:20240826T133759Z
LAST-MODIFIED:20240826T133946Z
UID:10002819-1726668000-1726680600@www.kscc.nl
SUMMARY:Soosmiddag van Millingse SV st. Nicolaas
DESCRIPTION:MSV St Nicolaas organiseert een de Soosmiddag in café De Kastanje te Millingen aan de Rijn. \nHet wordt weer een gezellige middag onder het genot van een kopje koffie en/of een borrel.
URL:https://www.kscc.nl/event/soosmiddag-van-millingse-sv-st-nicolaas-11/
LOCATION:Café ’t Fuske Millingen a/d Rijn\, Sint Antoniusplein 8\, Millingen aan de Rijn\, 6566 EB\, Nederland
CATEGORIES:Schipperssoos
ATTACH;FMTTYPE=image/jpeg:https://www.kscc.nl/wp-content/uploads/2023/09/Cafe-t-Fuske.jpg
GEO:51.862923;6.047237
X-APPLE-STRUCTURED-LOCATION;VALUE=URI;X-ADDRESS=Café ’t Fuske Millingen a/d Rijn Sint Antoniusplein 8 Millingen aan de Rijn 6566 EB Nederland;X-APPLE-RADIUS=500;X-TITLE=Sint Antoniusplein 8:geo:6.047237,51.862923
END:VEVENT
BEGIN:VEVENT
DTSTART;TZID=Europe/Amsterdam:20240101T110000
DTEND;TZID=Europe/Amsterdam:20240101T173000
DTSTAMP:20260421T112816
CREATED:20230928T103123Z
LAST-MODIFIED:20231206T124426Z
UID:10002561-1704106800-1704130200@www.kscc.nl
SUMMARY:Nieuwjaarsbijeenkomst Millingse SV st. Nicolaas
DESCRIPTION:Nieuwjaarsbijeenkomst. Begint met een eucharistieviering o.l.v. celebrant aalmoezenier B. van Welzenes sdb. Aansluitend een gezellig samenzijn onder het genot van een drankje en een Nieuwjaarsbrunch. \nVoor de nieuwjaarsbrunch dient u zich aan te melden vóór 20 december a.s. Dit kunt u doen via e-mail: msvstnicolaas@gmail.com
URL:https://www.kscc.nl/event/soosmiddag-van-millingse-sv-st-nicolaas-6/
LOCATION:Café ’t Fuske Millingen a/d Rijn\, Sint Antoniusplein 8\, Millingen aan de Rijn\, 6566 EB\, Nederland
CATEGORIES:Schipperssoos
ATTACH;FMTTYPE=image/jpeg:https://www.kscc.nl/wp-content/uploads/2023/09/Cafe-t-Fuske.jpg
GEO:51.862923;6.047237
X-APPLE-STRUCTURED-LOCATION;VALUE=URI;X-ADDRESS=Café ’t Fuske Millingen a/d Rijn Sint Antoniusplein 8 Millingen aan de Rijn 6566 EB Nederland;X-APPLE-RADIUS=500;X-TITLE=Sint Antoniusplein 8:geo:6.047237,51.862923
END:VEVENT
BEGIN:VEVENT
DTSTART;TZID=Europe/Amsterdam:20211030T140000
DTEND;TZID=Europe/Amsterdam:20211030T140000
DTSTAMP:20260421T112816
CREATED:20211012T120022Z
LAST-MODIFIED:20211012T120050Z
UID:10002631-1635602400-1635602400@www.kscc.nl
SUMMARY:Jubileum 50 jaar Millingse SV St. Nicolaas
DESCRIPTION:50 jaar MSV St Nicolaas 1970 – 2020 \nDoor de Coronamaatregelen kon ons jubileumfeest vorig jaar niet doorgaan. Wij willen dit feest alsnog met u vieren op zaterdag 30 oktober a.s. \nDe dag begint om 14.00 uur met een Eucharistieviering in café-zaal de Kastanje te Millingen aan de Rijn. Het feest wordt afgesloten met een diner om 18.00 uur. \nLaat vóór 20 oktober a.s. weten of U erbij wilt zijn. Voor de leden is het feest gratis en niet-leden betalen 30 euro. \nU kunt zich opgeven bij: \nRia Driessen: 06-12114502 \nWilma Heijmen: 06-46955435 \nE-mailadres: msvstnicolaas@gmail.com \nVoor de aanwezigheid gelden de bestaande Coronamaatregelen. \n  \nEr is op de feestdag een keuzemenu beschikbaar. \nGraag ook aan Ria en Wilma doorgeven waar uw voorkeur naar uitgaat: \nVoorgerechten: Carpaccio\, kipcocktail of garnalencocktail \nHoofdgerechten: Zalm\, ossenhaas of ossentong.
URL:https://www.kscc.nl/event/jubileum-50-jaar-millingse-sv-st-nicolaas/
LOCATION:Café ’t Fuske Millingen a/d Rijn\, Sint Antoniusplein 8\, Millingen aan de Rijn\, 6566 EB\, Nederland
CATEGORIES:Schipperssoos
ATTACH;FMTTYPE=image/jpeg:https://www.kscc.nl/wp-content/uploads/2021/04/Cafe-Kastanje-Millingen-aan-de-Rijn.jpg
GEO:51.862923;6.047237
X-APPLE-STRUCTURED-LOCATION;VALUE=URI;X-ADDRESS=Café ’t Fuske Millingen a/d Rijn Sint Antoniusplein 8 Millingen aan de Rijn 6566 EB Nederland;X-APPLE-RADIUS=500;X-TITLE=Sint Antoniusplein 8:geo:6.047237,51.862923
END:VEVENT
END:VCALENDAR