BEGIN:VCALENDAR
VERSION:2.0
PRODID:-//KSCC - ECPv6.15.20//NONSGML v1.0//EN
CALSCALE:GREGORIAN
METHOD:PUBLISH
X-ORIGINAL-URL:https://www.kscc.nl
X-WR-CALDESC:Evenementen voor KSCC
REFRESH-INTERVAL;VALUE=DURATION:PT1H
X-Robots-Tag:noindex
X-PUBLISHED-TTL:PT1H
BEGIN:VTIMEZONE
TZID:Europe/Amsterdam
BEGIN:DAYLIGHT
TZOFFSETFROM:+0100
TZOFFSETTO:+0200
TZNAME:CEST
DTSTART:20250330T010000
END:DAYLIGHT
BEGIN:STANDARD
TZOFFSETFROM:+0200
TZOFFSETTO:+0100
TZNAME:CET
DTSTART:20251026T010000
END:STANDARD
BEGIN:DAYLIGHT
TZOFFSETFROM:+0100
TZOFFSETTO:+0200
TZNAME:CEST
DTSTART:20260329T010000
END:DAYLIGHT
BEGIN:STANDARD
TZOFFSETFROM:+0200
TZOFFSETTO:+0100
TZNAME:CET
DTSTART:20261025T010000
END:STANDARD
BEGIN:DAYLIGHT
TZOFFSETFROM:+0100
TZOFFSETTO:+0200
TZNAME:CEST
DTSTART:20270328T010000
END:DAYLIGHT
BEGIN:STANDARD
TZOFFSETFROM:+0200
TZOFFSETTO:+0100
TZNAME:CET
DTSTART:20271031T010000
END:STANDARD
END:VTIMEZONE
BEGIN:VEVENT
DTSTART;TZID=Europe/Amsterdam:20260520T140000
DTEND;TZID=Europe/Amsterdam:20260520T173000
DTSTAMP:20260421T101819
CREATED:20240826T071238Z
LAST-MODIFIED:20251015T095622Z
UID:10003147-1779285600-1779298200@www.kscc.nl
SUMMARY:Soosmiddag van Millingse SV st. Nicolaas
DESCRIPTION:MSV St Nicolaas organiseert een de Soosmiddag in café ’t Fuske te Millingen aan de Rijn. De laatste voor de zomerstop. \nHet wordt weer een gezellige middag onder het genot van een kopje koffie en/of een borrel.
URL:https://www.kscc.nl/event/soosmiddag-van-millingse-sv-st-nicolaas-3-2/
LOCATION:Café ’t Fuske Millingen a/d Rijn\, Sint Antoniusplein 8\, Millingen aan de Rijn\, 6566 EB\, Nederland
CATEGORIES:Schipperssoos
ATTACH;FMTTYPE=image/jpeg:https://www.kscc.nl/wp-content/uploads/2023/09/Cafe-t-Fuske.jpg
GEO:51.862923;6.047237
X-APPLE-STRUCTURED-LOCATION;VALUE=URI;X-ADDRESS=Café ’t Fuske Millingen a/d Rijn Sint Antoniusplein 8 Millingen aan de Rijn 6566 EB Nederland;X-APPLE-RADIUS=500;X-TITLE=Sint Antoniusplein 8:geo:6.047237,51.862923
END:VEVENT
END:VCALENDAR