BEGIN:VCALENDAR
VERSION:2.0
PRODID:-//KSCC - ECPv6.15.20//NONSGML v1.0//EN
CALSCALE:GREGORIAN
METHOD:PUBLISH
X-WR-CALNAME:KSCC
X-ORIGINAL-URL:https://www.kscc.nl
X-WR-CALDESC:Evenementen voor KSCC
REFRESH-INTERVAL;VALUE=DURATION:PT1H
X-Robots-Tag:noindex
X-PUBLISHED-TTL:PT1H
BEGIN:VTIMEZONE
TZID:Europe/Amsterdam
BEGIN:DAYLIGHT
TZOFFSETFROM:+0100
TZOFFSETTO:+0200
TZNAME:CEST
DTSTART:20210328T010000
END:DAYLIGHT
BEGIN:STANDARD
TZOFFSETFROM:+0200
TZOFFSETTO:+0100
TZNAME:CET
DTSTART:20211031T010000
END:STANDARD
BEGIN:DAYLIGHT
TZOFFSETFROM:+0100
TZOFFSETTO:+0200
TZNAME:CEST
DTSTART:20220327T010000
END:DAYLIGHT
BEGIN:STANDARD
TZOFFSETFROM:+0200
TZOFFSETTO:+0100
TZNAME:CET
DTSTART:20221030T010000
END:STANDARD
BEGIN:DAYLIGHT
TZOFFSETFROM:+0100
TZOFFSETTO:+0200
TZNAME:CEST
DTSTART:20230326T010000
END:DAYLIGHT
BEGIN:STANDARD
TZOFFSETFROM:+0200
TZOFFSETTO:+0100
TZNAME:CET
DTSTART:20231029T010000
END:STANDARD
BEGIN:DAYLIGHT
TZOFFSETFROM:+0100
TZOFFSETTO:+0200
TZNAME:CEST
DTSTART:20240331T010000
END:DAYLIGHT
BEGIN:STANDARD
TZOFFSETFROM:+0200
TZOFFSETTO:+0100
TZNAME:CET
DTSTART:20241027T010000
END:STANDARD
END:VTIMEZONE
BEGIN:VEVENT
DTSTART;TZID=Europe/Amsterdam:20231121T133000
DTEND;TZID=Europe/Amsterdam:20231121T153000
DTSTAMP:20260421T143326
CREATED:20220915T131558Z
LAST-MODIFIED:20230927T122159Z
UID:10002772-1700573400-1700580600@www.kscc.nl
SUMMARY:Binnenvaartsoos Zwijndrecht met modelbouw
DESCRIPTION:Modelbouw op de soos. De modelbouw is altijd een succesvolle middag met veel bezoekers en elk jaar weer zien we nieuwe scheepsmodellen.
URL:https://www.kscc.nl/event/binnenvaartsoos-zwijndrecht-2/
LOCATION:Julia Internaat\, Schipperskade 75\, Zwijndrecht\, 3331 ME\, Nederland
CATEGORIES:Binnenvaart,Schipperssoos
ATTACH;FMTTYPE=image/jpeg:https://www.kscc.nl/wp-content/uploads/2021/04/Julia-Internaat-21.jpg
GEO:51.8136277;4.6488091
X-APPLE-STRUCTURED-LOCATION;VALUE=URI;X-ADDRESS=Julia Internaat Schipperskade 75 Zwijndrecht 3331 ME Nederland;X-APPLE-RADIUS=500;X-TITLE=Schipperskade 75:geo:4.6488091,51.8136277
END:VEVENT
BEGIN:VEVENT
DTSTART;TZID=Europe/Amsterdam:20231109T133000
DTEND;TZID=Europe/Amsterdam:20231109T153000
DTSTAMP:20260421T143326
CREATED:20230109T094853Z
LAST-MODIFIED:20230109T094854Z
UID:10002832-1699536600-1699543800@www.kscc.nl
SUMMARY:Binnenvaartsoos Zwijndrecht organiseert Klaverjasmiddag
DESCRIPTION:Klaverjasmiddag\nWilt u een kaartje komen leggen\, dan bent u vanaf 13.30 uur welkom op het Julia Internaat aan de Schipperskade 75. De entree is € 3\,- incl. koffie en thee. Informatie over de kaartmiddagen kunt u inwinnen bij: \n\nNel Timmer (+31(0)78 – 619 84 24).\n\nDe klaverjasmiddagen worden één keer per maand gehouden op een donderdagmiddag gehouden. Tijdens de schoolvakanties is het internaat gesloten en is er geen kaarten!
URL:https://www.kscc.nl/event/binnenvaartsoos-zwijndrecht-organiseert-klaverjasmiddag-2-2/2023-11-09/
LOCATION:Julia Internaat\, Schipperskade 75\, Zwijndrecht\, 3331 ME\, Nederland
CATEGORIES:Binnenvaart,Schipperssoos
ATTACH;FMTTYPE=image/jpeg:https://www.kscc.nl/wp-content/uploads/2021/04/Julia-Internaat-21.jpg
GEO:51.8136277;4.6488091
X-APPLE-STRUCTURED-LOCATION;VALUE=URI;X-ADDRESS=Julia Internaat Schipperskade 75 Zwijndrecht 3331 ME Nederland;X-APPLE-RADIUS=500;X-TITLE=Schipperskade 75:geo:4.6488091,51.8136277
END:VEVENT
BEGIN:VEVENT
DTSTART;TZID=Europe/Amsterdam:20231012T133000
DTEND;TZID=Europe/Amsterdam:20231012T153000
DTSTAMP:20260421T143326
CREATED:20230109T094853Z
LAST-MODIFIED:20230109T094854Z
UID:10002830-1697117400-1697124600@www.kscc.nl
SUMMARY:Binnenvaartsoos Zwijndrecht organiseert Klaverjasmiddag
DESCRIPTION:Klaverjasmiddag\nWilt u een kaartje komen leggen\, dan bent u vanaf 13.30 uur welkom op het Julia Internaat aan de Schipperskade 75. De entree is € 3\,- incl. koffie en thee. Informatie over de kaartmiddagen kunt u inwinnen bij: \n\nNel Timmer (+31(0)78 – 619 84 24).\n\nDe klaverjasmiddagen worden één keer per maand gehouden op een donderdagmiddag gehouden. Tijdens de schoolvakanties is het internaat gesloten en is er geen kaarten!
URL:https://www.kscc.nl/event/binnenvaartsoos-zwijndrecht-organiseert-klaverjasmiddag-2-2/2023-10-12/
LOCATION:Julia Internaat\, Schipperskade 75\, Zwijndrecht\, 3331 ME\, Nederland
CATEGORIES:Binnenvaart,Schipperssoos
ATTACH;FMTTYPE=image/jpeg:https://www.kscc.nl/wp-content/uploads/2021/04/Julia-Internaat-21.jpg
GEO:51.8136277;4.6488091
X-APPLE-STRUCTURED-LOCATION;VALUE=URI;X-ADDRESS=Julia Internaat Schipperskade 75 Zwijndrecht 3331 ME Nederland;X-APPLE-RADIUS=500;X-TITLE=Schipperskade 75:geo:4.6488091,51.8136277
END:VEVENT
BEGIN:VEVENT
DTSTART;TZID=Europe/Amsterdam:20230914T133000
DTEND;TZID=Europe/Amsterdam:20230914T153000
DTSTAMP:20260421T143326
CREATED:20230109T094853Z
LAST-MODIFIED:20230109T094854Z
UID:10002769-1694698200-1694705400@www.kscc.nl
SUMMARY:Binnenvaartsoos Zwijndrecht organiseert Klaverjasmiddag
DESCRIPTION:Klaverjasmiddag\nWilt u een kaartje komen leggen\, dan bent u vanaf 13.30 uur welkom op het Julia Internaat aan de Schipperskade 75. De entree is € 3\,- incl. koffie en thee. Informatie over de kaartmiddagen kunt u inwinnen bij: \n\nNel Timmer (+31(0)78 – 619 84 24).\n\nDe klaverjasmiddagen worden één keer per maand gehouden op een donderdagmiddag gehouden. Tijdens de schoolvakanties is het internaat gesloten en is er geen kaarten!
URL:https://www.kscc.nl/event/binnenvaartsoos-zwijndrecht-organiseert-klaverjasmiddag-2-2/2023-09-14/
LOCATION:Julia Internaat\, Schipperskade 75\, Zwijndrecht\, 3331 ME\, Nederland
CATEGORIES:Binnenvaart,Schipperssoos
ATTACH;FMTTYPE=image/jpeg:https://www.kscc.nl/wp-content/uploads/2021/04/Julia-Internaat-21.jpg
GEO:51.8136277;4.6488091
X-APPLE-STRUCTURED-LOCATION;VALUE=URI;X-ADDRESS=Julia Internaat Schipperskade 75 Zwijndrecht 3331 ME Nederland;X-APPLE-RADIUS=500;X-TITLE=Schipperskade 75:geo:4.6488091,51.8136277
END:VEVENT
BEGIN:VEVENT
DTSTART;TZID=Europe/Amsterdam:20230810T133000
DTEND;TZID=Europe/Amsterdam:20230810T153000
DTSTAMP:20260421T143326
CREATED:20230109T094853Z
LAST-MODIFIED:20230109T094854Z
UID:10002847-1691674200-1691681400@www.kscc.nl
SUMMARY:Binnenvaartsoos Zwijndrecht organiseert Klaverjasmiddag
DESCRIPTION:Klaverjasmiddag\nWilt u een kaartje komen leggen\, dan bent u vanaf 13.30 uur welkom op het Julia Internaat aan de Schipperskade 75. De entree is € 3\,- incl. koffie en thee. Informatie over de kaartmiddagen kunt u inwinnen bij: \n\nNel Timmer (+31(0)78 – 619 84 24).\n\nDe klaverjasmiddagen worden één keer per maand gehouden op een donderdagmiddag gehouden. Tijdens de schoolvakanties is het internaat gesloten en is er geen kaarten!
URL:https://www.kscc.nl/event/binnenvaartsoos-zwijndrecht-organiseert-klaverjasmiddag-2-2/2023-08-10/
LOCATION:Julia Internaat\, Schipperskade 75\, Zwijndrecht\, 3331 ME\, Nederland
CATEGORIES:Binnenvaart,Schipperssoos
ATTACH;FMTTYPE=image/jpeg:https://www.kscc.nl/wp-content/uploads/2021/04/Julia-Internaat-21.jpg
GEO:51.8136277;4.6488091
X-APPLE-STRUCTURED-LOCATION;VALUE=URI;X-ADDRESS=Julia Internaat Schipperskade 75 Zwijndrecht 3331 ME Nederland;X-APPLE-RADIUS=500;X-TITLE=Schipperskade 75:geo:4.6488091,51.8136277
END:VEVENT
BEGIN:VEVENT
DTSTART;TZID=Europe/Amsterdam:20230511T133000
DTEND;TZID=Europe/Amsterdam:20230511T153000
DTSTAMP:20260421T143326
CREATED:20230109T094853Z
LAST-MODIFIED:20230109T094854Z
UID:10002760-1683811800-1683819000@www.kscc.nl
SUMMARY:Binnenvaartsoos Zwijndrecht organiseert Klaverjasmiddag
DESCRIPTION:Klaverjasmiddag\nWilt u een kaartje komen leggen\, dan bent u vanaf 13.30 uur welkom op het Julia Internaat aan de Schipperskade 75. De entree is € 3\,- incl. koffie en thee. Informatie over de kaartmiddagen kunt u inwinnen bij: \n\nNel Timmer (+31(0)78 – 619 84 24).\n\nDe klaverjasmiddagen worden één keer per maand gehouden op een donderdagmiddag gehouden. Tijdens de schoolvakanties is het internaat gesloten en is er geen kaarten!
URL:https://www.kscc.nl/event/binnenvaartsoos-zwijndrecht-organiseert-klaverjasmiddag-2-2/2023-05-11/
LOCATION:Julia Internaat\, Schipperskade 75\, Zwijndrecht\, 3331 ME\, Nederland
CATEGORIES:Binnenvaart,Schipperssoos
ATTACH;FMTTYPE=image/jpeg:https://www.kscc.nl/wp-content/uploads/2021/04/Julia-Internaat-21.jpg
GEO:51.8136277;4.6488091
X-APPLE-STRUCTURED-LOCATION;VALUE=URI;X-ADDRESS=Julia Internaat Schipperskade 75 Zwijndrecht 3331 ME Nederland;X-APPLE-RADIUS=500;X-TITLE=Schipperskade 75:geo:4.6488091,51.8136277
END:VEVENT
BEGIN:VEVENT
DTSTART;TZID=Europe/Amsterdam:20230413T133000
DTEND;TZID=Europe/Amsterdam:20230413T153000
DTSTAMP:20260421T143326
CREATED:20230109T094853Z
LAST-MODIFIED:20230109T094854Z
UID:10002758-1681392600-1681399800@www.kscc.nl
SUMMARY:Binnenvaartsoos Zwijndrecht organiseert Klaverjasmiddag
DESCRIPTION:Klaverjasmiddag\nWilt u een kaartje komen leggen\, dan bent u vanaf 13.30 uur welkom op het Julia Internaat aan de Schipperskade 75. De entree is € 3\,- incl. koffie en thee. Informatie over de kaartmiddagen kunt u inwinnen bij: \n\nNel Timmer (+31(0)78 – 619 84 24).\n\nDe klaverjasmiddagen worden één keer per maand gehouden op een donderdagmiddag gehouden. Tijdens de schoolvakanties is het internaat gesloten en is er geen kaarten!
URL:https://www.kscc.nl/event/binnenvaartsoos-zwijndrecht-organiseert-klaverjasmiddag-2-2/2023-04-13/
LOCATION:Julia Internaat\, Schipperskade 75\, Zwijndrecht\, 3331 ME\, Nederland
CATEGORIES:Binnenvaart,Schipperssoos
ATTACH;FMTTYPE=image/jpeg:https://www.kscc.nl/wp-content/uploads/2021/04/Julia-Internaat-21.jpg
GEO:51.8136277;4.6488091
X-APPLE-STRUCTURED-LOCATION;VALUE=URI;X-ADDRESS=Julia Internaat Schipperskade 75 Zwijndrecht 3331 ME Nederland;X-APPLE-RADIUS=500;X-TITLE=Schipperskade 75:geo:4.6488091,51.8136277
END:VEVENT
BEGIN:VEVENT
DTSTART;TZID=Europe/Amsterdam:20230309T133000
DTEND;TZID=Europe/Amsterdam:20230309T153000
DTSTAMP:20260421T143326
CREATED:20230109T094853Z
LAST-MODIFIED:20230109T094854Z
UID:10002845-1678368600-1678375800@www.kscc.nl
SUMMARY:Binnenvaartsoos Zwijndrecht organiseert Klaverjasmiddag
DESCRIPTION:Klaverjasmiddag\nWilt u een kaartje komen leggen\, dan bent u vanaf 13.30 uur welkom op het Julia Internaat aan de Schipperskade 75. De entree is € 3\,- incl. koffie en thee. Informatie over de kaartmiddagen kunt u inwinnen bij: \n\nNel Timmer (+31(0)78 – 619 84 24).\n\nDe klaverjasmiddagen worden één keer per maand gehouden op een donderdagmiddag gehouden. Tijdens de schoolvakanties is het internaat gesloten en is er geen kaarten!
URL:https://www.kscc.nl/event/binnenvaartsoos-zwijndrecht-organiseert-klaverjasmiddag-2-2/2023-03-09/
LOCATION:Julia Internaat\, Schipperskade 75\, Zwijndrecht\, 3331 ME\, Nederland
CATEGORIES:Binnenvaart,Schipperssoos
ATTACH;FMTTYPE=image/jpeg:https://www.kscc.nl/wp-content/uploads/2021/04/Julia-Internaat-21.jpg
GEO:51.8136277;4.6488091
X-APPLE-STRUCTURED-LOCATION;VALUE=URI;X-ADDRESS=Julia Internaat Schipperskade 75 Zwijndrecht 3331 ME Nederland;X-APPLE-RADIUS=500;X-TITLE=Schipperskade 75:geo:4.6488091,51.8136277
END:VEVENT
BEGIN:VEVENT
DTSTART;TZID=Europe/Amsterdam:20230209T133000
DTEND;TZID=Europe/Amsterdam:20230209T153000
DTSTAMP:20260421T143326
CREATED:20230109T094853Z
LAST-MODIFIED:20230109T094854Z
UID:10002844-1675949400-1675956600@www.kscc.nl
SUMMARY:Binnenvaartsoos Zwijndrecht organiseert Klaverjasmiddag
DESCRIPTION:Klaverjasmiddag\nWilt u een kaartje komen leggen\, dan bent u vanaf 13.30 uur welkom op het Julia Internaat aan de Schipperskade 75. De entree is € 3\,- incl. koffie en thee. Informatie over de kaartmiddagen kunt u inwinnen bij: \n\nNel Timmer (+31(0)78 – 619 84 24).\n\nDe klaverjasmiddagen worden één keer per maand gehouden op een donderdagmiddag gehouden. Tijdens de schoolvakanties is het internaat gesloten en is er geen kaarten!
URL:https://www.kscc.nl/event/binnenvaartsoos-zwijndrecht-organiseert-klaverjasmiddag-2-2/2023-02-09/
LOCATION:Julia Internaat\, Schipperskade 75\, Zwijndrecht\, 3331 ME\, Nederland
CATEGORIES:Binnenvaart,Schipperssoos
ATTACH;FMTTYPE=image/jpeg:https://www.kscc.nl/wp-content/uploads/2021/04/Julia-Internaat-21.jpg
GEO:51.8136277;4.6488091
X-APPLE-STRUCTURED-LOCATION;VALUE=URI;X-ADDRESS=Julia Internaat Schipperskade 75 Zwijndrecht 3331 ME Nederland;X-APPLE-RADIUS=500;X-TITLE=Schipperskade 75:geo:4.6488091,51.8136277
END:VEVENT
BEGIN:VEVENT
DTSTART;TZID=Europe/Amsterdam:20230105T133000
DTEND;TZID=Europe/Amsterdam:20230105T153000
DTSTAMP:20260421T143326
CREATED:20220915T125758Z
LAST-MODIFIED:20220915T125758Z
UID:10002751-1672925400-1672932600@www.kscc.nl
SUMMARY:Binnenvaartsoos Zwijndrecht organiseert Klaverjasmiddag
DESCRIPTION:Klaverjasmiddag\nWilt u een kaartje komen leggen\, dan bent u vanaf 13.30 uur welkom op het Julia Internaat aan de Schipperskade 75. De entree is € 3\,- incl. koffie en thee. Informatie over de kaartmiddagen kunt u inwinnen bij: \n\nNel Timmer (+31(0)78 – 619 84 24).\n\nDe klaverjasmiddagen worden op de 2e en 4e donderdag van de maand gehouden. Tijdens de schoolvakanties is het internaat gesloten en is er geen kaarten!
URL:https://www.kscc.nl/event/binnenvaartsoos-zwijndrecht-organiseert-klaverjasmiddag-2/2023-01-05/
LOCATION:Julia Internaat\, Schipperskade 75\, Zwijndrecht\, 3331 ME\, Nederland
CATEGORIES:Binnenvaart,Schipperssoos
ATTACH;FMTTYPE=image/jpeg:https://www.kscc.nl/wp-content/uploads/2021/04/Julia-Internaat-21.jpg
GEO:51.8136277;4.6488091
X-APPLE-STRUCTURED-LOCATION;VALUE=URI;X-ADDRESS=Julia Internaat Schipperskade 75 Zwijndrecht 3331 ME Nederland;X-APPLE-RADIUS=500;X-TITLE=Schipperskade 75:geo:4.6488091,51.8136277
END:VEVENT
BEGIN:VEVENT
DTSTART;TZID=Europe/Amsterdam:20221208T133000
DTEND;TZID=Europe/Amsterdam:20221208T153000
DTSTAMP:20260421T143326
CREATED:20220915T125758Z
LAST-MODIFIED:20220915T125758Z
UID:10002749-1670506200-1670513400@www.kscc.nl
SUMMARY:Binnenvaartsoos Zwijndrecht organiseert Klaverjasmiddag
DESCRIPTION:Klaverjasmiddag\nWilt u een kaartje komen leggen\, dan bent u vanaf 13.30 uur welkom op het Julia Internaat aan de Schipperskade 75. De entree is € 3\,- incl. koffie en thee. Informatie over de kaartmiddagen kunt u inwinnen bij: \n\nNel Timmer (+31(0)78 – 619 84 24).\n\nDe klaverjasmiddagen worden op de 2e en 4e donderdag van de maand gehouden. Tijdens de schoolvakanties is het internaat gesloten en is er geen kaarten!
URL:https://www.kscc.nl/event/binnenvaartsoos-zwijndrecht-organiseert-klaverjasmiddag-2/2022-12-08/
LOCATION:Julia Internaat\, Schipperskade 75\, Zwijndrecht\, 3331 ME\, Nederland
CATEGORIES:Binnenvaart,Schipperssoos
ATTACH;FMTTYPE=image/jpeg:https://www.kscc.nl/wp-content/uploads/2021/04/Julia-Internaat-21.jpg
GEO:51.8136277;4.6488091
X-APPLE-STRUCTURED-LOCATION;VALUE=URI;X-ADDRESS=Julia Internaat Schipperskade 75 Zwijndrecht 3331 ME Nederland;X-APPLE-RADIUS=500;X-TITLE=Schipperskade 75:geo:4.6488091,51.8136277
END:VEVENT
BEGIN:VEVENT
DTSTART;TZID=Europe/Amsterdam:20221124T133000
DTEND;TZID=Europe/Amsterdam:20221124T153000
DTSTAMP:20260421T143326
CREATED:20220915T125758Z
LAST-MODIFIED:20220915T125758Z
UID:10002748-1669296600-1669303800@www.kscc.nl
SUMMARY:Binnenvaartsoos Zwijndrecht organiseert Klaverjasmiddag
DESCRIPTION:Klaverjasmiddag\nWilt u een kaartje komen leggen\, dan bent u vanaf 13.30 uur welkom op het Julia Internaat aan de Schipperskade 75. De entree is € 3\,- incl. koffie en thee. Informatie over de kaartmiddagen kunt u inwinnen bij: \n\nNel Timmer (+31(0)78 – 619 84 24).\n\nDe klaverjasmiddagen worden op de 2e en 4e donderdag van de maand gehouden. Tijdens de schoolvakanties is het internaat gesloten en is er geen kaarten!
URL:https://www.kscc.nl/event/binnenvaartsoos-zwijndrecht-organiseert-klaverjasmiddag-2/2022-11-24/
LOCATION:Julia Internaat\, Schipperskade 75\, Zwijndrecht\, 3331 ME\, Nederland
CATEGORIES:Binnenvaart,Schipperssoos
ATTACH;FMTTYPE=image/jpeg:https://www.kscc.nl/wp-content/uploads/2021/04/Julia-Internaat-21.jpg
GEO:51.8136277;4.6488091
X-APPLE-STRUCTURED-LOCATION;VALUE=URI;X-ADDRESS=Julia Internaat Schipperskade 75 Zwijndrecht 3331 ME Nederland;X-APPLE-RADIUS=500;X-TITLE=Schipperskade 75:geo:4.6488091,51.8136277
END:VEVENT
BEGIN:VEVENT
DTSTART;TZID=Europe/Amsterdam:20221110T133000
DTEND;TZID=Europe/Amsterdam:20221110T153000
DTSTAMP:20260421T143326
CREATED:20220915T125758Z
LAST-MODIFIED:20220915T125758Z
UID:10002747-1668087000-1668094200@www.kscc.nl
SUMMARY:Binnenvaartsoos Zwijndrecht organiseert Klaverjasmiddag
DESCRIPTION:Klaverjasmiddag\nWilt u een kaartje komen leggen\, dan bent u vanaf 13.30 uur welkom op het Julia Internaat aan de Schipperskade 75. De entree is € 3\,- incl. koffie en thee. Informatie over de kaartmiddagen kunt u inwinnen bij: \n\nNel Timmer (+31(0)78 – 619 84 24).\n\nDe klaverjasmiddagen worden op de 2e en 4e donderdag van de maand gehouden. Tijdens de schoolvakanties is het internaat gesloten en is er geen kaarten!
URL:https://www.kscc.nl/event/binnenvaartsoos-zwijndrecht-organiseert-klaverjasmiddag-2/2022-11-10/
LOCATION:Julia Internaat\, Schipperskade 75\, Zwijndrecht\, 3331 ME\, Nederland
CATEGORIES:Binnenvaart,Schipperssoos
ATTACH;FMTTYPE=image/jpeg:https://www.kscc.nl/wp-content/uploads/2021/04/Julia-Internaat-21.jpg
GEO:51.8136277;4.6488091
X-APPLE-STRUCTURED-LOCATION;VALUE=URI;X-ADDRESS=Julia Internaat Schipperskade 75 Zwijndrecht 3331 ME Nederland;X-APPLE-RADIUS=500;X-TITLE=Schipperskade 75:geo:4.6488091,51.8136277
END:VEVENT
BEGIN:VEVENT
DTSTART;TZID=Europe/Amsterdam:20221027T133000
DTEND;TZID=Europe/Amsterdam:20221027T153000
DTSTAMP:20260421T143326
CREATED:20220915T125758Z
LAST-MODIFIED:20220915T125758Z
UID:10002746-1666877400-1666884600@www.kscc.nl
SUMMARY:Binnenvaartsoos Zwijndrecht organiseert Klaverjasmiddag
DESCRIPTION:Klaverjasmiddag\nWilt u een kaartje komen leggen\, dan bent u vanaf 13.30 uur welkom op het Julia Internaat aan de Schipperskade 75. De entree is € 3\,- incl. koffie en thee. Informatie over de kaartmiddagen kunt u inwinnen bij: \n\nNel Timmer (+31(0)78 – 619 84 24).\n\nDe klaverjasmiddagen worden op de 2e en 4e donderdag van de maand gehouden. Tijdens de schoolvakanties is het internaat gesloten en is er geen kaarten!
URL:https://www.kscc.nl/event/binnenvaartsoos-zwijndrecht-organiseert-klaverjasmiddag-2/2022-10-27/
LOCATION:Julia Internaat\, Schipperskade 75\, Zwijndrecht\, 3331 ME\, Nederland
CATEGORIES:Binnenvaart,Schipperssoos
ATTACH;FMTTYPE=image/jpeg:https://www.kscc.nl/wp-content/uploads/2021/04/Julia-Internaat-21.jpg
GEO:51.8136277;4.6488091
X-APPLE-STRUCTURED-LOCATION;VALUE=URI;X-ADDRESS=Julia Internaat Schipperskade 75 Zwijndrecht 3331 ME Nederland;X-APPLE-RADIUS=500;X-TITLE=Schipperskade 75:geo:4.6488091,51.8136277
END:VEVENT
BEGIN:VEVENT
DTSTART;TZID=Europe/Amsterdam:20221013T133000
DTEND;TZID=Europe/Amsterdam:20221013T153000
DTSTAMP:20260421T143326
CREATED:20220915T125758Z
LAST-MODIFIED:20220915T125758Z
UID:10002745-1665667800-1665675000@www.kscc.nl
SUMMARY:Binnenvaartsoos Zwijndrecht organiseert Klaverjasmiddag
DESCRIPTION:Klaverjasmiddag\nWilt u een kaartje komen leggen\, dan bent u vanaf 13.30 uur welkom op het Julia Internaat aan de Schipperskade 75. De entree is € 3\,- incl. koffie en thee. Informatie over de kaartmiddagen kunt u inwinnen bij: \n\nNel Timmer (+31(0)78 – 619 84 24).\n\nDe klaverjasmiddagen worden op de 2e en 4e donderdag van de maand gehouden. Tijdens de schoolvakanties is het internaat gesloten en is er geen kaarten!
URL:https://www.kscc.nl/event/binnenvaartsoos-zwijndrecht-organiseert-klaverjasmiddag-2/2022-10-13/
LOCATION:Julia Internaat\, Schipperskade 75\, Zwijndrecht\, 3331 ME\, Nederland
CATEGORIES:Binnenvaart,Schipperssoos
ATTACH;FMTTYPE=image/jpeg:https://www.kscc.nl/wp-content/uploads/2021/04/Julia-Internaat-21.jpg
GEO:51.8136277;4.6488091
X-APPLE-STRUCTURED-LOCATION;VALUE=URI;X-ADDRESS=Julia Internaat Schipperskade 75 Zwijndrecht 3331 ME Nederland;X-APPLE-RADIUS=500;X-TITLE=Schipperskade 75:geo:4.6488091,51.8136277
END:VEVENT
BEGIN:VEVENT
DTSTART;TZID=Europe/Amsterdam:20220929T133000
DTEND;TZID=Europe/Amsterdam:20220929T153000
DTSTAMP:20260421T143326
CREATED:20220915T125758Z
LAST-MODIFIED:20220915T125758Z
UID:10002744-1664458200-1664465400@www.kscc.nl
SUMMARY:Binnenvaartsoos Zwijndrecht organiseert Klaverjasmiddag
DESCRIPTION:Klaverjasmiddag\nWilt u een kaartje komen leggen\, dan bent u vanaf 13.30 uur welkom op het Julia Internaat aan de Schipperskade 75. De entree is € 3\,- incl. koffie en thee. Informatie over de kaartmiddagen kunt u inwinnen bij: \n\nNel Timmer (+31(0)78 – 619 84 24).\n\nDe klaverjasmiddagen worden op de 2e en 4e donderdag van de maand gehouden. Tijdens de schoolvakanties is het internaat gesloten en is er geen kaarten!
URL:https://www.kscc.nl/event/binnenvaartsoos-zwijndrecht-organiseert-klaverjasmiddag-2/2022-09-29/
LOCATION:Julia Internaat\, Schipperskade 75\, Zwijndrecht\, 3331 ME\, Nederland
CATEGORIES:Binnenvaart,Schipperssoos
ATTACH;FMTTYPE=image/jpeg:https://www.kscc.nl/wp-content/uploads/2021/04/Julia-Internaat-21.jpg
GEO:51.8136277;4.6488091
X-APPLE-STRUCTURED-LOCATION;VALUE=URI;X-ADDRESS=Julia Internaat Schipperskade 75 Zwijndrecht 3331 ME Nederland;X-APPLE-RADIUS=500;X-TITLE=Schipperskade 75:geo:4.6488091,51.8136277
END:VEVENT
END:VCALENDAR