BEGIN:VCALENDAR
VERSION:2.0
PRODID:-//KSCC - ECPv6.15.20//NONSGML v1.0//EN
CALSCALE:GREGORIAN
METHOD:PUBLISH
X-ORIGINAL-URL:https://www.kscc.nl
X-WR-CALDESC:Evenementen voor KSCC
REFRESH-INTERVAL;VALUE=DURATION:PT1H
X-Robots-Tag:noindex
X-PUBLISHED-TTL:PT1H
BEGIN:VTIMEZONE
TZID:Europe/Amsterdam
BEGIN:DAYLIGHT
TZOFFSETFROM:+0100
TZOFFSETTO:+0200
TZNAME:CEST
DTSTART:20240331T010000
END:DAYLIGHT
BEGIN:STANDARD
TZOFFSETFROM:+0200
TZOFFSETTO:+0100
TZNAME:CET
DTSTART:20241027T010000
END:STANDARD
BEGIN:DAYLIGHT
TZOFFSETFROM:+0100
TZOFFSETTO:+0200
TZNAME:CEST
DTSTART:20250330T010000
END:DAYLIGHT
BEGIN:STANDARD
TZOFFSETFROM:+0200
TZOFFSETTO:+0100
TZNAME:CET
DTSTART:20251026T010000
END:STANDARD
BEGIN:DAYLIGHT
TZOFFSETFROM:+0100
TZOFFSETTO:+0200
TZNAME:CEST
DTSTART:20260329T010000
END:DAYLIGHT
BEGIN:STANDARD
TZOFFSETFROM:+0200
TZOFFSETTO:+0100
TZNAME:CET
DTSTART:20261025T010000
END:STANDARD
END:VTIMEZONE
BEGIN:VEVENT
DTSTART;TZID=Europe/Amsterdam:20250706T104500
DTEND;TZID=Europe/Amsterdam:20250706T120000
DTSTAMP:20260421T112642
CREATED:20230606T102914Z
LAST-MODIFIED:20250514T083456Z
UID:10003256-1751798700-1751803200@www.kscc.nl
SUMMARY:Kermis mis in Best
DESCRIPTION:Op zondag 6 juli 10.45 uur wordt de kermis-mis in Best gehouden op de Autoscooter (botsauto’s) op het Raadhuisplein. Aalmoezenier Van Welzenes sdb zal voorgaan als hoofdcelebrant. \nNa de dienst is er gelegenheid voor het drinken van een kopje koffie bij de Poffertjessalon met daarbij een warme olie- of krentenbol. \n 
URL:https://www.kscc.nl/event/kermis-mis-in-best/
LOCATION:Kermis Best\, Raadhuisplein\, Best\, 5683 EB
CATEGORIES:Kermis,Parochie
ATTACH;FMTTYPE=image/jpeg:https://www.kscc.nl/wp-content/uploads/2023/06/Kermis-Best-2023-logo.jpg
GEO:51.5117974;5.3961019
X-APPLE-STRUCTURED-LOCATION;VALUE=URI;X-ADDRESS=Kermis Best Raadhuisplein Best 5683 EB;X-APPLE-RADIUS=500;X-TITLE=Raadhuisplein:geo:5.3961019,51.5117974
END:VEVENT
END:VCALENDAR