BEGIN:VCALENDAR
VERSION:2.0
PRODID:-//KSCC - ECPv6.15.20//NONSGML v1.0//EN
CALSCALE:GREGORIAN
METHOD:PUBLISH
X-WR-CALNAME:KSCC
X-ORIGINAL-URL:https://www.kscc.nl
X-WR-CALDESC:Evenementen voor KSCC
REFRESH-INTERVAL;VALUE=DURATION:PT1H
X-Robots-Tag:noindex
X-PUBLISHED-TTL:PT1H
BEGIN:VTIMEZONE
TZID:Europe/Amsterdam
BEGIN:DAYLIGHT
TZOFFSETFROM:+0100
TZOFFSETTO:+0200
TZNAME:CEST
DTSTART:20240331T010000
END:DAYLIGHT
BEGIN:STANDARD
TZOFFSETFROM:+0200
TZOFFSETTO:+0100
TZNAME:CET
DTSTART:20241027T010000
END:STANDARD
BEGIN:DAYLIGHT
TZOFFSETFROM:+0100
TZOFFSETTO:+0200
TZNAME:CEST
DTSTART:20250330T010000
END:DAYLIGHT
BEGIN:STANDARD
TZOFFSETFROM:+0200
TZOFFSETTO:+0100
TZNAME:CET
DTSTART:20251026T010000
END:STANDARD
BEGIN:DAYLIGHT
TZOFFSETFROM:+0100
TZOFFSETTO:+0200
TZNAME:CEST
DTSTART:20260329T010000
END:DAYLIGHT
BEGIN:STANDARD
TZOFFSETFROM:+0200
TZOFFSETTO:+0100
TZNAME:CET
DTSTART:20261025T010000
END:STANDARD
END:VTIMEZONE
BEGIN:VEVENT
DTSTART;TZID=Europe/Amsterdam:20250831T103000
DTEND;TZID=Europe/Amsterdam:20250831T113000
DTSTAMP:20260422T140405
CREATED:20220818T123849Z
LAST-MODIFIED:20250514T093206Z
UID:10002666-1756636200-1756639800@www.kscc.nl
SUMMARY:Kermis mis in Budel
DESCRIPTION:Deze zondag is er een kermis mis in de autoscooter van de familie Tuyl op de Markt in Budel. U bent van harte welkom. Celebrant is kermisaalmoezenier Bernhard van Welzenes sdb. \nProgramma onder voorbehoud.
URL:https://www.kscc.nl/event/kermis-mis-in-budel/
LOCATION:Kermis Budel\, Markt\, Budel\, 6021 CE
CATEGORIES:Kermis,Parochie
ATTACH;FMTTYPE=image/jpeg:https://www.kscc.nl/wp-content/uploads/2022/08/Budel-kermis-logo.jpg
GEO:51.274452;5.574596
X-APPLE-STRUCTURED-LOCATION;VALUE=URI;X-ADDRESS=Kermis Budel Markt Budel 6021 CE;X-APPLE-RADIUS=500;X-TITLE=Markt:geo:5.574596,51.274452
END:VEVENT
END:VCALENDAR