BEGIN:VCALENDAR
VERSION:2.0
PRODID:-//KSCC - ECPv6.15.20//NONSGML v1.0//EN
CALSCALE:GREGORIAN
METHOD:PUBLISH
X-WR-CALNAME:KSCC
X-ORIGINAL-URL:https://www.kscc.nl
X-WR-CALDESC:Evenementen voor KSCC
REFRESH-INTERVAL;VALUE=DURATION:PT1H
X-Robots-Tag:noindex
X-PUBLISHED-TTL:PT1H
BEGIN:VTIMEZONE
TZID:Europe/Amsterdam
BEGIN:DAYLIGHT
TZOFFSETFROM:+0100
TZOFFSETTO:+0200
TZNAME:CEST
DTSTART:20220327T010000
END:DAYLIGHT
BEGIN:STANDARD
TZOFFSETFROM:+0200
TZOFFSETTO:+0100
TZNAME:CET
DTSTART:20221030T010000
END:STANDARD
BEGIN:DAYLIGHT
TZOFFSETFROM:+0100
TZOFFSETTO:+0200
TZNAME:CEST
DTSTART:20230326T010000
END:DAYLIGHT
BEGIN:STANDARD
TZOFFSETFROM:+0200
TZOFFSETTO:+0100
TZNAME:CET
DTSTART:20231029T010000
END:STANDARD
BEGIN:DAYLIGHT
TZOFFSETFROM:+0100
TZOFFSETTO:+0200
TZNAME:CEST
DTSTART:20240331T010000
END:DAYLIGHT
BEGIN:STANDARD
TZOFFSETFROM:+0200
TZOFFSETTO:+0100
TZNAME:CET
DTSTART:20241027T010000
END:STANDARD
END:VTIMEZONE
BEGIN:VEVENT
DTSTART;TZID=Europe/Amsterdam:20230930T160000
DTEND;TZID=Europe/Amsterdam:20230930T180000
DTSTAMP:20260422T124134
CREATED:20230621T102638Z
LAST-MODIFIED:20230918T101820Z
UID:10003149-1696089600-1696096800@www.kscc.nl
SUMMARY:Kermislezingen: van o.a. Bernhard van Welzenes
DESCRIPTION:Het Huis van de Nijmeegse Geschiedenis kondigt vol enthousiasme een speciale talkshow aan over de kermis. Op zaterdag 30 september\, de start van de Nijmeegse kermis\, zullen we om 16:00 een boeiend panel van gasten verwelkomen voor een gesprek in onze prachtige locatie\, de Mariënburgkapel. De gastheren van dit programma zijn directeur van het Geschiedenishuis Robin Hoeks en aalmoezenier Bernhard van Welzenes van de landelijke parochie kermis\, circus en binnenvaart. De gasten voor deze bijzondere gelegenheid zijn enkele experts en vertegenwoordigers uit de kermiswereld. De heer Sander Willemstein van Buro de Kermisgids\, kermisfanaat Marco Frericks\, mevrouw Francien Sipkema namens de Kermis Vrouwenbond en een vertegenwoordiger van Stichting Rijdende School. Daarnaast zullen we enkele gepassioneerde kermisexploitanten verwelkomen. \nJe kunt hier aanmelden voor deze middag.
URL:https://www.kscc.nl/event/kermislezingen-van-o-a-bernhard-van-welzenes/
LOCATION:Mariënburgkapel Nijmegen\, Mariënburg 26\, Nijmegen\, 6511 PS
CATEGORIES:Kermis
ATTACH;FMTTYPE=image/jpeg:https://www.kscc.nl/wp-content/uploads/2023/05/Kermis_Carrousel_Du_Pont_ca._1930.jpg
GEO:51.845219;5.8664405
X-APPLE-STRUCTURED-LOCATION;VALUE=URI;X-ADDRESS=Mariënburgkapel Nijmegen Mariënburg 26 Nijmegen 6511 PS;X-APPLE-RADIUS=500;X-TITLE=Mariënburg 26:geo:5.8664405,51.845219
END:VEVENT
BEGIN:VEVENT
DTSTART;TZID=Europe/Amsterdam:20230516T140000
DTEND;TZID=Europe/Amsterdam:20230516T160000
DTSTAMP:20260422T124134
CREATED:20230511T130853Z
LAST-MODIFIED:20230511T130937Z
UID:10002934-1684245600-1684252800@www.kscc.nl
SUMMARY:Opening: 750 jaar Nijmeegse kermis
DESCRIPTION:Op dinsdag 16 mei om 14:00 uur\, in de Mariënburgkapel te Nijmegen\, vindt de officiële opening plaats van onze expositie over de geschiedenis van de Nijmeegse kermis. \nDe opening van de expositie is een bijzonder moment\, omdat we voor deze tentoonstelling hebben samengewerkt met auteur René van Hoften. Zijn expertise op het gebied van de geschiedenis van de kermis heeft ons geholpen om een fascinerende en informatieve expositie samen te stellen. Bovendien is dit de eerste expositie die we presenteren sinds de renovatie van de kapel\, waardoor het extra speciaal is. \nDe expositie zal een overzicht geven van de rijke geschiedenis van de Nijmeegse kermis\, die dit jaar haar 750-jarig jubileum viert\, en zal een fascinerende kijk bieden op hoe de kermis zich door de jaren heen heeft ontwikkeld en veranderd. We hebben verschillende foto’s\, video’s en andere memorabilia verzameld om deze expositie mogelijk te maken. \nDe opening van de expositie zal plaatsvinden in de Mariënburgkapel te Nijmegen\, en zal worden bijgewoond door professionals en liefhebbers uit de kermiswereld. Na een inleiding door Atze Lubach-Koers\, voorzitter van de Nationale Bond van Kermisbedrijfhouders BOVAK\, zal onze directeur Robin Hoeks de expositie officieel openen. Daarna is er gelegenheid om de expositie te bekijken onder het genot van een drankje. \nU dient zich voor deze middag aan te melden via de website van Huis van de Nijmeegse geschiedenis.
URL:https://www.kscc.nl/event/opening-750-jaar-nijmeegse-kermis/
LOCATION:Mariënburgkapel Nijmegen\, Mariënburg 26\, Nijmegen\, 6511 PS
CATEGORIES:Kermis
ATTACH;FMTTYPE=image/jpeg:https://www.kscc.nl/wp-content/uploads/2023/05/Kermis_Carrousel_Du_Pont_ca._1930.jpg
GEO:51.845219;5.8664405
X-APPLE-STRUCTURED-LOCATION;VALUE=URI;X-ADDRESS=Mariënburgkapel Nijmegen Mariënburg 26 Nijmegen 6511 PS;X-APPLE-RADIUS=500;X-TITLE=Mariënburg 26:geo:5.8664405,51.845219
END:VEVENT
END:VCALENDAR