BEGIN:VCALENDAR
VERSION:2.0
PRODID:-//KSCC - ECPv6.15.20//NONSGML v1.0//EN
CALSCALE:GREGORIAN
METHOD:PUBLISH
X-WR-CALNAME:KSCC
X-ORIGINAL-URL:https://www.kscc.nl
X-WR-CALDESC:Evenementen voor KSCC
REFRESH-INTERVAL;VALUE=DURATION:PT1H
X-Robots-Tag:noindex
X-PUBLISHED-TTL:PT1H
BEGIN:VTIMEZONE
TZID:Europe/Amsterdam
BEGIN:DAYLIGHT
TZOFFSETFROM:+0100
TZOFFSETTO:+0200
TZNAME:CEST
DTSTART:20220327T010000
END:DAYLIGHT
BEGIN:STANDARD
TZOFFSETFROM:+0200
TZOFFSETTO:+0100
TZNAME:CET
DTSTART:20221030T010000
END:STANDARD
BEGIN:DAYLIGHT
TZOFFSETFROM:+0100
TZOFFSETTO:+0200
TZNAME:CEST
DTSTART:20230326T010000
END:DAYLIGHT
BEGIN:STANDARD
TZOFFSETFROM:+0200
TZOFFSETTO:+0100
TZNAME:CET
DTSTART:20231029T010000
END:STANDARD
BEGIN:DAYLIGHT
TZOFFSETFROM:+0100
TZOFFSETTO:+0200
TZNAME:CEST
DTSTART:20240331T010000
END:DAYLIGHT
BEGIN:STANDARD
TZOFFSETFROM:+0200
TZOFFSETTO:+0100
TZNAME:CET
DTSTART:20241027T010000
END:STANDARD
END:VTIMEZONE
BEGIN:VEVENT
DTSTART;TZID=Europe/Amsterdam:20230926T110000
DTEND;TZID=Europe/Amsterdam:20230927T190000
DTSTAMP:20260421T112656
CREATED:20230329T124009Z
LAST-MODIFIED:20230329T124009Z
UID:10002925-1695726000-1695841200@www.kscc.nl
SUMMARY:STL Kalkar
DESCRIPTION:De enige vakbeurs voor de binnenvaart in Duitsland met unieke kwaliteiten! Zet dinsdag 26 en woensdag 27 september 2023 vast in uw agenda.
URL:https://www.kscc.nl/event/stl-kalkar/
LOCATION:Messe Kalkar Duitsland\, Griether Str. 110-120\, Kalkar\, D-47546\, Duitsland
CATEGORIES:Binnenvaart
ATTACH;FMTTYPE=image/jpeg:https://www.kscc.nl/wp-content/uploads/2023/03/STL-Kalkar-Uitgelichte-afb..jpg
GEO:51.763654;6.3269163
X-APPLE-STRUCTURED-LOCATION;VALUE=URI;X-ADDRESS=Messe Kalkar Duitsland Griether Str. 110-120 Kalkar D-47546 Duitsland;X-APPLE-RADIUS=500;X-TITLE=Griether Str. 110-120:geo:6.3269163,51.763654
END:VEVENT
END:VCALENDAR