BEGIN:VCALENDAR
VERSION:2.0
PRODID:-//KSCC - ECPv6.15.20//NONSGML v1.0//EN
CALSCALE:GREGORIAN
METHOD:PUBLISH
X-ORIGINAL-URL:https://www.kscc.nl
X-WR-CALDESC:Evenementen voor KSCC
REFRESH-INTERVAL;VALUE=DURATION:PT1H
X-Robots-Tag:noindex
X-PUBLISHED-TTL:PT1H
BEGIN:VTIMEZONE
TZID:Europe/Amsterdam
BEGIN:DAYLIGHT
TZOFFSETFROM:+0100
TZOFFSETTO:+0200
TZNAME:CEST
DTSTART:20250330T010000
END:DAYLIGHT
BEGIN:STANDARD
TZOFFSETFROM:+0200
TZOFFSETTO:+0100
TZNAME:CET
DTSTART:20251026T010000
END:STANDARD
BEGIN:DAYLIGHT
TZOFFSETFROM:+0100
TZOFFSETTO:+0200
TZNAME:CEST
DTSTART:20260329T010000
END:DAYLIGHT
BEGIN:STANDARD
TZOFFSETFROM:+0200
TZOFFSETTO:+0100
TZNAME:CET
DTSTART:20261025T010000
END:STANDARD
BEGIN:DAYLIGHT
TZOFFSETFROM:+0100
TZOFFSETTO:+0200
TZNAME:CEST
DTSTART:20270328T010000
END:DAYLIGHT
BEGIN:STANDARD
TZOFFSETFROM:+0200
TZOFFSETTO:+0100
TZNAME:CET
DTSTART:20271031T010000
END:STANDARD
END:VTIMEZONE
BEGIN:VEVENT
DTSTART;TZID=Europe/Amsterdam:20260426T110000
DTEND;TZID=Europe/Amsterdam:20260426T120000
DTSTAMP:20260422T182312
CREATED:20230213T085757Z
LAST-MODIFIED:20260401T134134Z
UID:10002885-1777201200-1777204800@www.kscc.nl
SUMMARY:Kapelviering KSCC Rotterdam
DESCRIPTION:Kapelviering in de kapel van Huize Antonius. Na de viering elkaar weer fijn ontmoeten met een bakkie koffie of thee. Dit evenement vindt altijd op de laatste zondag van de maand plaats.
URL:https://www.kscc.nl/event/kapelviering-van-pasen-kscc-rotterdam/
LOCATION:Huize Antonius\, Nieuwe Binnenweg 33\, Rotterdam\, 3014 GC\, Nederland
CATEGORIES:Binnenvaart,KSCC
ATTACH;FMTTYPE=image/jpeg:https://www.kscc.nl/wp-content/uploads/2021/02/antonius_binnenweg_gebouw.jpg
GEO:51.917336;4.470316
X-APPLE-STRUCTURED-LOCATION;VALUE=URI;X-ADDRESS=Huize Antonius Nieuwe Binnenweg 33 Rotterdam 3014 GC Nederland;X-APPLE-RADIUS=500;X-TITLE=Nieuwe Binnenweg 33:geo:4.470316,51.917336
END:VEVENT
BEGIN:VEVENT
DTSTART;TZID=Europe/Amsterdam:20260524T110000
DTEND;TZID=Europe/Amsterdam:20260524T120000
DTSTAMP:20260422T182312
CREATED:20240228T145647Z
LAST-MODIFIED:20251103T111552Z
UID:10002879-1779620400-1779624000@www.kscc.nl
SUMMARY:Pinksterviering in kapel KSCC Rotterdam
DESCRIPTION:Er is een extra viering met Pinksteren op de Antonius Binnenweg. Na de viering elkaar weer fijn ontmoeten met een bakkie koffie of thee. We maken er een gezellige boel van. \nIedereen welkom.
URL:https://www.kscc.nl/event/kapelviering-kscc-rotterdam-7/
LOCATION:Huize Antonius\, Nieuwe Binnenweg 33\, Rotterdam\, 3014 GC\, Nederland
CATEGORIES:Binnenvaart,KSCC
ATTACH;FMTTYPE=image/jpeg:https://www.kscc.nl/wp-content/uploads/2021/02/antonius_binnenweg_gebouw.jpg
GEO:51.917336;4.470316
X-APPLE-STRUCTURED-LOCATION;VALUE=URI;X-ADDRESS=Huize Antonius Nieuwe Binnenweg 33 Rotterdam 3014 GC Nederland;X-APPLE-RADIUS=500;X-TITLE=Nieuwe Binnenweg 33:geo:4.470316,51.917336
END:VEVENT
BEGIN:VEVENT
DTSTART;TZID=Europe/Amsterdam:20260602T130000
DTEND;TZID=Europe/Amsterdam:20260604T210000
DTSTAMP:20260422T182312
CREATED:20220509T111238Z
LAST-MODIFIED:20250528T111321Z
UID:10002654-1780405200-1780606800@www.kscc.nl
SUMMARY:Maritime Industry in Evenementenhal Gorinchem
DESCRIPTION:GORINCHEM – De twintigste editie van Maritime Industry\, vindt plaats op 2\, 3 en 4 juni 2026 in Evenementenhal Gorinchem. De jubileumeditie belooft nu al iets bijzonders te worden. \nBekijk de website: https://www.maritime-industry.nl/
URL:https://www.kscc.nl/event/maritime-industry-half-mei-weer-als-vanouds-in-evenementenhal-gorinchem/
LOCATION:Evenementenhal Gorinchem\, Franklinweg 2\, Gorinchem\, 4207 HZ\, Nederland
CATEGORIES:Binnenvaart
ATTACH;FMTTYPE=image/jpeg:https://www.kscc.nl/wp-content/uploads/2022/05/Martime-Industry-SeijbelPhotography-Uitgelichte-afb..jpg
GEO:51.8391535;5.0084612
X-APPLE-STRUCTURED-LOCATION;VALUE=URI;X-ADDRESS=Evenementenhal Gorinchem Franklinweg 2 Gorinchem 4207 HZ Nederland;X-APPLE-RADIUS=500;X-TITLE=Franklinweg 2:geo:5.0084612,51.8391535
END:VEVENT
BEGIN:VEVENT
DTSTART;TZID=Europe/Amsterdam:20260628T110000
DTEND;TZID=Europe/Amsterdam:20260628T120000
DTSTAMP:20260422T182312
CREATED:20250428T075619Z
LAST-MODIFIED:20251103T111143Z
UID:10002877-1782644400-1782648000@www.kscc.nl
SUMMARY:Kapelviering KSCC Rotterdam
DESCRIPTION:Kapelviering in de kapel van Huize Antonius. Na de viering elkaar weer fijn ontmoeten met een bakkie koffie of thee. Dit evenement vindt altijd op de laatste zondag van de maand plaats.
URL:https://www.kscc.nl/event/kapelviering-kscc-rotterdam-11/
LOCATION:Huize Antonius\, Nieuwe Binnenweg 33\, Rotterdam\, 3014 GC\, Nederland
CATEGORIES:Binnenvaart,KSCC
ATTACH;FMTTYPE=image/jpeg:https://www.kscc.nl/wp-content/uploads/2021/02/antonius_binnenweg_gebouw.jpg
GEO:51.917336;4.470316
X-APPLE-STRUCTURED-LOCATION;VALUE=URI;X-ADDRESS=Huize Antonius Nieuwe Binnenweg 33 Rotterdam 3014 GC Nederland;X-APPLE-RADIUS=500;X-TITLE=Nieuwe Binnenweg 33:geo:4.470316,51.917336
END:VEVENT
BEGIN:VEVENT
DTSTART;TZID=Europe/Amsterdam:20260726T110000
DTEND;TZID=Europe/Amsterdam:20260726T120000
DTSTAMP:20260422T182312
CREATED:20250428T075732Z
LAST-MODIFIED:20251103T111810Z
UID:10002881-1785063600-1785067200@www.kscc.nl
SUMMARY:Kapelviering KSCC Rotterdam
DESCRIPTION:Kapelviering in de kapel van Huize Antonius. Na de viering elkaar weer fijn ontmoeten met een bakkie koffie of thee. Dit evenement vindt altijd op de laatste zondag van de maand plaats.
URL:https://www.kscc.nl/event/kapelviering-kscc-rotterdam-12/
LOCATION:Huize Antonius\, Nieuwe Binnenweg 33\, Rotterdam\, 3014 GC\, Nederland
CATEGORIES:Binnenvaart,KSCC
ATTACH;FMTTYPE=image/jpeg:https://www.kscc.nl/wp-content/uploads/2021/02/antonius_binnenweg_gebouw.jpg
GEO:51.917336;4.470316
X-APPLE-STRUCTURED-LOCATION;VALUE=URI;X-ADDRESS=Huize Antonius Nieuwe Binnenweg 33 Rotterdam 3014 GC Nederland;X-APPLE-RADIUS=500;X-TITLE=Nieuwe Binnenweg 33:geo:4.470316,51.917336
END:VEVENT
BEGIN:VEVENT
DTSTART;TZID=Europe/Amsterdam:20260823T110000
DTEND;TZID=Europe/Amsterdam:20260823T120000
DTSTAMP:20260422T182312
CREATED:20250428T075038Z
LAST-MODIFIED:20251103T111843Z
UID:10002882-1787482800-1787486400@www.kscc.nl
SUMMARY:Kapelviering KSCC Rotterdam
DESCRIPTION:Kapelviering in de kapel van Huize Antonius. Na de viering elkaar weer fijn ontmoeten met een bakkie koffie of thee. Dit evenement vindt altijd op de laatste zondag van de maand plaats.
URL:https://www.kscc.nl/event/kapelviering-kscc-rotterdam-10/
LOCATION:Huize Antonius\, Nieuwe Binnenweg 33\, Rotterdam\, 3014 GC\, Nederland
CATEGORIES:Binnenvaart,KSCC
ATTACH;FMTTYPE=image/jpeg:https://www.kscc.nl/wp-content/uploads/2021/02/antonius_binnenweg_gebouw.jpg
GEO:51.917336;4.470316
X-APPLE-STRUCTURED-LOCATION;VALUE=URI;X-ADDRESS=Huize Antonius Nieuwe Binnenweg 33 Rotterdam 3014 GC Nederland;X-APPLE-RADIUS=500;X-TITLE=Nieuwe Binnenweg 33:geo:4.470316,51.917336
END:VEVENT
BEGIN:VEVENT
DTSTART;TZID=Europe/Amsterdam:20260927T110000
DTEND;TZID=Europe/Amsterdam:20260927T120000
DTSTAMP:20260422T182312
CREATED:20240828T095502Z
LAST-MODIFIED:20251103T111923Z
UID:10002883-1790506800-1790510400@www.kscc.nl
SUMMARY:Kapelviering KSCC Rotterdam
DESCRIPTION:Kapelviering in de kapel van Huize Antonius. Na de viering elkaar weer fijn ontmoeten met een bakkie koffie of thee.
URL:https://www.kscc.nl/event/kapelviering-kscc-rotterdam-9/
LOCATION:Huize Antonius\, Nieuwe Binnenweg 33\, Rotterdam\, 3014 GC\, Nederland
CATEGORIES:Binnenvaart,KSCC
ATTACH;FMTTYPE=image/jpeg:https://www.kscc.nl/wp-content/uploads/2021/02/antonius_binnenweg_gebouw.jpg
GEO:51.917336;4.470316
X-APPLE-STRUCTURED-LOCATION;VALUE=URI;X-ADDRESS=Huize Antonius Nieuwe Binnenweg 33 Rotterdam 3014 GC Nederland;X-APPLE-RADIUS=500;X-TITLE=Nieuwe Binnenweg 33:geo:4.470316,51.917336
END:VEVENT
BEGIN:VEVENT
DTSTART;TZID=Europe/Amsterdam:20261025T110000
DTEND;TZID=Europe/Amsterdam:20261025T120000
DTSTAMP:20260422T182312
CREATED:20240828T091956Z
LAST-MODIFIED:20251103T111952Z
UID:10002884-1792926000-1792929600@www.kscc.nl
SUMMARY:Kapelviering KSCC Rotterdam
DESCRIPTION:Kapelviering in de kapel van Huize Antonius. Na de viering elkaar weer fijn ontmoeten met een bakkie koffie of thee.
URL:https://www.kscc.nl/event/kapelviering-kscc-rotterdam/
LOCATION:Huize Antonius\, Nieuwe Binnenweg 33\, Rotterdam\, 3014 GC\, Nederland
CATEGORIES:Binnenvaart,KSCC
ATTACH;FMTTYPE=image/jpeg:https://www.kscc.nl/wp-content/uploads/2021/02/antonius_binnenweg_gebouw.jpg
GEO:51.917336;4.470316
X-APPLE-STRUCTURED-LOCATION;VALUE=URI;X-ADDRESS=Huize Antonius Nieuwe Binnenweg 33 Rotterdam 3014 GC Nederland;X-APPLE-RADIUS=500;X-TITLE=Nieuwe Binnenweg 33:geo:4.470316,51.917336
END:VEVENT
END:VCALENDAR