BEGIN:VCALENDAR
VERSION:2.0
PRODID:-//KSCC - ECPv6.15.20//NONSGML v1.0//EN
CALSCALE:GREGORIAN
METHOD:PUBLISH
X-ORIGINAL-URL:https://www.kscc.nl
X-WR-CALDESC:Evenementen voor KSCC
REFRESH-INTERVAL;VALUE=DURATION:PT1H
X-Robots-Tag:noindex
X-PUBLISHED-TTL:PT1H
BEGIN:VTIMEZONE
TZID:Europe/Amsterdam
BEGIN:DAYLIGHT
TZOFFSETFROM:+0100
TZOFFSETTO:+0200
TZNAME:CEST
DTSTART:20240331T010000
END:DAYLIGHT
BEGIN:STANDARD
TZOFFSETFROM:+0200
TZOFFSETTO:+0100
TZNAME:CET
DTSTART:20241027T010000
END:STANDARD
BEGIN:DAYLIGHT
TZOFFSETFROM:+0100
TZOFFSETTO:+0200
TZNAME:CEST
DTSTART:20250330T010000
END:DAYLIGHT
BEGIN:STANDARD
TZOFFSETFROM:+0200
TZOFFSETTO:+0100
TZNAME:CET
DTSTART:20251026T010000
END:STANDARD
BEGIN:DAYLIGHT
TZOFFSETFROM:+0100
TZOFFSETTO:+0200
TZNAME:CEST
DTSTART:20260329T010000
END:DAYLIGHT
BEGIN:STANDARD
TZOFFSETFROM:+0200
TZOFFSETTO:+0100
TZNAME:CET
DTSTART:20261025T010000
END:STANDARD
END:VTIMEZONE
BEGIN:VEVENT
DTSTART;TZID=Europe/Amsterdam:20251113T140000
DTEND;TZID=Europe/Amsterdam:20251113T170000
DTSTAMP:20260421T153014
CREATED:20250707T112116Z
LAST-MODIFIED:20251023T070558Z
UID:10005413-1763042400-1763053200@www.kscc.nl
SUMMARY:KSCC Nijmegen Soos met... filmmiddag
DESCRIPTION:Soos met organiseert een filmmiddag met Christiaan Wijninga \n \n 
URL:https://www.kscc.nl/event/kscc-nijmegen-soos-met-lezing-over-cybercrime/
LOCATION:KSCC Nijmegen\, Waalhaven 1 K / Navigatie: Havenweg\, Nijmegen\, 6541 AG
CATEGORIES:KSCC
ATTACH;FMTTYPE=image/jpeg:https://www.kscc.nl/wp-content/uploads/2022/05/Soos-met-logo-liggend.jpg
GEO:51.85155;5.849944
X-APPLE-STRUCTURED-LOCATION;VALUE=URI;X-ADDRESS=KSCC Nijmegen Waalhaven 1 K / Navigatie: Havenweg Nijmegen 6541 AG;X-APPLE-RADIUS=500;X-TITLE=Waalhaven 1 K / Navigatie: Havenweg:geo:5.849944,51.85155
END:VEVENT
BEGIN:VEVENT
DTSTART;TZID=Europe/Amsterdam:20251112T133000
DTEND;TZID=Europe/Amsterdam:20251112T170000
DTSTAMP:20260421T153014
CREATED:20250205T111332Z
LAST-MODIFIED:20250205T112717Z
UID:10005488-1762954200-1762966800@www.kscc.nl
SUMMARY:Kaarten en koffiedrinken op het KSCC in Raamsdonksveer
DESCRIPTION:Elke woensdagmiddag is er kaarten en koffiedrinken op het Kerkschip. Iedereen welkom.
URL:https://www.kscc.nl/event/kaarten-en-koffiedrinken-op-het-kscc-in-raamsdonksveer-4/2025-11-12/
LOCATION:KSCC Het Zuiden\, Reenweg 1\, Raamsdonksveer\, 4942 VB\, Nederland
CATEGORIES:KSCC
ATTACH;FMTTYPE=image/jpeg:https://www.kscc.nl/wp-content/uploads/2023/03/Kaarten-en-koffie-Raamsdonksveer.jpg
GEO:51.7036444;4.8689386
X-APPLE-STRUCTURED-LOCATION;VALUE=URI;X-ADDRESS=KSCC Het Zuiden Reenweg 1 Raamsdonksveer 4942 VB Nederland;X-APPLE-RADIUS=500;X-TITLE=Reenweg 1:geo:4.8689386,51.7036444
END:VEVENT
BEGIN:VEVENT
DTSTART;TZID=Europe/Amsterdam:20251105T133000
DTEND;TZID=Europe/Amsterdam:20251105T170000
DTSTAMP:20260421T153014
CREATED:20250205T111332Z
LAST-MODIFIED:20250205T112717Z
UID:10005487-1762349400-1762362000@www.kscc.nl
SUMMARY:Kaarten en koffiedrinken op het KSCC in Raamsdonksveer
DESCRIPTION:Elke woensdagmiddag is er kaarten en koffiedrinken op het Kerkschip. Iedereen welkom.
URL:https://www.kscc.nl/event/kaarten-en-koffiedrinken-op-het-kscc-in-raamsdonksveer-4/2025-11-05/
LOCATION:KSCC Het Zuiden\, Reenweg 1\, Raamsdonksveer\, 4942 VB\, Nederland
CATEGORIES:KSCC
ATTACH;FMTTYPE=image/jpeg:https://www.kscc.nl/wp-content/uploads/2023/03/Kaarten-en-koffie-Raamsdonksveer.jpg
GEO:51.7036444;4.8689386
X-APPLE-STRUCTURED-LOCATION;VALUE=URI;X-ADDRESS=KSCC Het Zuiden Reenweg 1 Raamsdonksveer 4942 VB Nederland;X-APPLE-RADIUS=500;X-TITLE=Reenweg 1:geo:4.8689386,51.7036444
END:VEVENT
BEGIN:VEVENT
DTSTART;TZID=Europe/Amsterdam:20251029T133000
DTEND;TZID=Europe/Amsterdam:20251029T170000
DTSTAMP:20260421T153014
CREATED:20250205T111332Z
LAST-MODIFIED:20250205T112717Z
UID:10005486-1761744600-1761757200@www.kscc.nl
SUMMARY:Kaarten en koffiedrinken op het KSCC in Raamsdonksveer
DESCRIPTION:Elke woensdagmiddag is er kaarten en koffiedrinken op het Kerkschip. Iedereen welkom.
URL:https://www.kscc.nl/event/kaarten-en-koffiedrinken-op-het-kscc-in-raamsdonksveer-4/2025-10-29/
LOCATION:KSCC Het Zuiden\, Reenweg 1\, Raamsdonksveer\, 4942 VB\, Nederland
CATEGORIES:KSCC
ATTACH;FMTTYPE=image/jpeg:https://www.kscc.nl/wp-content/uploads/2023/03/Kaarten-en-koffie-Raamsdonksveer.jpg
GEO:51.7036444;4.8689386
X-APPLE-STRUCTURED-LOCATION;VALUE=URI;X-ADDRESS=KSCC Het Zuiden Reenweg 1 Raamsdonksveer 4942 VB Nederland;X-APPLE-RADIUS=500;X-TITLE=Reenweg 1:geo:4.8689386,51.7036444
END:VEVENT
BEGIN:VEVENT
DTSTART;TZID=Europe/Amsterdam:20251022T133000
DTEND;TZID=Europe/Amsterdam:20251022T170000
DTSTAMP:20260421T153014
CREATED:20250205T111332Z
LAST-MODIFIED:20250205T112717Z
UID:10005485-1761139800-1761152400@www.kscc.nl
SUMMARY:Kaarten en koffiedrinken op het KSCC in Raamsdonksveer
DESCRIPTION:Elke woensdagmiddag is er kaarten en koffiedrinken op het Kerkschip. Iedereen welkom.
URL:https://www.kscc.nl/event/kaarten-en-koffiedrinken-op-het-kscc-in-raamsdonksveer-4/2025-10-22/
LOCATION:KSCC Het Zuiden\, Reenweg 1\, Raamsdonksveer\, 4942 VB\, Nederland
CATEGORIES:KSCC
ATTACH;FMTTYPE=image/jpeg:https://www.kscc.nl/wp-content/uploads/2023/03/Kaarten-en-koffie-Raamsdonksveer.jpg
GEO:51.7036444;4.8689386
X-APPLE-STRUCTURED-LOCATION;VALUE=URI;X-ADDRESS=KSCC Het Zuiden Reenweg 1 Raamsdonksveer 4942 VB Nederland;X-APPLE-RADIUS=500;X-TITLE=Reenweg 1:geo:4.8689386,51.7036444
END:VEVENT
BEGIN:VEVENT
DTSTART;TZID=Europe/Amsterdam:20251015T133000
DTEND;TZID=Europe/Amsterdam:20251015T170000
DTSTAMP:20260421T153014
CREATED:20250205T111332Z
LAST-MODIFIED:20250205T112717Z
UID:10005484-1760535000-1760547600@www.kscc.nl
SUMMARY:Kaarten en koffiedrinken op het KSCC in Raamsdonksveer
DESCRIPTION:Elke woensdagmiddag is er kaarten en koffiedrinken op het Kerkschip. Iedereen welkom.
URL:https://www.kscc.nl/event/kaarten-en-koffiedrinken-op-het-kscc-in-raamsdonksveer-4/2025-10-15/
LOCATION:KSCC Het Zuiden\, Reenweg 1\, Raamsdonksveer\, 4942 VB\, Nederland
CATEGORIES:KSCC
ATTACH;FMTTYPE=image/jpeg:https://www.kscc.nl/wp-content/uploads/2023/03/Kaarten-en-koffie-Raamsdonksveer.jpg
GEO:51.7036444;4.8689386
X-APPLE-STRUCTURED-LOCATION;VALUE=URI;X-ADDRESS=KSCC Het Zuiden Reenweg 1 Raamsdonksveer 4942 VB Nederland;X-APPLE-RADIUS=500;X-TITLE=Reenweg 1:geo:4.8689386,51.7036444
END:VEVENT
BEGIN:VEVENT
DTSTART;TZID=Europe/Amsterdam:20251009T140000
DTEND;TZID=Europe/Amsterdam:20251009T170000
DTSTAMP:20260421T153014
CREATED:20250707T111038Z
LAST-MODIFIED:20250922T123826Z
UID:10002734-1760018400-1760029200@www.kscc.nl
SUMMARY:KSCC Nijmegen Soos met... bingo
DESCRIPTION:
URL:https://www.kscc.nl/event/kscc-nijmegen-soos-met-apotheker-en-kleine-bingo/
LOCATION:KSCC Nijmegen\, Waalhaven 1 K / Navigatie: Havenweg\, Nijmegen\, 6541 AG
CATEGORIES:KSCC
ATTACH;FMTTYPE=image/jpeg:https://www.kscc.nl/wp-content/uploads/2022/05/Soos-met-logo-liggend.jpg
GEO:51.85155;5.849944
X-APPLE-STRUCTURED-LOCATION;VALUE=URI;X-ADDRESS=KSCC Nijmegen Waalhaven 1 K / Navigatie: Havenweg Nijmegen 6541 AG;X-APPLE-RADIUS=500;X-TITLE=Waalhaven 1 K / Navigatie: Havenweg:geo:5.849944,51.85155
END:VEVENT
BEGIN:VEVENT
DTSTART;TZID=Europe/Amsterdam:20251008T133000
DTEND;TZID=Europe/Amsterdam:20251008T170000
DTSTAMP:20260421T153014
CREATED:20250205T111332Z
LAST-MODIFIED:20250205T112717Z
UID:10005483-1759930200-1759942800@www.kscc.nl
SUMMARY:Kaarten en koffiedrinken op het KSCC in Raamsdonksveer
DESCRIPTION:Elke woensdagmiddag is er kaarten en koffiedrinken op het Kerkschip. Iedereen welkom.
URL:https://www.kscc.nl/event/kaarten-en-koffiedrinken-op-het-kscc-in-raamsdonksveer-4/2025-10-08/
LOCATION:KSCC Het Zuiden\, Reenweg 1\, Raamsdonksveer\, 4942 VB\, Nederland
CATEGORIES:KSCC
ATTACH;FMTTYPE=image/jpeg:https://www.kscc.nl/wp-content/uploads/2023/03/Kaarten-en-koffie-Raamsdonksveer.jpg
GEO:51.7036444;4.8689386
X-APPLE-STRUCTURED-LOCATION;VALUE=URI;X-ADDRESS=KSCC Het Zuiden Reenweg 1 Raamsdonksveer 4942 VB Nederland;X-APPLE-RADIUS=500;X-TITLE=Reenweg 1:geo:4.8689386,51.7036444
END:VEVENT
BEGIN:VEVENT
DTSTART;TZID=Europe/Amsterdam:20251001T133000
DTEND;TZID=Europe/Amsterdam:20251001T170000
DTSTAMP:20260421T153014
CREATED:20250205T111332Z
LAST-MODIFIED:20250205T112717Z
UID:10005482-1759325400-1759338000@www.kscc.nl
SUMMARY:Kaarten en koffiedrinken op het KSCC in Raamsdonksveer
DESCRIPTION:Elke woensdagmiddag is er kaarten en koffiedrinken op het Kerkschip. Iedereen welkom.
URL:https://www.kscc.nl/event/kaarten-en-koffiedrinken-op-het-kscc-in-raamsdonksveer-4/2025-10-01/
LOCATION:KSCC Het Zuiden\, Reenweg 1\, Raamsdonksveer\, 4942 VB\, Nederland
CATEGORIES:KSCC
ATTACH;FMTTYPE=image/jpeg:https://www.kscc.nl/wp-content/uploads/2023/03/Kaarten-en-koffie-Raamsdonksveer.jpg
GEO:51.7036444;4.8689386
X-APPLE-STRUCTURED-LOCATION;VALUE=URI;X-ADDRESS=KSCC Het Zuiden Reenweg 1 Raamsdonksveer 4942 VB Nederland;X-APPLE-RADIUS=500;X-TITLE=Reenweg 1:geo:4.8689386,51.7036444
END:VEVENT
BEGIN:VEVENT
DTSTART;TZID=Europe/Amsterdam:20250924T133000
DTEND;TZID=Europe/Amsterdam:20250924T170000
DTSTAMP:20260421T153014
CREATED:20250205T111332Z
LAST-MODIFIED:20250205T112717Z
UID:10005481-1758720600-1758733200@www.kscc.nl
SUMMARY:Kaarten en koffiedrinken op het KSCC in Raamsdonksveer
DESCRIPTION:Elke woensdagmiddag is er kaarten en koffiedrinken op het Kerkschip. Iedereen welkom.
URL:https://www.kscc.nl/event/kaarten-en-koffiedrinken-op-het-kscc-in-raamsdonksveer-4/2025-09-24/
LOCATION:KSCC Het Zuiden\, Reenweg 1\, Raamsdonksveer\, 4942 VB\, Nederland
CATEGORIES:KSCC
ATTACH;FMTTYPE=image/jpeg:https://www.kscc.nl/wp-content/uploads/2023/03/Kaarten-en-koffie-Raamsdonksveer.jpg
GEO:51.7036444;4.8689386
X-APPLE-STRUCTURED-LOCATION;VALUE=URI;X-ADDRESS=KSCC Het Zuiden Reenweg 1 Raamsdonksveer 4942 VB Nederland;X-APPLE-RADIUS=500;X-TITLE=Reenweg 1:geo:4.8689386,51.7036444
END:VEVENT
BEGIN:VEVENT
DTSTART;TZID=Europe/Amsterdam:20250917T133000
DTEND;TZID=Europe/Amsterdam:20250917T170000
DTSTAMP:20260421T153014
CREATED:20250205T111332Z
LAST-MODIFIED:20250205T112717Z
UID:10005480-1758115800-1758128400@www.kscc.nl
SUMMARY:Kaarten en koffiedrinken op het KSCC in Raamsdonksveer
DESCRIPTION:Elke woensdagmiddag is er kaarten en koffiedrinken op het Kerkschip. Iedereen welkom.
URL:https://www.kscc.nl/event/kaarten-en-koffiedrinken-op-het-kscc-in-raamsdonksveer-4/2025-09-17/
LOCATION:KSCC Het Zuiden\, Reenweg 1\, Raamsdonksveer\, 4942 VB\, Nederland
CATEGORIES:KSCC
ATTACH;FMTTYPE=image/jpeg:https://www.kscc.nl/wp-content/uploads/2023/03/Kaarten-en-koffie-Raamsdonksveer.jpg
GEO:51.7036444;4.8689386
X-APPLE-STRUCTURED-LOCATION;VALUE=URI;X-ADDRESS=KSCC Het Zuiden Reenweg 1 Raamsdonksveer 4942 VB Nederland;X-APPLE-RADIUS=500;X-TITLE=Reenweg 1:geo:4.8689386,51.7036444
END:VEVENT
BEGIN:VEVENT
DTSTART;TZID=Europe/Amsterdam:20250910T133000
DTEND;TZID=Europe/Amsterdam:20250910T170000
DTSTAMP:20260421T153014
CREATED:20250205T111332Z
LAST-MODIFIED:20250205T112717Z
UID:10005479-1757511000-1757523600@www.kscc.nl
SUMMARY:Kaarten en koffiedrinken op het KSCC in Raamsdonksveer
DESCRIPTION:Elke woensdagmiddag is er kaarten en koffiedrinken op het Kerkschip. Iedereen welkom.
URL:https://www.kscc.nl/event/kaarten-en-koffiedrinken-op-het-kscc-in-raamsdonksveer-4/2025-09-10/
LOCATION:KSCC Het Zuiden\, Reenweg 1\, Raamsdonksveer\, 4942 VB\, Nederland
CATEGORIES:KSCC
ATTACH;FMTTYPE=image/jpeg:https://www.kscc.nl/wp-content/uploads/2023/03/Kaarten-en-koffie-Raamsdonksveer.jpg
GEO:51.7036444;4.8689386
X-APPLE-STRUCTURED-LOCATION;VALUE=URI;X-ADDRESS=KSCC Het Zuiden Reenweg 1 Raamsdonksveer 4942 VB Nederland;X-APPLE-RADIUS=500;X-TITLE=Reenweg 1:geo:4.8689386,51.7036444
END:VEVENT
BEGIN:VEVENT
DTSTART;TZID=Europe/Amsterdam:20250903T133000
DTEND;TZID=Europe/Amsterdam:20250903T170000
DTSTAMP:20260421T153014
CREATED:20250205T111332Z
LAST-MODIFIED:20250205T112717Z
UID:10005478-1756906200-1756918800@www.kscc.nl
SUMMARY:Kaarten en koffiedrinken op het KSCC in Raamsdonksveer
DESCRIPTION:Elke woensdagmiddag is er kaarten en koffiedrinken op het Kerkschip. Iedereen welkom.
URL:https://www.kscc.nl/event/kaarten-en-koffiedrinken-op-het-kscc-in-raamsdonksveer-4/2025-09-03/
LOCATION:KSCC Het Zuiden\, Reenweg 1\, Raamsdonksveer\, 4942 VB\, Nederland
CATEGORIES:KSCC
ATTACH;FMTTYPE=image/jpeg:https://www.kscc.nl/wp-content/uploads/2023/03/Kaarten-en-koffie-Raamsdonksveer.jpg
GEO:51.7036444;4.8689386
X-APPLE-STRUCTURED-LOCATION;VALUE=URI;X-ADDRESS=KSCC Het Zuiden Reenweg 1 Raamsdonksveer 4942 VB Nederland;X-APPLE-RADIUS=500;X-TITLE=Reenweg 1:geo:4.8689386,51.7036444
END:VEVENT
BEGIN:VEVENT
DTSTART;TZID=Europe/Amsterdam:20250827T133000
DTEND;TZID=Europe/Amsterdam:20250827T170000
DTSTAMP:20260421T153014
CREATED:20250205T111332Z
LAST-MODIFIED:20250205T112717Z
UID:10005477-1756301400-1756314000@www.kscc.nl
SUMMARY:Kaarten en koffiedrinken op het KSCC in Raamsdonksveer
DESCRIPTION:Elke woensdagmiddag is er kaarten en koffiedrinken op het Kerkschip. Iedereen welkom.
URL:https://www.kscc.nl/event/kaarten-en-koffiedrinken-op-het-kscc-in-raamsdonksveer-4/2025-08-27/
LOCATION:KSCC Het Zuiden\, Reenweg 1\, Raamsdonksveer\, 4942 VB\, Nederland
CATEGORIES:KSCC
ATTACH;FMTTYPE=image/jpeg:https://www.kscc.nl/wp-content/uploads/2023/03/Kaarten-en-koffie-Raamsdonksveer.jpg
GEO:51.7036444;4.8689386
X-APPLE-STRUCTURED-LOCATION;VALUE=URI;X-ADDRESS=KSCC Het Zuiden Reenweg 1 Raamsdonksveer 4942 VB Nederland;X-APPLE-RADIUS=500;X-TITLE=Reenweg 1:geo:4.8689386,51.7036444
END:VEVENT
BEGIN:VEVENT
DTSTART;TZID=Europe/Amsterdam:20250820T133000
DTEND;TZID=Europe/Amsterdam:20250820T170000
DTSTAMP:20260421T153014
CREATED:20250205T111332Z
LAST-MODIFIED:20250205T112717Z
UID:10005476-1755696600-1755709200@www.kscc.nl
SUMMARY:Kaarten en koffiedrinken op het KSCC in Raamsdonksveer
DESCRIPTION:Elke woensdagmiddag is er kaarten en koffiedrinken op het Kerkschip. Iedereen welkom.
URL:https://www.kscc.nl/event/kaarten-en-koffiedrinken-op-het-kscc-in-raamsdonksveer-4/2025-08-20/
LOCATION:KSCC Het Zuiden\, Reenweg 1\, Raamsdonksveer\, 4942 VB\, Nederland
CATEGORIES:KSCC
ATTACH;FMTTYPE=image/jpeg:https://www.kscc.nl/wp-content/uploads/2023/03/Kaarten-en-koffie-Raamsdonksveer.jpg
GEO:51.7036444;4.8689386
X-APPLE-STRUCTURED-LOCATION;VALUE=URI;X-ADDRESS=KSCC Het Zuiden Reenweg 1 Raamsdonksveer 4942 VB Nederland;X-APPLE-RADIUS=500;X-TITLE=Reenweg 1:geo:4.8689386,51.7036444
END:VEVENT
BEGIN:VEVENT
DTSTART;TZID=Europe/Amsterdam:20250813T133000
DTEND;TZID=Europe/Amsterdam:20250813T170000
DTSTAMP:20260421T153014
CREATED:20250205T111332Z
LAST-MODIFIED:20250205T112717Z
UID:10005475-1755091800-1755104400@www.kscc.nl
SUMMARY:Kaarten en koffiedrinken op het KSCC in Raamsdonksveer
DESCRIPTION:Elke woensdagmiddag is er kaarten en koffiedrinken op het Kerkschip. Iedereen welkom.
URL:https://www.kscc.nl/event/kaarten-en-koffiedrinken-op-het-kscc-in-raamsdonksveer-4/2025-08-13/
LOCATION:KSCC Het Zuiden\, Reenweg 1\, Raamsdonksveer\, 4942 VB\, Nederland
CATEGORIES:KSCC
ATTACH;FMTTYPE=image/jpeg:https://www.kscc.nl/wp-content/uploads/2023/03/Kaarten-en-koffie-Raamsdonksveer.jpg
GEO:51.7036444;4.8689386
X-APPLE-STRUCTURED-LOCATION;VALUE=URI;X-ADDRESS=KSCC Het Zuiden Reenweg 1 Raamsdonksveer 4942 VB Nederland;X-APPLE-RADIUS=500;X-TITLE=Reenweg 1:geo:4.8689386,51.7036444
END:VEVENT
BEGIN:VEVENT
DTSTART;TZID=Europe/Amsterdam:20250806T133000
DTEND;TZID=Europe/Amsterdam:20250806T170000
DTSTAMP:20260421T153014
CREATED:20250205T111332Z
LAST-MODIFIED:20250205T112717Z
UID:10005474-1754487000-1754499600@www.kscc.nl
SUMMARY:Kaarten en koffiedrinken op het KSCC in Raamsdonksveer
DESCRIPTION:Elke woensdagmiddag is er kaarten en koffiedrinken op het Kerkschip. Iedereen welkom.
URL:https://www.kscc.nl/event/kaarten-en-koffiedrinken-op-het-kscc-in-raamsdonksveer-4/2025-08-06/
LOCATION:KSCC Het Zuiden\, Reenweg 1\, Raamsdonksveer\, 4942 VB\, Nederland
CATEGORIES:KSCC
ATTACH;FMTTYPE=image/jpeg:https://www.kscc.nl/wp-content/uploads/2023/03/Kaarten-en-koffie-Raamsdonksveer.jpg
GEO:51.7036444;4.8689386
X-APPLE-STRUCTURED-LOCATION;VALUE=URI;X-ADDRESS=KSCC Het Zuiden Reenweg 1 Raamsdonksveer 4942 VB Nederland;X-APPLE-RADIUS=500;X-TITLE=Reenweg 1:geo:4.8689386,51.7036444
END:VEVENT
BEGIN:VEVENT
DTSTART;TZID=Europe/Amsterdam:20250730T133000
DTEND;TZID=Europe/Amsterdam:20250730T170000
DTSTAMP:20260421T153014
CREATED:20250205T111332Z
LAST-MODIFIED:20250205T112717Z
UID:10005473-1753882200-1753894800@www.kscc.nl
SUMMARY:Kaarten en koffiedrinken op het KSCC in Raamsdonksveer
DESCRIPTION:Elke woensdagmiddag is er kaarten en koffiedrinken op het Kerkschip. Iedereen welkom.
URL:https://www.kscc.nl/event/kaarten-en-koffiedrinken-op-het-kscc-in-raamsdonksveer-4/2025-07-30/
LOCATION:KSCC Het Zuiden\, Reenweg 1\, Raamsdonksveer\, 4942 VB\, Nederland
CATEGORIES:KSCC
ATTACH;FMTTYPE=image/jpeg:https://www.kscc.nl/wp-content/uploads/2023/03/Kaarten-en-koffie-Raamsdonksveer.jpg
GEO:51.7036444;4.8689386
X-APPLE-STRUCTURED-LOCATION;VALUE=URI;X-ADDRESS=KSCC Het Zuiden Reenweg 1 Raamsdonksveer 4942 VB Nederland;X-APPLE-RADIUS=500;X-TITLE=Reenweg 1:geo:4.8689386,51.7036444
END:VEVENT
BEGIN:VEVENT
DTSTART;TZID=Europe/Amsterdam:20250723T133000
DTEND;TZID=Europe/Amsterdam:20250723T170000
DTSTAMP:20260421T153014
CREATED:20250205T111332Z
LAST-MODIFIED:20250205T112717Z
UID:10005472-1753277400-1753290000@www.kscc.nl
SUMMARY:Kaarten en koffiedrinken op het KSCC in Raamsdonksveer
DESCRIPTION:Elke woensdagmiddag is er kaarten en koffiedrinken op het Kerkschip. Iedereen welkom.
URL:https://www.kscc.nl/event/kaarten-en-koffiedrinken-op-het-kscc-in-raamsdonksveer-4/2025-07-23/
LOCATION:KSCC Het Zuiden\, Reenweg 1\, Raamsdonksveer\, 4942 VB\, Nederland
CATEGORIES:KSCC
ATTACH;FMTTYPE=image/jpeg:https://www.kscc.nl/wp-content/uploads/2023/03/Kaarten-en-koffie-Raamsdonksveer.jpg
GEO:51.7036444;4.8689386
X-APPLE-STRUCTURED-LOCATION;VALUE=URI;X-ADDRESS=KSCC Het Zuiden Reenweg 1 Raamsdonksveer 4942 VB Nederland;X-APPLE-RADIUS=500;X-TITLE=Reenweg 1:geo:4.8689386,51.7036444
END:VEVENT
BEGIN:VEVENT
DTSTART;VALUE=DATE:20250718
DTEND;VALUE=DATE:20250719
DTSTAMP:20260421T153014
CREATED:20240710T141757Z
LAST-MODIFIED:20250716T115015Z
UID:10005278-1752796800-1752883199@www.kscc.nl
SUMMARY:Kantoor KSCC vrijdag gesloten vanwege intocht vierdaagse
DESCRIPTION:Vrijdag 18 juli is de intocht van de Vierdaagse wandelaars daarom is het kantoor gesloten. We zijn wel telefonisch bereikbaar!
URL:https://www.kscc.nl/event/kantoor-kscc-vrijdag-gesloten-vanwege-intocht-vierdaagse/
LOCATION:KSCC Nijmegen\, Waalhaven 1 K / Navigatie: Havenweg\, Nijmegen\, 6541 AG
CATEGORIES:KSCC
ATTACH;FMTTYPE=image/jpeg:https://www.kscc.nl/wp-content/uploads/2022/04/Sorry-Gesloten-logo.jpg
GEO:51.85155;5.849944
X-APPLE-STRUCTURED-LOCATION;VALUE=URI;X-ADDRESS=KSCC Nijmegen Waalhaven 1 K / Navigatie: Havenweg Nijmegen 6541 AG;X-APPLE-RADIUS=500;X-TITLE=Waalhaven 1 K / Navigatie: Havenweg:geo:5.849944,51.85155
END:VEVENT
BEGIN:VEVENT
DTSTART;TZID=Europe/Amsterdam:20250716T133000
DTEND;TZID=Europe/Amsterdam:20250716T170000
DTSTAMP:20260421T153014
CREATED:20250205T111332Z
LAST-MODIFIED:20250205T112717Z
UID:10005471-1752672600-1752685200@www.kscc.nl
SUMMARY:Kaarten en koffiedrinken op het KSCC in Raamsdonksveer
DESCRIPTION:Elke woensdagmiddag is er kaarten en koffiedrinken op het Kerkschip. Iedereen welkom.
URL:https://www.kscc.nl/event/kaarten-en-koffiedrinken-op-het-kscc-in-raamsdonksveer-4/2025-07-16/
LOCATION:KSCC Het Zuiden\, Reenweg 1\, Raamsdonksveer\, 4942 VB\, Nederland
CATEGORIES:KSCC
ATTACH;FMTTYPE=image/jpeg:https://www.kscc.nl/wp-content/uploads/2023/03/Kaarten-en-koffie-Raamsdonksveer.jpg
GEO:51.7036444;4.8689386
X-APPLE-STRUCTURED-LOCATION;VALUE=URI;X-ADDRESS=KSCC Het Zuiden Reenweg 1 Raamsdonksveer 4942 VB Nederland;X-APPLE-RADIUS=500;X-TITLE=Reenweg 1:geo:4.8689386,51.7036444
END:VEVENT
BEGIN:VEVENT
DTSTART;TZID=Europe/Amsterdam:20250709T133000
DTEND;TZID=Europe/Amsterdam:20250709T170000
DTSTAMP:20260421T153014
CREATED:20250205T111332Z
LAST-MODIFIED:20250205T112717Z
UID:10005470-1752067800-1752080400@www.kscc.nl
SUMMARY:Kaarten en koffiedrinken op het KSCC in Raamsdonksveer
DESCRIPTION:Elke woensdagmiddag is er kaarten en koffiedrinken op het Kerkschip. Iedereen welkom.
URL:https://www.kscc.nl/event/kaarten-en-koffiedrinken-op-het-kscc-in-raamsdonksveer-4/2025-07-09/
LOCATION:KSCC Het Zuiden\, Reenweg 1\, Raamsdonksveer\, 4942 VB\, Nederland
CATEGORIES:KSCC
ATTACH;FMTTYPE=image/jpeg:https://www.kscc.nl/wp-content/uploads/2023/03/Kaarten-en-koffie-Raamsdonksveer.jpg
GEO:51.7036444;4.8689386
X-APPLE-STRUCTURED-LOCATION;VALUE=URI;X-ADDRESS=KSCC Het Zuiden Reenweg 1 Raamsdonksveer 4942 VB Nederland;X-APPLE-RADIUS=500;X-TITLE=Reenweg 1:geo:4.8689386,51.7036444
END:VEVENT
BEGIN:VEVENT
DTSTART;TZID=Europe/Amsterdam:20250702T133000
DTEND;TZID=Europe/Amsterdam:20250702T170000
DTSTAMP:20260421T153014
CREATED:20250205T111332Z
LAST-MODIFIED:20250205T112717Z
UID:10005469-1751463000-1751475600@www.kscc.nl
SUMMARY:Kaarten en koffiedrinken op het KSCC in Raamsdonksveer
DESCRIPTION:Elke woensdagmiddag is er kaarten en koffiedrinken op het Kerkschip. Iedereen welkom.
URL:https://www.kscc.nl/event/kaarten-en-koffiedrinken-op-het-kscc-in-raamsdonksveer-4/2025-07-02/
LOCATION:KSCC Het Zuiden\, Reenweg 1\, Raamsdonksveer\, 4942 VB\, Nederland
CATEGORIES:KSCC
ATTACH;FMTTYPE=image/jpeg:https://www.kscc.nl/wp-content/uploads/2023/03/Kaarten-en-koffie-Raamsdonksveer.jpg
GEO:51.7036444;4.8689386
X-APPLE-STRUCTURED-LOCATION;VALUE=URI;X-ADDRESS=KSCC Het Zuiden Reenweg 1 Raamsdonksveer 4942 VB Nederland;X-APPLE-RADIUS=500;X-TITLE=Reenweg 1:geo:4.8689386,51.7036444
END:VEVENT
BEGIN:VEVENT
DTSTART;TZID=Europe/Amsterdam:20250625T133000
DTEND;TZID=Europe/Amsterdam:20250625T170000
DTSTAMP:20260421T153014
CREATED:20250205T111332Z
LAST-MODIFIED:20250205T112717Z
UID:10005468-1750858200-1750870800@www.kscc.nl
SUMMARY:Kaarten en koffiedrinken op het KSCC in Raamsdonksveer
DESCRIPTION:Elke woensdagmiddag is er kaarten en koffiedrinken op het Kerkschip. Iedereen welkom.
URL:https://www.kscc.nl/event/kaarten-en-koffiedrinken-op-het-kscc-in-raamsdonksveer-4/2025-06-25/
LOCATION:KSCC Het Zuiden\, Reenweg 1\, Raamsdonksveer\, 4942 VB\, Nederland
CATEGORIES:KSCC
ATTACH;FMTTYPE=image/jpeg:https://www.kscc.nl/wp-content/uploads/2023/03/Kaarten-en-koffie-Raamsdonksveer.jpg
GEO:51.7036444;4.8689386
X-APPLE-STRUCTURED-LOCATION;VALUE=URI;X-ADDRESS=KSCC Het Zuiden Reenweg 1 Raamsdonksveer 4942 VB Nederland;X-APPLE-RADIUS=500;X-TITLE=Reenweg 1:geo:4.8689386,51.7036444
END:VEVENT
BEGIN:VEVENT
DTSTART;TZID=Europe/Amsterdam:20250622T110000
DTEND;TZID=Europe/Amsterdam:20250622T120000
DTSTAMP:20260421T153014
CREATED:20240228T150127Z
LAST-MODIFIED:20250428T075337Z
UID:10002880-1750590000-1750593600@www.kscc.nl
SUMMARY:Kapelviering KSCC Rotterdam
DESCRIPTION:Kapelviering in de kapel van Huize Antonius. Na de viering elkaar weer fijn ontmoeten met een bakkie koffie of thee. Dit evenement vindt altijd op de vierde zondag van de maand plaats.
URL:https://www.kscc.nl/event/kapelviering-kscc-rotterdam-8/
LOCATION:Huize Antonius\, Nieuwe Binnenweg 33\, Rotterdam\, 3014 GC\, Nederland
CATEGORIES:Binnenvaart,KSCC
ATTACH;FMTTYPE=image/jpeg:https://www.kscc.nl/wp-content/uploads/2021/02/antonius_binnenweg_gebouw.jpg
GEO:51.917336;4.470316
X-APPLE-STRUCTURED-LOCATION;VALUE=URI;X-ADDRESS=Huize Antonius Nieuwe Binnenweg 33 Rotterdam 3014 GC Nederland;X-APPLE-RADIUS=500;X-TITLE=Nieuwe Binnenweg 33:geo:4.470316,51.917336
END:VEVENT
BEGIN:VEVENT
DTSTART;TZID=Europe/Amsterdam:20250618T133000
DTEND;TZID=Europe/Amsterdam:20250618T170000
DTSTAMP:20260421T153014
CREATED:20250205T111332Z
LAST-MODIFIED:20250205T112717Z
UID:10005467-1750253400-1750266000@www.kscc.nl
SUMMARY:Kaarten en koffiedrinken op het KSCC in Raamsdonksveer
DESCRIPTION:Elke woensdagmiddag is er kaarten en koffiedrinken op het Kerkschip. Iedereen welkom.
URL:https://www.kscc.nl/event/kaarten-en-koffiedrinken-op-het-kscc-in-raamsdonksveer-4/2025-06-18/
LOCATION:KSCC Het Zuiden\, Reenweg 1\, Raamsdonksveer\, 4942 VB\, Nederland
CATEGORIES:KSCC
ATTACH;FMTTYPE=image/jpeg:https://www.kscc.nl/wp-content/uploads/2023/03/Kaarten-en-koffie-Raamsdonksveer.jpg
GEO:51.7036444;4.8689386
X-APPLE-STRUCTURED-LOCATION;VALUE=URI;X-ADDRESS=KSCC Het Zuiden Reenweg 1 Raamsdonksveer 4942 VB Nederland;X-APPLE-RADIUS=500;X-TITLE=Reenweg 1:geo:4.8689386,51.7036444
END:VEVENT
BEGIN:VEVENT
DTSTART;TZID=Europe/Amsterdam:20250611T133000
DTEND;TZID=Europe/Amsterdam:20250611T170000
DTSTAMP:20260421T153014
CREATED:20250205T111332Z
LAST-MODIFIED:20250205T112717Z
UID:10005466-1749648600-1749661200@www.kscc.nl
SUMMARY:Kaarten en koffiedrinken op het KSCC in Raamsdonksveer
DESCRIPTION:Elke woensdagmiddag is er kaarten en koffiedrinken op het Kerkschip. Iedereen welkom.
URL:https://www.kscc.nl/event/kaarten-en-koffiedrinken-op-het-kscc-in-raamsdonksveer-4/2025-06-11/
LOCATION:KSCC Het Zuiden\, Reenweg 1\, Raamsdonksveer\, 4942 VB\, Nederland
CATEGORIES:KSCC
ATTACH;FMTTYPE=image/jpeg:https://www.kscc.nl/wp-content/uploads/2023/03/Kaarten-en-koffie-Raamsdonksveer.jpg
GEO:51.7036444;4.8689386
X-APPLE-STRUCTURED-LOCATION;VALUE=URI;X-ADDRESS=KSCC Het Zuiden Reenweg 1 Raamsdonksveer 4942 VB Nederland;X-APPLE-RADIUS=500;X-TITLE=Reenweg 1:geo:4.8689386,51.7036444
END:VEVENT
BEGIN:VEVENT
DTSTART;TZID=Europe/Amsterdam:20250604T133000
DTEND;TZID=Europe/Amsterdam:20250604T170000
DTSTAMP:20260421T153014
CREATED:20250205T111332Z
LAST-MODIFIED:20250205T112717Z
UID:10005465-1749043800-1749056400@www.kscc.nl
SUMMARY:Kaarten en koffiedrinken op het KSCC in Raamsdonksveer
DESCRIPTION:Elke woensdagmiddag is er kaarten en koffiedrinken op het Kerkschip. Iedereen welkom.
URL:https://www.kscc.nl/event/kaarten-en-koffiedrinken-op-het-kscc-in-raamsdonksveer-4/2025-06-04/
LOCATION:KSCC Het Zuiden\, Reenweg 1\, Raamsdonksveer\, 4942 VB\, Nederland
CATEGORIES:KSCC
ATTACH;FMTTYPE=image/jpeg:https://www.kscc.nl/wp-content/uploads/2023/03/Kaarten-en-koffie-Raamsdonksveer.jpg
GEO:51.7036444;4.8689386
X-APPLE-STRUCTURED-LOCATION;VALUE=URI;X-ADDRESS=KSCC Het Zuiden Reenweg 1 Raamsdonksveer 4942 VB Nederland;X-APPLE-RADIUS=500;X-TITLE=Reenweg 1:geo:4.8689386,51.7036444
END:VEVENT
BEGIN:VEVENT
DTSTART;VALUE=DATE:20250530
DTEND;VALUE=DATE:20250531
DTSTAMP:20260421T153014
CREATED:20250326T083325Z
LAST-MODIFIED:20250326T083327Z
UID:10005260-1748563200-1748649599@www.kscc.nl
SUMMARY:Kantoor KSCC Nijmegen gesloten
DESCRIPTION:Op Hemelvaartsdag donderdag 29 en vrijdag 30 mei is het kantoor gesloten. Wel zijn wij telefonisch bereikbaar (024-3777575)
URL:https://www.kscc.nl/event/kantoor-kscc-nijmegen-gesloten-3/
LOCATION:KSCC Nijmegen\, Waalhaven 1 K / Navigatie: Havenweg\, Nijmegen\, 6541 AG
CATEGORIES:KSCC
ATTACH;FMTTYPE=image/jpeg:https://www.kscc.nl/wp-content/uploads/2022/04/Sorry-Gesloten-logo.jpg
GEO:51.85155;5.849944
X-APPLE-STRUCTURED-LOCATION;VALUE=URI;X-ADDRESS=KSCC Nijmegen Waalhaven 1 K / Navigatie: Havenweg Nijmegen 6541 AG;X-APPLE-RADIUS=500;X-TITLE=Waalhaven 1 K / Navigatie: Havenweg:geo:5.849944,51.85155
END:VEVENT
BEGIN:VEVENT
DTSTART;VALUE=DATE:20250529
DTEND;VALUE=DATE:20250531
DTSTAMP:20260421T153014
CREATED:20250326T083139Z
LAST-MODIFIED:20250326T083252Z
UID:10002652-1748476800-1748649599@www.kscc.nl
SUMMARY:Kantoor KSCC Nijmegen gesloten
DESCRIPTION:Op Hemelvaartsdag donderdag 29 en vrijdag 30 mei is het kantoor gesloten. Wel zijn wij telefonisch bereikbaar (024-3777575)
URL:https://www.kscc.nl/event/kantoor-kscc-nijmegen-gesloten-2/
LOCATION:KSCC Nijmegen\, Waalhaven 1 K / Navigatie: Havenweg\, Nijmegen\, 6541 AG
CATEGORIES:KSCC
ATTACH;FMTTYPE=image/jpeg:https://www.kscc.nl/wp-content/uploads/2022/04/Sorry-Gesloten-logo.jpg
GEO:51.85155;5.849944
X-APPLE-STRUCTURED-LOCATION;VALUE=URI;X-ADDRESS=KSCC Nijmegen Waalhaven 1 K / Navigatie: Havenweg Nijmegen 6541 AG;X-APPLE-RADIUS=500;X-TITLE=Waalhaven 1 K / Navigatie: Havenweg:geo:5.849944,51.85155
END:VEVENT
END:VCALENDAR