BEGIN:VCALENDAR
VERSION:2.0
PRODID:-//KSCC - ECPv6.15.20//NONSGML v1.0//EN
CALSCALE:GREGORIAN
METHOD:PUBLISH
X-ORIGINAL-URL:https://www.kscc.nl
X-WR-CALDESC:Evenementen voor KSCC
REFRESH-INTERVAL;VALUE=DURATION:PT1H
X-Robots-Tag:noindex
X-PUBLISHED-TTL:PT1H
BEGIN:VTIMEZONE
TZID:Europe/Amsterdam
BEGIN:DAYLIGHT
TZOFFSETFROM:+0100
TZOFFSETTO:+0200
TZNAME:CEST
DTSTART:20220327T010000
END:DAYLIGHT
BEGIN:STANDARD
TZOFFSETFROM:+0200
TZOFFSETTO:+0100
TZNAME:CET
DTSTART:20221030T010000
END:STANDARD
BEGIN:DAYLIGHT
TZOFFSETFROM:+0100
TZOFFSETTO:+0200
TZNAME:CEST
DTSTART:20230326T010000
END:DAYLIGHT
BEGIN:STANDARD
TZOFFSETFROM:+0200
TZOFFSETTO:+0100
TZNAME:CET
DTSTART:20231029T010000
END:STANDARD
BEGIN:DAYLIGHT
TZOFFSETFROM:+0100
TZOFFSETTO:+0200
TZNAME:CEST
DTSTART:20240331T010000
END:DAYLIGHT
BEGIN:STANDARD
TZOFFSETFROM:+0200
TZOFFSETTO:+0100
TZNAME:CET
DTSTART:20241027T010000
END:STANDARD
END:VTIMEZONE
BEGIN:VEVENT
DTSTART;TZID=Europe/Amsterdam:20231128T100000
DTEND;TZID=Europe/Amsterdam:20231128T170000
DTSTAMP:20260421T122122
CREATED:20231107T122715Z
LAST-MODIFIED:20231107T122905Z
UID:10004248-1701165600-1701190800@www.kscc.nl
SUMMARY:Smart Shipping Event 2023
DESCRIPTION:Trackpilots\, hoogtedetectie en remote control; steeds meer rederijen en binnenvaartondernemers hebben slimme systemen aan boord die vaartaken ondersteunen of gedeeltelijk automatiseren. Voorlopers experimenteren met het op afstand besturen van schepen om het personeelstekort te lijf te gaan. \n\n\nWelke oplossingen zijn nu toepasbaar? Wat is de business case? En hoe sluiten wetgeving en infrastructuur hierop aan? Het Smart Shipping Event staat in het teken van de kansen van slim varen.Het door Schuttevaer georganiseerde Smart Shipping Event vindt plaats op 28 november 2023 bij Landvast in Alblasserdam. \nVoor meer informatie\, programma en aanmelden ga naar de website van Smart Shipping Event 2023
URL:https://www.kscc.nl/event/smart-shipping-event-2023/
LOCATION:Smart Shipping Event\, Haven 4\, Alblasserdam\, 2951 GC\, Nederland
CATEGORIES:Binnenvaart
ATTACH;FMTTYPE=image/jpeg:https://www.kscc.nl/wp-content/uploads/2023/11/Smart-Shipping-Event-2023-logo.jpg
GEO:51.8609577;4.6577262
X-APPLE-STRUCTURED-LOCATION;VALUE=URI;X-ADDRESS=Smart Shipping Event Haven 4 Alblasserdam 2951 GC Nederland;X-APPLE-RADIUS=500;X-TITLE=Haven 4:geo:4.6577262,51.8609577
END:VEVENT
BEGIN:VEVENT
DTSTART;TZID=Europe/Amsterdam:20231110T100000
DTEND;TZID=Europe/Amsterdam:20231113T180000
DTSTAMP:20260421T122122
CREATED:20230601T103423Z
LAST-MODIFIED:20231106T083545Z
UID:10004242-1699610400-1699898400@www.kscc.nl
SUMMARY:Europort 2023
DESCRIPTION:Internationale scheepvaart verzamelt in Europa’s maritieme hoofdstad tijdens Europort 2023\nVan 7 tot 10 november brengt Europort de scheepvaartwereld opnieuw samen in Rotterdam\, die dit jaar officieel gastheer is dankzij de recente strategische samenwerkingsovereenkomst met Europort. Tijdens deze tweejaarlijkse beurs en conferentie in Rotterdam Ahoy wordt een gevarieerd aanbod van evenementen en attracties gepresenteerd om samenwerking en innovatie voor een duurzamere scheepvaartindustrie te bevorderen. \nGa voor meer informatie naar de (Engelstalige) website van Europort 2023. U kunt u daar ook registreren voor een (gratis) bezoek aan de beurs!
URL:https://www.kscc.nl/event/europort-2023/2023-11-10/
LOCATION:Rotterdam Ahoy\, Ahoyweg 10\, Rotterdam\, 3084 BA\, Nederland
CATEGORIES:Binnenvaart
ATTACH;FMTTYPE=image/jpeg:https://www.kscc.nl/wp-content/uploads/2023/06/Europort-header.jpg
GEO:51.8819423;4.4865942
X-APPLE-STRUCTURED-LOCATION;VALUE=URI;X-ADDRESS=Rotterdam Ahoy Ahoyweg 10 Rotterdam 3084 BA Nederland;X-APPLE-RADIUS=500;X-TITLE=Ahoyweg 10:geo:4.4865942,51.8819423
END:VEVENT
BEGIN:VEVENT
DTSTART;TZID=Europe/Amsterdam:20231109T100000
DTEND;TZID=Europe/Amsterdam:20231112T180000
DTSTAMP:20260421T122122
CREATED:20230601T103423Z
LAST-MODIFIED:20231106T083545Z
UID:10004241-1699524000-1699812000@www.kscc.nl
SUMMARY:Europort 2023
DESCRIPTION:Internationale scheepvaart verzamelt in Europa’s maritieme hoofdstad tijdens Europort 2023\nVan 7 tot 10 november brengt Europort de scheepvaartwereld opnieuw samen in Rotterdam\, die dit jaar officieel gastheer is dankzij de recente strategische samenwerkingsovereenkomst met Europort. Tijdens deze tweejaarlijkse beurs en conferentie in Rotterdam Ahoy wordt een gevarieerd aanbod van evenementen en attracties gepresenteerd om samenwerking en innovatie voor een duurzamere scheepvaartindustrie te bevorderen. \nGa voor meer informatie naar de (Engelstalige) website van Europort 2023. U kunt u daar ook registreren voor een (gratis) bezoek aan de beurs!
URL:https://www.kscc.nl/event/europort-2023/2023-11-09/
LOCATION:Rotterdam Ahoy\, Ahoyweg 10\, Rotterdam\, 3084 BA\, Nederland
CATEGORIES:Binnenvaart
ATTACH;FMTTYPE=image/jpeg:https://www.kscc.nl/wp-content/uploads/2023/06/Europort-header.jpg
GEO:51.8819423;4.4865942
X-APPLE-STRUCTURED-LOCATION;VALUE=URI;X-ADDRESS=Rotterdam Ahoy Ahoyweg 10 Rotterdam 3084 BA Nederland;X-APPLE-RADIUS=500;X-TITLE=Ahoyweg 10:geo:4.4865942,51.8819423
END:VEVENT
BEGIN:VEVENT
DTSTART;TZID=Europe/Amsterdam:20231108T100000
DTEND;TZID=Europe/Amsterdam:20231111T180000
DTSTAMP:20260421T122122
CREATED:20230601T103423Z
LAST-MODIFIED:20231106T083545Z
UID:10004240-1699437600-1699725600@www.kscc.nl
SUMMARY:Europort 2023
DESCRIPTION:Internationale scheepvaart verzamelt in Europa’s maritieme hoofdstad tijdens Europort 2023\nVan 7 tot 10 november brengt Europort de scheepvaartwereld opnieuw samen in Rotterdam\, die dit jaar officieel gastheer is dankzij de recente strategische samenwerkingsovereenkomst met Europort. Tijdens deze tweejaarlijkse beurs en conferentie in Rotterdam Ahoy wordt een gevarieerd aanbod van evenementen en attracties gepresenteerd om samenwerking en innovatie voor een duurzamere scheepvaartindustrie te bevorderen. \nGa voor meer informatie naar de (Engelstalige) website van Europort 2023. U kunt u daar ook registreren voor een (gratis) bezoek aan de beurs!
URL:https://www.kscc.nl/event/europort-2023/2023-11-08/
LOCATION:Rotterdam Ahoy\, Ahoyweg 10\, Rotterdam\, 3084 BA\, Nederland
CATEGORIES:Binnenvaart
ATTACH;FMTTYPE=image/jpeg:https://www.kscc.nl/wp-content/uploads/2023/06/Europort-header.jpg
GEO:51.8819423;4.4865942
X-APPLE-STRUCTURED-LOCATION;VALUE=URI;X-ADDRESS=Rotterdam Ahoy Ahoyweg 10 Rotterdam 3084 BA Nederland;X-APPLE-RADIUS=500;X-TITLE=Ahoyweg 10:geo:4.4865942,51.8819423
END:VEVENT
BEGIN:VEVENT
DTSTART;TZID=Europe/Amsterdam:20231107T100000
DTEND;TZID=Europe/Amsterdam:20231110T180000
DTSTAMP:20260421T122122
CREATED:20230601T103423Z
LAST-MODIFIED:20231106T083545Z
UID:10003150-1699351200-1699639200@www.kscc.nl
SUMMARY:Europort 2023
DESCRIPTION:Internationale scheepvaart verzamelt in Europa’s maritieme hoofdstad tijdens Europort 2023\nVan 7 tot 10 november brengt Europort de scheepvaartwereld opnieuw samen in Rotterdam\, die dit jaar officieel gastheer is dankzij de recente strategische samenwerkingsovereenkomst met Europort. Tijdens deze tweejaarlijkse beurs en conferentie in Rotterdam Ahoy wordt een gevarieerd aanbod van evenementen en attracties gepresenteerd om samenwerking en innovatie voor een duurzamere scheepvaartindustrie te bevorderen. \nGa voor meer informatie naar de (Engelstalige) website van Europort 2023. U kunt u daar ook registreren voor een (gratis) bezoek aan de beurs!
URL:https://www.kscc.nl/event/europort-2023/2023-11-07/
LOCATION:Rotterdam Ahoy\, Ahoyweg 10\, Rotterdam\, 3084 BA\, Nederland
CATEGORIES:Binnenvaart
ATTACH;FMTTYPE=image/jpeg:https://www.kscc.nl/wp-content/uploads/2023/06/Europort-header.jpg
GEO:51.8819423;4.4865942
X-APPLE-STRUCTURED-LOCATION;VALUE=URI;X-ADDRESS=Rotterdam Ahoy Ahoyweg 10 Rotterdam 3084 BA Nederland;X-APPLE-RADIUS=500;X-TITLE=Ahoyweg 10:geo:4.4865942,51.8819423
END:VEVENT
END:VCALENDAR