BEGIN:VCALENDAR
VERSION:2.0
PRODID:-//KSCC - ECPv6.15.20//NONSGML v1.0//EN
CALSCALE:GREGORIAN
METHOD:PUBLISH
X-WR-CALNAME:KSCC
X-ORIGINAL-URL:https://www.kscc.nl
X-WR-CALDESC:Evenementen voor KSCC
REFRESH-INTERVAL;VALUE=DURATION:PT1H
X-Robots-Tag:noindex
X-PUBLISHED-TTL:PT1H
BEGIN:VTIMEZONE
TZID:Europe/Amsterdam
BEGIN:DAYLIGHT
TZOFFSETFROM:+0100
TZOFFSETTO:+0200
TZNAME:CEST
DTSTART:20220327T010000
END:DAYLIGHT
BEGIN:STANDARD
TZOFFSETFROM:+0200
TZOFFSETTO:+0100
TZNAME:CET
DTSTART:20221030T010000
END:STANDARD
BEGIN:DAYLIGHT
TZOFFSETFROM:+0100
TZOFFSETTO:+0200
TZNAME:CEST
DTSTART:20230326T010000
END:DAYLIGHT
BEGIN:STANDARD
TZOFFSETFROM:+0200
TZOFFSETTO:+0100
TZNAME:CET
DTSTART:20231029T010000
END:STANDARD
BEGIN:DAYLIGHT
TZOFFSETFROM:+0100
TZOFFSETTO:+0200
TZNAME:CEST
DTSTART:20240331T010000
END:DAYLIGHT
BEGIN:STANDARD
TZOFFSETFROM:+0200
TZOFFSETTO:+0100
TZNAME:CET
DTSTART:20241027T010000
END:STANDARD
END:VTIMEZONE
BEGIN:VEVENT
DTSTART;TZID=Europe/Amsterdam:20231229T100000
DTEND;TZID=Europe/Amsterdam:20231229T130000
DTSTAMP:20260421T133400
CREATED:20231108T143519Z
LAST-MODIFIED:20231108T144056Z
UID:10004251-1703844000-1703854800@www.kscc.nl
SUMMARY:Eindejaarsbijeenkomsten ledengroep CBOB
DESCRIPTION:Graag nodigen we u uit op één van de drie open ledengroep CBOB bijeenkomsten die we in december houden. \nWe vinden het fijn als u aanwezig wilt zijn: wellicht bent u al heel vaak op een CBOB-vergadering geweest of juist nog nooit. We zorgen voor een interessante bespreking over de binnenvaart\, er is alle gelegenheid elkaar te ontmoeten en natuurlijk verzorgen we u goed met een hapje\, drankje en afsluitende lunch! \nIedereen die geïnteresseerd is om een bijeenkomst van de ledengroep CBOB bij te wonen is van harte welkom; neem gerust een introducé mee. \nVrijdag 29 december 2023\n10.00-13.00u + aansluitend lunch\nWerkendam Partycentrum Van Lopik\, Hoogstraat 32.
URL:https://www.kscc.nl/event/eindejaarsbijeenkomsten-ledengroep-cbob-3/
LOCATION:Werkendam\, Partycentrum Van Lopik\, Hoogstraat 32\, Werkendam\, 4251 CM\, Nederland
CATEGORIES:Binnenvaart
ATTACH;FMTTYPE=image/png:https://www.kscc.nl/wp-content/uploads/2022/08/CBOB-logo-Uitgelichte-afbeelding.png
GEO:51.8143636;4.8955216
X-APPLE-STRUCTURED-LOCATION;VALUE=URI;X-ADDRESS=Werkendam Partycentrum Van Lopik Hoogstraat 32 Werkendam 4251 CM Nederland;X-APPLE-RADIUS=500;X-TITLE=Hoogstraat 32:geo:4.8955216,51.8143636
END:VEVENT
BEGIN:VEVENT
DTSTART;TZID=Europe/Amsterdam:20231227T100000
DTEND;TZID=Europe/Amsterdam:20231227T130000
DTSTAMP:20260421T133400
CREATED:20231108T143354Z
LAST-MODIFIED:20231108T145032Z
UID:10004250-1703671200-1703682000@www.kscc.nl
SUMMARY:Eindejaarsbijeenkomsten ledengroep CBOB
DESCRIPTION:Graag nodigen we u uit op één van de drie open ledengroep CBOB bijeenkomsten die we in december houden. \nWe vinden het fijn als u aanwezig wilt zijn: wellicht bent u al heel vaak op een CBOB-vergadering geweest of juist nog nooit. We zorgen voor een interessante bespreking over de binnenvaart\, er is alle gelegenheid elkaar te ontmoeten en natuurlijk verzorgen we u goed met een hapje\, drankje en afsluitende lunch! \nIedereen die geïnteresseerd is om een bijeenkomst van de ledengroep CBOB bij te wonen is van harte welkom; neem gerust een introducé mee. \nDe volgende data zijn: \nWoensdag 27 december 2023\n10.00-13.00u + aansluitend lunch\nZwijndrecht kantoor KBN\, Scheepmakerij 330\, 2e etage \nVrijdag 29 december 2023\n10.00-13.00u + aansluitend lunch\nWerkendam Partycentrum Van Lopik\, Hoogstraat 32.
URL:https://www.kscc.nl/event/eindejaarsbijeenkomsten-ledengroep-cbob-2/
LOCATION:Kantoor KBN\, Scheepmakerij 330\, Zwijndrecht\, 3331 MC\, Nederland
CATEGORIES:Binnenvaart
ATTACH;FMTTYPE=image/png:https://www.kscc.nl/wp-content/uploads/2022/08/CBOB-logo-Uitgelichte-afbeelding.png
GEO:51,813254;4,648288
X-APPLE-STRUCTURED-LOCATION;VALUE=URI;X-ADDRESS=Kantoor KBN Scheepmakerij 330 Zwijndrecht 3331 MC Nederland;X-APPLE-RADIUS=500;X-TITLE=Scheepmakerij 330:geo:4,648288,51,813254
END:VEVENT
BEGIN:VEVENT
DTSTART;TZID=Europe/Amsterdam:20231223T130000
DTEND;TZID=Europe/Amsterdam:20231223T160000
DTSTAMP:20260421T133400
CREATED:20231108T142648Z
LAST-MODIFIED:20231108T143324Z
UID:10004249-1703336400-1703347200@www.kscc.nl
SUMMARY:Eindejaarsbijeenkomsten ledengroep CBOB
DESCRIPTION:Graag nodigen we u uit op één van de drie open ledengroep CBOB bijeenkomsten die we in december houden. \nWe vinden het fijn als u aanwezig wilt zijn: wellicht bent u al heel vaak op een CBOB-vergadering geweest of juist nog nooit. We zorgen voor een interessante bespreking over de binnenvaart\, er is alle gelegenheid elkaar te ontmoeten en natuurlijk verzorgen we u goed met een hapje\, drankje en afsluitende lunch! \nIedereen die geïnteresseerd is om een bijeenkomst van de ledengroep CBOB bij te wonen is van harte welkom; neem gerust een introducé mee. \nDe volgende data zijn: \nZaterdag 23 december 2023\n13.00-16.00u + vanaf 12.00u soepmaaltijd\nDuisburg a/b MS Primair\, fam. Meinen \nWoensdag 27 december 2023\n10.00-13.00u + aansluitend lunch\nZwijndrecht kantoor KBN\, Scheepmakerij 330\, 2e etage \nVrijdag 29 december 2023\n10.00-13.00u + aansluitend lunch\nWerkendam Partycentrum Van Lopik\, Hoogstraat 32.
URL:https://www.kscc.nl/event/eindejaarsbijeenkomsten-ledengroep-cbob/
CATEGORIES:Binnenvaart
ATTACH;FMTTYPE=image/png:https://www.kscc.nl/wp-content/uploads/2022/08/CBOB-logo-Uitgelichte-afbeelding.png
END:VEVENT
END:VCALENDAR