BEGIN:VCALENDAR
VERSION:2.0
PRODID:-//KSCC - ECPv6.15.20//NONSGML v1.0//EN
CALSCALE:GREGORIAN
METHOD:PUBLISH
X-ORIGINAL-URL:https://www.kscc.nl
X-WR-CALDESC:Evenementen voor KSCC
REFRESH-INTERVAL;VALUE=DURATION:PT1H
X-Robots-Tag:noindex
X-PUBLISHED-TTL:PT1H
BEGIN:VTIMEZONE
TZID:Europe/Amsterdam
BEGIN:DAYLIGHT
TZOFFSETFROM:+0100
TZOFFSETTO:+0200
TZNAME:CEST
DTSTART:20240331T010000
END:DAYLIGHT
BEGIN:STANDARD
TZOFFSETFROM:+0200
TZOFFSETTO:+0100
TZNAME:CET
DTSTART:20241027T010000
END:STANDARD
BEGIN:DAYLIGHT
TZOFFSETFROM:+0100
TZOFFSETTO:+0200
TZNAME:CEST
DTSTART:20250330T010000
END:DAYLIGHT
BEGIN:STANDARD
TZOFFSETFROM:+0200
TZOFFSETTO:+0100
TZNAME:CET
DTSTART:20251026T010000
END:STANDARD
BEGIN:DAYLIGHT
TZOFFSETFROM:+0100
TZOFFSETTO:+0200
TZNAME:CEST
DTSTART:20260329T010000
END:DAYLIGHT
BEGIN:STANDARD
TZOFFSETFROM:+0200
TZOFFSETTO:+0100
TZNAME:CET
DTSTART:20261025T010000
END:STANDARD
END:VTIMEZONE
BEGIN:VEVENT
DTSTART;TZID=Europe/Amsterdam:20250405T200000
DTEND;TZID=Europe/Amsterdam:20250405T230000
DTSTAMP:20260421T143955
CREATED:20250310T122605Z
LAST-MODIFIED:20250310T122605Z
UID:10005509-1743883200-1743894000@www.kscc.nl
SUMMARY:Zeeuwse Vereniging Luctor et Emergo Dordrecht toneelavond
DESCRIPTION:Zeeuwse vereniging Luctor et Emergo organiseert weer een gezellige toneelavond. Kom allemaal gezellig kijken naar de hilarische vrolijke klucht “BIJ VAN ZWIETS IS HET BIJNA VOOR NIETS”. Van Toneelgroep De Valkenier. \nWaar gaat het over:\nWarenhuis “Van Zwiets” draait al jaren een prima omzet. De klanten zijn tevreden en het personeel werkt er al lang. Plots verdwijnt er op de afdeling damesmode en parfumerie veel parfum van de meest dure merken. De hele magazijn voorraad slinkt al snel.\nWanneer dit zo doorgaat zal Warenhuis “Van Zwiets” binnen 2 jaar failliet zijn. De nogal zelfingenomen meneer Zwiets\, CEO van het bedrijf neemt daarom maatregelen. Hij zet twee nieuwe cheffinnen in op de afdeling om de boel eens scherp in de gaten te houden.\nMaar of het personeel nu ook zo blij is met deze dames? \nIn de pauze wordt de loterij gehouden. Na de toneeluitvoering gaan we nog een poosje dansen met muziek van Erwin. \nZaal open 19.30 uur.
URL:https://www.kscc.nl/event/zeeuwse-vereniging-luctor-et-emergo-dordrecht-toneelavond/
LOCATION:Duiventil Dordrecht\, Brandts Buysstraat 3\, Dordrecht\, 3314 CA
CATEGORIES:Binnenvaart,Schipperssoos
ATTACH;FMTTYPE=image/jpeg:https://www.kscc.nl/wp-content/uploads/2025/01/Brandts-Buysstraat-3-Dordrecht-Uitgelichte-afbeelding.jpg
GEO:51.8058328;4.652303
X-APPLE-STRUCTURED-LOCATION;VALUE=URI;X-ADDRESS=Duiventil Dordrecht Brandts Buysstraat 3 Dordrecht 3314 CA;X-APPLE-RADIUS=500;X-TITLE=Brandts Buysstraat 3:geo:4.652303,51.8058328
END:VEVENT
BEGIN:VEVENT
DTSTART;TZID=Europe/Amsterdam:20250307T200000
DTEND;TZID=Europe/Amsterdam:20250307T230000
DTSTAMP:20260421T143955
CREATED:20250130T151818Z
LAST-MODIFIED:20250130T151818Z
UID:10005447-1741377600-1741388400@www.kscc.nl
SUMMARY:Zeeuwse Vereniging Luctor et Emergo Dordrecht contactavond
DESCRIPTION:Deze avond;\nPresentatie Koninklijke Reddingsmaatschappij KNRM door medewerkers (vrijwilligers) van KNRM. Er wordt 2x 40 minuten een film vertoond waarin zij het redden van mens en dier op zee of ruime binnenwateren laten zien. De KNRM bestaat uit vrijwilligers en moet van sponsoring en giften bestaan waarvoor zij een bootje bij de ingang neerzetten waarin leden vrijblijvend een gift kunnen deponeren. \nIntroducees betalen voor deze avond € 7.50 plus € 5\,- voor de KNRM. Zij kunnen evt. Lid worden voor € 30\,- per jaar.\nNa deze presentatie begint om 22.00 uur een gezellige avond met muziek van Werner Janssenswillen en daarbij gaan weer de voetjes van de vloer.
URL:https://www.kscc.nl/event/zeeuwse-vereniging-luctor-et-emergo-dordrecht-contactavond/
LOCATION:Duiventil Dordrecht\, Brandts Buysstraat 3\, Dordrecht\, 3314 CA
CATEGORIES:Binnenvaart,Schipperssoos
ATTACH;FMTTYPE=image/jpeg:https://www.kscc.nl/wp-content/uploads/2025/01/Brandts-Buysstraat-3-Dordrecht-Uitgelichte-afbeelding.jpg
GEO:51.8058328;4.652303
X-APPLE-STRUCTURED-LOCATION;VALUE=URI;X-ADDRESS=Duiventil Dordrecht Brandts Buysstraat 3 Dordrecht 3314 CA;X-APPLE-RADIUS=500;X-TITLE=Brandts Buysstraat 3:geo:4.652303,51.8058328
END:VEVENT
END:VCALENDAR