BEGIN:VCALENDAR
VERSION:2.0
PRODID:-//KSCC - ECPv6.15.20//NONSGML v1.0//EN
CALSCALE:GREGORIAN
METHOD:PUBLISH
X-WR-CALNAME:KSCC
X-ORIGINAL-URL:https://www.kscc.nl
X-WR-CALDESC:Evenementen voor KSCC
REFRESH-INTERVAL;VALUE=DURATION:PT1H
X-Robots-Tag:noindex
X-PUBLISHED-TTL:PT1H
BEGIN:VTIMEZONE
TZID:Europe/Amsterdam
BEGIN:DAYLIGHT
TZOFFSETFROM:+0100
TZOFFSETTO:+0200
TZNAME:CEST
DTSTART:20240331T010000
END:DAYLIGHT
BEGIN:STANDARD
TZOFFSETFROM:+0200
TZOFFSETTO:+0100
TZNAME:CET
DTSTART:20241027T010000
END:STANDARD
BEGIN:DAYLIGHT
TZOFFSETFROM:+0100
TZOFFSETTO:+0200
TZNAME:CEST
DTSTART:20250330T010000
END:DAYLIGHT
BEGIN:STANDARD
TZOFFSETFROM:+0200
TZOFFSETTO:+0100
TZNAME:CET
DTSTART:20251026T010000
END:STANDARD
BEGIN:DAYLIGHT
TZOFFSETFROM:+0100
TZOFFSETTO:+0200
TZNAME:CEST
DTSTART:20260329T010000
END:DAYLIGHT
BEGIN:STANDARD
TZOFFSETFROM:+0200
TZOFFSETTO:+0100
TZNAME:CET
DTSTART:20261025T010000
END:STANDARD
END:VTIMEZONE
BEGIN:VEVENT
DTSTART;TZID=Europe/Amsterdam:20250529T110000
DTEND;TZID=Europe/Amsterdam:20250529T123000
DTSTAMP:20260421T132944
CREATED:20240422T094256Z
LAST-MODIFIED:20250402T074235Z
UID:10005263-1748516400-1748521800@www.kscc.nl
SUMMARY:H. Mis Hemelvaartsdag met Eerste Communie
DESCRIPTION:Eucharistieviering waarin we de hemelvaart van Christus herdenken. Iedereen is welkom. De eucharistieviering kan ook worden gevolgd door middel van een livestream. \nTijdens de viering ontvangt Johanna de Beijer haar Eerste (Heilige) Communie. \nDe eerste (heilige) communie is in de Rooms-Katholieke Kerk de feestelijke gelegenheid dat iemand voor het eerst nadert tot de eucharistie. De eerste communie maakt deel uit van de initiatiesacramenten (doopsel\, eucharistie en vormsel).
URL:https://www.kscc.nl/event/h-mis-hemelvaartsdag-met-eerste-communie/
LOCATION:KSCC Nijmegen\, Waalhaven 1 K / Navigatie: Havenweg\, Nijmegen\, 6541 AG
CATEGORIES:Parochie
ATTACH;FMTTYPE=image/jpeg:https://www.kscc.nl/wp-content/uploads/2022/05/Hemelvaart.jpg
GEO:51.85155;5.849944
X-APPLE-STRUCTURED-LOCATION;VALUE=URI;X-ADDRESS=KSCC Nijmegen Waalhaven 1 K / Navigatie: Havenweg Nijmegen 6541 AG;X-APPLE-RADIUS=500;X-TITLE=Waalhaven 1 K / Navigatie: Havenweg:geo:5.849944,51.85155
END:VEVENT
BEGIN:VEVENT
DTSTART;TZID=Europe/Amsterdam:20250529T070000
DTEND;TZID=Europe/Amsterdam:20250529T090000
DTSTAMP:20260421T132944
CREATED:20220510T110700Z
LAST-MODIFIED:20250528T090732Z
UID:10002655-1748502000-1748509200@www.kscc.nl
SUMMARY:Hemelvaartsdag Dauwtrappen gaat NIET door!
DESCRIPTION:Dauwtrappen in de Hatertse Vennen bij Nijmegen gaat NIET door. \nDe weersverwachting is dusdanig\, met kans op regen\, dat is besloten om het dauwtrappen\, de open-air mis en het pannenkoeken eten af te gelasten.\nOf zoals de aalmoezenier het formuleerde: Bij twijfel niet inhalen. \nWe hopen te kunnen rekenen op uw begrip. \nDe H. Mis om 11.00 uur op het KSCC Schipperscentrum gaat wel door. \n 
URL:https://www.kscc.nl/event/hemelvaartsdag-2022/
LOCATION:St. Walrick restaurant Malden\, St. Walrickweg 5\, Malden\, 6611 KG
CATEGORIES:Parochie
ATTACH;FMTTYPE=image/jpeg:https://www.kscc.nl/wp-content/uploads/2022/05/dauwtrappen-afgelast-tekst.jpg
GEO:51,781319;5,795374
X-APPLE-STRUCTURED-LOCATION;VALUE=URI;X-ADDRESS=St. Walrick restaurant Malden St. Walrickweg 5 Malden 6611 KG;X-APPLE-RADIUS=500;X-TITLE=St. Walrickweg 5:geo:5,795374,51,781319
END:VEVENT
END:VCALENDAR