BEGIN:VCALENDAR
VERSION:2.0
PRODID:-//KSCC - ECPv6.15.20//NONSGML v1.0//EN
CALSCALE:GREGORIAN
METHOD:PUBLISH
X-WR-CALNAME:KSCC
X-ORIGINAL-URL:https://www.kscc.nl
X-WR-CALDESC:Evenementen voor KSCC
REFRESH-INTERVAL;VALUE=DURATION:PT1H
X-Robots-Tag:noindex
X-PUBLISHED-TTL:PT1H
BEGIN:VTIMEZONE
TZID:Europe/Amsterdam
BEGIN:DAYLIGHT
TZOFFSETFROM:+0100
TZOFFSETTO:+0200
TZNAME:CEST
DTSTART:20220327T010000
END:DAYLIGHT
BEGIN:STANDARD
TZOFFSETFROM:+0200
TZOFFSETTO:+0100
TZNAME:CET
DTSTART:20221030T010000
END:STANDARD
BEGIN:DAYLIGHT
TZOFFSETFROM:+0100
TZOFFSETTO:+0200
TZNAME:CEST
DTSTART:20230326T010000
END:DAYLIGHT
BEGIN:STANDARD
TZOFFSETFROM:+0200
TZOFFSETTO:+0100
TZNAME:CET
DTSTART:20231029T010000
END:STANDARD
BEGIN:DAYLIGHT
TZOFFSETFROM:+0100
TZOFFSETTO:+0200
TZNAME:CEST
DTSTART:20240331T010000
END:DAYLIGHT
BEGIN:STANDARD
TZOFFSETFROM:+0200
TZOFFSETTO:+0100
TZNAME:CET
DTSTART:20241027T010000
END:STANDARD
BEGIN:DAYLIGHT
TZOFFSETFROM:+0100
TZOFFSETTO:+0200
TZNAME:CEST
DTSTART:20250330T010000
END:DAYLIGHT
BEGIN:STANDARD
TZOFFSETFROM:+0200
TZOFFSETTO:+0100
TZNAME:CET
DTSTART:20251026T010000
END:STANDARD
BEGIN:DAYLIGHT
TZOFFSETFROM:+0100
TZOFFSETTO:+0200
TZNAME:CEST
DTSTART:20260329T010000
END:DAYLIGHT
BEGIN:STANDARD
TZOFFSETFROM:+0200
TZOFFSETTO:+0100
TZNAME:CET
DTSTART:20261025T010000
END:STANDARD
BEGIN:DAYLIGHT
TZOFFSETFROM:+0100
TZOFFSETTO:+0200
TZNAME:CEST
DTSTART:20270328T010000
END:DAYLIGHT
BEGIN:STANDARD
TZOFFSETFROM:+0200
TZOFFSETTO:+0100
TZNAME:CET
DTSTART:20271031T010000
END:STANDARD
END:VTIMEZONE
BEGIN:VEVENT
DTSTART;TZID=Europe/Amsterdam:20260405T110000
DTEND;TZID=Europe/Amsterdam:20260405T120000
DTSTAMP:20260421T124228
CREATED:20240228T145157Z
LAST-MODIFIED:20251103T110822Z
UID:10002878-1775386800-1775390400@www.kscc.nl
SUMMARY:Paasviering in Kapel KSCC Rotterdam
DESCRIPTION:Paasviering in kapel in Huize Antonius. Na de viering elkaar weer fijn ontmoeten met een bakkie koffie of thee. Dit evenement vindt altijd op de vierde zondag van de maand plaats.
URL:https://www.kscc.nl/event/kapelviering-kscc-rotterdam-6/
LOCATION:Huize Antonius\, Nieuwe Binnenweg 33\, Rotterdam\, 3014 GC\, Nederland
CATEGORIES:Binnenvaart,KSCC
ATTACH;FMTTYPE=image/jpeg:https://www.kscc.nl/wp-content/uploads/2021/02/antonius_binnenweg_gebouw.jpg
GEO:51.917336;4.470316
X-APPLE-STRUCTURED-LOCATION;VALUE=URI;X-ADDRESS=Huize Antonius Nieuwe Binnenweg 33 Rotterdam 3014 GC Nederland;X-APPLE-RADIUS=500;X-TITLE=Nieuwe Binnenweg 33:geo:4.470316,51.917336
END:VEVENT
BEGIN:VEVENT
DTSTART;TZID=Europe/Amsterdam:20260405T110000
DTEND;TZID=Europe/Amsterdam:20260405T120000
DTSTAMP:20260421T124228
CREATED:20230214T085054Z
LAST-MODIFIED:20260323T125437Z
UID:10002437-1775386800-1775390400@www.kscc.nl
SUMMARY:Eerste Paasdag viering op het Parochiecentrum Nijmegen
DESCRIPTION:Pasen is het belangrijkste christelijke feest in het liturgische jaar\, volgend op de Goede Week. Op Eerste Paasdag vieren we dat Jezus uit de dood is opgestaan\, op de zondag na zijn kruisiging. Pasen wordt gevolgd door de vijftig dagen durende periode van het kerkelijke jaar tot Pinksteren. De periode van het paasfeest tot Hemelvaartsdag duurt veertig dagen. Met medewerking van Sylvia Greve (zang)\, Ingeborg Hubens (piano)\, Jacques van der Meer (piano) en het KSCC Kerkkoor. \nDe Paasviering is ook te volgen via livestream. Na de H. Mis is er koffie drinken en een sociaal samenzijn. U bent allen van harte welkom.
URL:https://www.kscc.nl/event/h-mis-en-livestream-op-het-parochiecentrum-nijmegen/
LOCATION:KSCC Nijmegen\, Waalhaven 1 K / Navigatie: Havenweg\, Nijmegen\, 6541 AG
CATEGORIES:Parochie
ATTACH;FMTTYPE=image/jpeg:https://www.kscc.nl/wp-content/uploads/2023/02/Eerste-Paasdag.jpg
GEO:51.85155;5.849944
X-APPLE-STRUCTURED-LOCATION;VALUE=URI;X-ADDRESS=KSCC Nijmegen Waalhaven 1 K / Navigatie: Havenweg Nijmegen 6541 AG;X-APPLE-RADIUS=500;X-TITLE=Waalhaven 1 K / Navigatie: Havenweg:geo:5.849944,51.85155
END:VEVENT
BEGIN:VEVENT
DTSTART;TZID=Europe/Amsterdam:20260404T190000
DTEND;TZID=Europe/Amsterdam:20260404T200000
DTSTAMP:20260421T124228
CREATED:20230131T151907Z
LAST-MODIFIED:20260323T125414Z
UID:10002875-1775329200-1775332800@www.kscc.nl
SUMMARY:Paaswake op het KSCC Parochiecentrum Nijmegen
DESCRIPTION:De paaswake is een christelijke liturgie die begint bij zonsondergang en eindigt bij zonsopgang tijdens de nacht van paaszaterdag op Pasen. Herdacht wordt dat Jezus in deze nacht opstaat. De paaswake is het feest van het licht\, het feest van het water en het feest van de vreugde om Jezus’ verrijzenis. Met medewerking van het KSCC Kerkkoor en pianist Nico Dieteren. \nCelebrant is landelijk aalmoezenier B. van Welzenes sdb. \nOok te volgen via livestream. Ga daarvoor naar onze livestream webpagina.
URL:https://www.kscc.nl/event/paaswake-op-het-kscc-parochiecentrum-nijmegen/
LOCATION:KSCC Nijmegen\, Waalhaven 1 K / Navigatie: Havenweg\, Nijmegen\, 6541 AG
CATEGORIES:Parochie
ATTACH;FMTTYPE=image/jpeg:https://www.kscc.nl/wp-content/uploads/2023/01/Stille-zaterdag-paaswake.jpg
GEO:51.85155;5.849944
X-APPLE-STRUCTURED-LOCATION;VALUE=URI;X-ADDRESS=KSCC Nijmegen Waalhaven 1 K / Navigatie: Havenweg Nijmegen 6541 AG;X-APPLE-RADIUS=500;X-TITLE=Waalhaven 1 K / Navigatie: Havenweg:geo:5.849944,51.85155
END:VEVENT
BEGIN:VEVENT
DTSTART;TZID=Europe/Amsterdam:20260403T190000
DTEND;TZID=Europe/Amsterdam:20260403T200000
DTSTAMP:20260421T124228
CREATED:20250217T125829Z
LAST-MODIFIED:20260323T125343Z
UID:10005502-1775242800-1775246400@www.kscc.nl
SUMMARY:Goede Vrijdag mis op het KSCC Parochiecentrum Nijmegen
DESCRIPTION:Goede Vrijdag is de vrijdag voor Pasen. Op deze dag herdenken christenen de kruisiging en dood van Jezus. Jezus werd volgens de Bijbel veroordeeld tot de kruisdood door de Romeinse stadhouder Pontius Pilatus\, op aandrang van het sanhedrin. Deze straf werd voltrokken op de heuvel Golgotha nabij de stad Jeruzalem. Goede Vrijdag volgt op Witte Donderdag en gaat vooraf aan Stille Zaterdag. Daarop volgt Pasen. Op Witte Donderdag begint het Triduum Sacrum dat verder bestaat uit Goede Vrijdag en Stille Zaterdag die tijdens de paaswake overgaat in het paasfeest. Met medewerking van het KSCC Kerkkoor met pianist Jacques van der Meer. \nCelebrant is landelijk aalmoezenier B. van Welzenes sdb. \nDe Goede Vrijdag mis is NIET te volgen via livestream.
URL:https://www.kscc.nl/event/goede-vrijdag-mis-op-het-kscc-parochiecentrum-nijmegen/
LOCATION:KSCC Nijmegen\, Waalhaven 1 K / Navigatie: Havenweg\, Nijmegen\, 6541 AG
CATEGORIES:Parochie
ATTACH;FMTTYPE=image/jpeg:https://www.kscc.nl/wp-content/uploads/2025/02/goede-Vrijdag-met-tekst-Uitgelichte-afbeelding.jpg
GEO:51.85155;5.849944
X-APPLE-STRUCTURED-LOCATION;VALUE=URI;X-ADDRESS=KSCC Nijmegen Waalhaven 1 K / Navigatie: Havenweg Nijmegen 6541 AG;X-APPLE-RADIUS=500;X-TITLE=Waalhaven 1 K / Navigatie: Havenweg:geo:5.849944,51.85155
END:VEVENT
BEGIN:VEVENT
DTSTART;TZID=Europe/Amsterdam:20260402T190000
DTEND;TZID=Europe/Amsterdam:20260402T200000
DTSTAMP:20260421T124228
CREATED:20250217T125259Z
LAST-MODIFIED:20260323T125317Z
UID:10005501-1775156400-1775160000@www.kscc.nl
SUMMARY:Witte Donderdag mis op het KSCC Parochiecentrum Nijmegen
DESCRIPTION:Witte Donderdag is de donderdag voor Goede Vrijdag. Op deze dag herdenken christenen zowel de voetwassing door Jezus als Het Laatste Avondmaal en de instelling van de eucharistie. Op Witte Donderdag begint het Triduum Sacrum dat verder bestaat uit Goede Vrijdag en Stille Zaterdag die tijdens de paaswake overgaat in het paasfeest. Met medewerking van pianist André Haverkort. \nCelebrant is landelijk aalmoezenier B. van Welzenes sdb. \nDeze h. Mis is NIET te volgen via livestream.
URL:https://www.kscc.nl/event/witte-donderdag-mis-op-het-kscc-parochiecentrum-nijmegen/
LOCATION:KSCC Nijmegen\, Waalhaven 1 K / Navigatie: Havenweg\, Nijmegen\, 6541 AG
CATEGORIES:Parochie
ATTACH;FMTTYPE=image/jpeg:https://www.kscc.nl/wp-content/uploads/2025/02/Witte-donderdag-2-Uitgelichte-afbeelding.jpg
GEO:51.85155;5.849944
X-APPLE-STRUCTURED-LOCATION;VALUE=URI;X-ADDRESS=KSCC Nijmegen Waalhaven 1 K / Navigatie: Havenweg Nijmegen 6541 AG;X-APPLE-RADIUS=500;X-TITLE=Waalhaven 1 K / Navigatie: Havenweg:geo:5.849944,51.85155
END:VEVENT
BEGIN:VEVENT
DTSTART;TZID=Europe/Amsterdam:20260329T110000
DTEND;TZID=Europe/Amsterdam:20260329T120000
DTSTAMP:20260421T124228
CREATED:20230131T153044Z
LAST-MODIFIED:20260323T125248Z
UID:10002876-1774782000-1774785600@www.kscc.nl
SUMMARY:Palmzondag op het KSCC Parochiecentrum Nijmegen
DESCRIPTION:Palmzondag ook wel Palmpasen genoemd\, is de laatste zondag van de vastenperiode (de zondag vóór Pasen)\, de eerste dag van de Goede Week. Op Palmzondag wordt door christenen de blijde intocht van Jezus Christus in Jeruzalem gevierd. Met medewerking van het KSCC Kerkkoor o.l.v. Jacques van der Meer. \nCelebrant is landelijk aalmoezenier B. van Welzenes sdb. \nOok te volgen via livestream. Ga daarvoor naar onze livestream webpagina.
URL:https://www.kscc.nl/event/palmzondag-op-het-kscc-parochiecentrum-nijmegen/
LOCATION:KSCC Nijmegen\, Waalhaven 1 K / Navigatie: Havenweg\, Nijmegen\, 6541 AG
CATEGORIES:Parochie
ATTACH;FMTTYPE=image/jpeg:https://www.kscc.nl/wp-content/uploads/2023/01/Palmzondag-2.jpg
GEO:51.85155;5.849944
X-APPLE-STRUCTURED-LOCATION;VALUE=URI;X-ADDRESS=KSCC Nijmegen Waalhaven 1 K / Navigatie: Havenweg Nijmegen 6541 AG;X-APPLE-RADIUS=500;X-TITLE=Waalhaven 1 K / Navigatie: Havenweg:geo:5.849944,51.85155
END:VEVENT
BEGIN:VEVENT
DTSTART;TZID=Europe/Amsterdam:20260222T110000
DTEND;TZID=Europe/Amsterdam:20260222T120000
DTSTAMP:20260421T124228
CREATED:20231102T124357Z
LAST-MODIFIED:20251103T105924Z
UID:10004238-1771758000-1771761600@www.kscc.nl
SUMMARY:Kapelviering KSCC Rotterdam
DESCRIPTION:Kapelviering in de kapel van Huize Antonius. Na de viering elkaar weer fijn ontmoeten met een bakkie koffie of thee. Dit evenement vindt altijd op de laatste zondag van de maand plaats.
URL:https://www.kscc.nl/event/kapelviering-kscc-rotterdam-5/
LOCATION:Huize Antonius\, Nieuwe Binnenweg 33\, Rotterdam\, 3014 GC\, Nederland
CATEGORIES:Binnenvaart,KSCC
ATTACH;FMTTYPE=image/jpeg:https://www.kscc.nl/wp-content/uploads/2021/02/antonius_binnenweg_gebouw.jpg
GEO:51.917336;4.470316
X-APPLE-STRUCTURED-LOCATION;VALUE=URI;X-ADDRESS=Huize Antonius Nieuwe Binnenweg 33 Rotterdam 3014 GC Nederland;X-APPLE-RADIUS=500;X-TITLE=Nieuwe Binnenweg 33:geo:4.470316,51.917336
END:VEVENT
BEGIN:VEVENT
DTSTART;TZID=Europe/Amsterdam:20260125T110000
DTEND;TZID=Europe/Amsterdam:20260125T120000
DTSTAMP:20260421T124228
CREATED:20231102T124251Z
LAST-MODIFIED:20251103T105852Z
UID:10004237-1769338800-1769342400@www.kscc.nl
SUMMARY:Kapelviering KSCC Rotterdam
DESCRIPTION:Kapelviering in de kapel van Huize Antonius. Na de viering elkaar weer fijn ontmoeten met een bakkie koffie of thee. Dit evenement vindt altijd op de laatste zondag van de maand plaats.
URL:https://www.kscc.nl/event/kapelviering-kscc-rotterdam-4/
LOCATION:Huize Antonius\, Nieuwe Binnenweg 33\, Rotterdam\, 3014 GC\, Nederland
CATEGORIES:Binnenvaart,KSCC
ATTACH;FMTTYPE=image/jpeg:https://www.kscc.nl/wp-content/uploads/2021/02/antonius_binnenweg_gebouw.jpg
GEO:51.917336;4.470316
X-APPLE-STRUCTURED-LOCATION;VALUE=URI;X-ADDRESS=Huize Antonius Nieuwe Binnenweg 33 Rotterdam 3014 GC Nederland;X-APPLE-RADIUS=500;X-TITLE=Nieuwe Binnenweg 33:geo:4.470316,51.917336
END:VEVENT
BEGIN:VEVENT
DTSTART;TZID=Europe/Amsterdam:20251225T110000
DTEND;TZID=Europe/Amsterdam:20251225T120000
DTSTAMP:20260421T124228
CREATED:20221031T122527Z
LAST-MODIFIED:20251103T105817Z
UID:10002807-1766660400-1766664000@www.kscc.nl
SUMMARY:Kerstmis in Kapelviering KSCC Rotterdam
DESCRIPTION:Het is kerstmis. Kapelviering in de kapel van Huize Antonius. Na de viering elkaar weer fijn ontmoeten met een bakkie koffie of thee. Wij wensen u een zalig kerstfeest en een gelukkig nieuwjaar!
URL:https://www.kscc.nl/event/kerstmis-in-kapelviering-kscc-rotterdam/
LOCATION:Huize Antonius\, Nieuwe Binnenweg 33\, Rotterdam\, 3014 GC\, Nederland
CATEGORIES:Binnenvaart,KSCC
ATTACH;FMTTYPE=image/jpeg:https://www.kscc.nl/wp-content/uploads/2021/02/antonius_binnenweg_gebouw.jpg
GEO:51.917336;4.470316
X-APPLE-STRUCTURED-LOCATION;VALUE=URI;X-ADDRESS=Huize Antonius Nieuwe Binnenweg 33 Rotterdam 3014 GC Nederland;X-APPLE-RADIUS=500;X-TITLE=Nieuwe Binnenweg 33:geo:4.470316,51.917336
END:VEVENT
BEGIN:VEVENT
DTSTART;TZID=Europe/Amsterdam:20251123T110000
DTEND;TZID=Europe/Amsterdam:20251123T160000
DTSTAMP:20260421T124228
CREATED:20240828T092115Z
LAST-MODIFIED:20251103T105454Z
UID:10004236-1763895600-1763913600@www.kscc.nl
SUMMARY:Kapelviering KSCC en Schippers ontmoetingsdag Rotterdam
DESCRIPTION:Kapelviering in de kapel van Huize Antonius. Aansluitend organiseert KSCC Rotterdam weer de jaarlijkse Schippers Ontmoetingsdag.\n\nOnze jaarlijkse ontmoetingsdag komt er aan! Met een lunch/brunch samen zijn. Aansluitend na de viering tussen 12.00 en 14.30 uur\, of zolang we natafelen.\n\nHet is belangrijk voor de organisatie om te weten op hoeveel personen ze moeten rekenen. Dus als je komt graag vóór 16 november aanmelden voor deze middag.\n\nDat kan telefonisch bij Diny Hofman\nvia 010 – 442 64 42 of e-mail: d.hofmanwerkhoven@gmail.com.\n\n\n\nDe schippersontmoetingsdag in 2023
URL:https://www.kscc.nl/event/kapelviering-kscc-rotterdam-3/
LOCATION:Huize Antonius\, Nieuwe Binnenweg 33\, Rotterdam\, 3014 GC\, Nederland
CATEGORIES:Binnenvaart,KSCC
ATTACH;FMTTYPE=image/jpeg:https://www.kscc.nl/wp-content/uploads/2021/02/antonius_binnenweg_gebouw.jpg
GEO:51.917336;4.470316
X-APPLE-STRUCTURED-LOCATION;VALUE=URI;X-ADDRESS=Huize Antonius Nieuwe Binnenweg 33 Rotterdam 3014 GC Nederland;X-APPLE-RADIUS=500;X-TITLE=Nieuwe Binnenweg 33:geo:4.470316,51.917336
END:VEVENT
BEGIN:VEVENT
DTSTART;TZID=Europe/Amsterdam:20250622T110000
DTEND;TZID=Europe/Amsterdam:20250622T120000
DTSTAMP:20260421T124228
CREATED:20240228T150127Z
LAST-MODIFIED:20250428T075337Z
UID:10002880-1750590000-1750593600@www.kscc.nl
SUMMARY:Kapelviering KSCC Rotterdam
DESCRIPTION:Kapelviering in de kapel van Huize Antonius. Na de viering elkaar weer fijn ontmoeten met een bakkie koffie of thee. Dit evenement vindt altijd op de vierde zondag van de maand plaats.
URL:https://www.kscc.nl/event/kapelviering-kscc-rotterdam-8/
LOCATION:Huize Antonius\, Nieuwe Binnenweg 33\, Rotterdam\, 3014 GC\, Nederland
CATEGORIES:Binnenvaart,KSCC
ATTACH;FMTTYPE=image/jpeg:https://www.kscc.nl/wp-content/uploads/2021/02/antonius_binnenweg_gebouw.jpg
GEO:51.917336;4.470316
X-APPLE-STRUCTURED-LOCATION;VALUE=URI;X-ADDRESS=Huize Antonius Nieuwe Binnenweg 33 Rotterdam 3014 GC Nederland;X-APPLE-RADIUS=500;X-TITLE=Nieuwe Binnenweg 33:geo:4.470316,51.917336
END:VEVENT
BEGIN:VEVENT
DTSTART;TZID=Europe/Amsterdam:20250302T104900
DTEND;TZID=Europe/Amsterdam:20250302T123000
DTSTAMP:20260421T124228
CREATED:20230123T110623Z
LAST-MODIFIED:20250217T124354Z
UID:10002868-1740912540-1740918600@www.kscc.nl
SUMMARY:Carnavalsmis KSCC Nijmegen
DESCRIPTION:De Carnavalsmis die in ons Knotsenburg nu voor de 35e keer gevierd gaat worden\, wordt wederom een feestelijke en muzikale opening van het Knotsenburgse Carnavalsfeest. Deze feestelijke viering zal ook nu weer keer plaats hebben in de Petrus Canisiuskerk\, gelegen aan onze Molenstraat. \nDe entree is ieder jaar weer bijzonder. Vooraf gegaan door het Gilde Sint Antonius Abt uit Mook\, volgen vaandel/vlaggendragers uit Knotsenburg. Aansluitend op een apart uitgevoerd Prinsenlied volgen de voorgangers en de beide Prinsenkabinetten. Voorgangers tijdens deze viering zijn landelijk aalmoezenier Bernhard van Welzenes sdb en de pastoor van de “Molenstraatskerk” Eduard Kimman sj. \nTijdens deze viering is er ook voor beide Prinsen van Knotsenburg Wilfred I en Tim I een belangrijke rol weggelegd\, zij zullen beiden hun eigen lezing houden. Bij deze viering muziek van de Kwakberg band en koorzang uitgevoerd door het AMDG koor van de parochie. Aansluitend een herdenkingsmoment brengen Kim & The Koppers een heel bijzonder lied t.w. “Er is zoveel” \, dit geheel met eigen begeleiding. \nAansluitend de misviering gaan alle kerkbezoekers met muziekkapel en vlaggendragers in optocht de z.g.n. Ummegang\, naar het beeld De Hommage. Hier heeft aalmoezenier Bernhard van Welzenes sdb het laatste woord. De afsluiting van de viering vindt plaats met de zegening van alle aanwezige Carnavalisten met het echte Waalwater. Dan is het echt de start van het carnavalsfeest. \nDe canrnavalsmis wordt via livestream uitgezonden. Klik hier om de uitzending te volgen. \nER IS DEZE ZONDAG GEEN KSCC ZONDAGSMIS OP HET SCHIPPERSCENTRUM! OP ZONDAG 9 MAART ASKRUISJE HALEN!
URL:https://www.kscc.nl/event/carnavalsmis-kscc-nijmegen/
LOCATION:Carnavalsmis KSCC Knotsenburg\, Molenstraat 37\, Nijmegen\, 6511 HA\, Nederland
CATEGORIES:Parochie
ATTACH;FMTTYPE=image/jpeg:https://www.kscc.nl/wp-content/uploads/2023/01/Carnavalsmis-Uitgelichte-afb..jpg
GEO:51.844906;5.863351
X-APPLE-STRUCTURED-LOCATION;VALUE=URI;X-ADDRESS=Carnavalsmis KSCC Knotsenburg Molenstraat 37 Nijmegen 6511 HA Nederland;X-APPLE-RADIUS=500;X-TITLE=Molenstraat 37:geo:5.863351,51.844906
END:VEVENT
BEGIN:VEVENT
DTSTART;TZID=Europe/Amsterdam:20230226T110000
DTEND;TZID=Europe/Amsterdam:20230226T120000
DTSTAMP:20260421T124228
CREATED:20230213T083946Z
LAST-MODIFIED:20230213T083947Z
UID:10002781-1677409200-1677412800@www.kscc.nl
SUMMARY:Kapelviering KSCC Rotterdam
DESCRIPTION:Kapelviering met voorganger Akke Gerritsen in de kapel van Huize Antonius. Na de viering elkaar weer fijn ontmoeten met een bakkie koffie of thee. Dit evenement vindt altijd op de laatste zondag van de maand plaats.
URL:https://www.kscc.nl/event/kapelviering-kscc-rotterdam-2-2/2023-02-26/
LOCATION:Huize Antonius\, Nieuwe Binnenweg 33\, Rotterdam\, 3014 GC\, Nederland
CATEGORIES:Binnenvaart,KSCC
ATTACH;FMTTYPE=image/jpeg:https://www.kscc.nl/wp-content/uploads/2021/02/antonius_binnenweg_gebouw.jpg
GEO:51.917336;4.470316
X-APPLE-STRUCTURED-LOCATION;VALUE=URI;X-ADDRESS=Huize Antonius Nieuwe Binnenweg 33 Rotterdam 3014 GC Nederland;X-APPLE-RADIUS=500;X-TITLE=Nieuwe Binnenweg 33:geo:4.470316,51.917336
END:VEVENT
BEGIN:VEVENT
DTSTART;TZID=Europe/Amsterdam:20230129T110000
DTEND;TZID=Europe/Amsterdam:20230129T120000
DTSTAMP:20260421T124228
CREATED:20221020T073748Z
LAST-MODIFIED:20221020T073750Z
UID:10002780-1674990000-1674993600@www.kscc.nl
SUMMARY:Kapelviering KSCC Rotterdam
DESCRIPTION:Kapelviering met voorganger Remy Jacobs in de kapel van Huize Antonius. Na de viering elkaar weer fijn ontmoeten met een bakkie koffie of thee. Dit evenement vindt altijd op de laatste zondag van de maand plaats.
URL:https://www.kscc.nl/event/kapelviering-kscc-rotterdam-2/2023-01-29/
LOCATION:Huize Antonius\, Nieuwe Binnenweg 33\, Rotterdam\, 3014 GC\, Nederland
CATEGORIES:Binnenvaart,KSCC
ATTACH;FMTTYPE=image/jpeg:https://www.kscc.nl/wp-content/uploads/2021/02/antonius_binnenweg_gebouw.jpg
GEO:51.917336;4.470316
X-APPLE-STRUCTURED-LOCATION;VALUE=URI;X-ADDRESS=Huize Antonius Nieuwe Binnenweg 33 Rotterdam 3014 GC Nederland;X-APPLE-RADIUS=500;X-TITLE=Nieuwe Binnenweg 33:geo:4.470316,51.917336
END:VEVENT
BEGIN:VEVENT
DTSTART;TZID=Europe/Amsterdam:20230108T110000
DTEND;TZID=Europe/Amsterdam:20230108T120000
DTSTAMP:20260421T124228
CREATED:20221219T120959Z
LAST-MODIFIED:20221219T121128Z
UID:10002835-1673175600-1673179200@www.kscc.nl
SUMMARY:Driekoningenviering op het KSCC Parochiecentrum Nijmegen
DESCRIPTION:Driekoningen wordt elk jaar op 6 januari (of op de eerste zondag na 1 januari) gevierd. Met Driekoningen herdenkt men de Bijbelse gebeurtenis (Matt. 2:1-18) van de wijzen uit het oosten die een opgaande ster zagen en daarop de koning der Joden gingen zoeken. Ze kwamen in Bethlehem en vonden daar Jezus\, de pasgeboren koning der Joden. \nCelebrant is landelijk aalmoezenier B. van Welzenes sdb. \nOok te volgen via livestream. Ga daarvoor naar onze livestream webpagina.
URL:https://www.kscc.nl/event/driekoningenviering-op-het-kscc-parochiecentrum-nijmegen/
LOCATION:KSCC Nijmegen\, Waalhaven 1 K / Navigatie: Havenweg\, Nijmegen\, 6541 AG
CATEGORIES:Parochie
ATTACH;FMTTYPE=image/jpeg:https://www.kscc.nl/wp-content/uploads/2021/03/Driekoningen.jpg
GEO:51.85155;5.849944
X-APPLE-STRUCTURED-LOCATION;VALUE=URI;X-ADDRESS=KSCC Nijmegen Waalhaven 1 K / Navigatie: Havenweg Nijmegen 6541 AG;X-APPLE-RADIUS=500;X-TITLE=Waalhaven 1 K / Navigatie: Havenweg:geo:5.849944,51.85155
END:VEVENT
END:VCALENDAR