BEGIN:VCALENDAR
VERSION:2.0
PRODID:-//KSCC - ECPv6.15.20//NONSGML v1.0//EN
CALSCALE:GREGORIAN
METHOD:PUBLISH
X-WR-CALNAME:KSCC
X-ORIGINAL-URL:https://www.kscc.nl
X-WR-CALDESC:Evenementen voor KSCC
REFRESH-INTERVAL;VALUE=DURATION:PT1H
X-Robots-Tag:noindex
X-PUBLISHED-TTL:PT1H
BEGIN:VTIMEZONE
TZID:Europe/Amsterdam
BEGIN:DAYLIGHT
TZOFFSETFROM:+0100
TZOFFSETTO:+0200
TZNAME:CEST
DTSTART:20230326T010000
END:DAYLIGHT
BEGIN:STANDARD
TZOFFSETFROM:+0200
TZOFFSETTO:+0100
TZNAME:CET
DTSTART:20231029T010000
END:STANDARD
BEGIN:DAYLIGHT
TZOFFSETFROM:+0100
TZOFFSETTO:+0200
TZNAME:CEST
DTSTART:20240331T010000
END:DAYLIGHT
BEGIN:STANDARD
TZOFFSETFROM:+0200
TZOFFSETTO:+0100
TZNAME:CET
DTSTART:20241027T010000
END:STANDARD
BEGIN:DAYLIGHT
TZOFFSETFROM:+0100
TZOFFSETTO:+0200
TZNAME:CEST
DTSTART:20250330T010000
END:DAYLIGHT
BEGIN:STANDARD
TZOFFSETFROM:+0200
TZOFFSETTO:+0100
TZNAME:CET
DTSTART:20251026T010000
END:STANDARD
BEGIN:DAYLIGHT
TZOFFSETFROM:+0100
TZOFFSETTO:+0200
TZNAME:CEST
DTSTART:20260329T010000
END:DAYLIGHT
BEGIN:STANDARD
TZOFFSETFROM:+0200
TZOFFSETTO:+0100
TZNAME:CET
DTSTART:20261025T010000
END:STANDARD
END:VTIMEZONE
BEGIN:VEVENT
DTSTART;TZID=Europe/Amsterdam:20251005T104500
DTEND;TZID=Europe/Amsterdam:20251005T114500
DTSTAMP:20260421T130754
CREATED:20220912T112910Z
LAST-MODIFIED:20250514T091154Z
UID:10002682-1759661100-1759664700@www.kscc.nl
SUMMARY:Kermis Mis in de autoscooter in Echt
DESCRIPTION:Programma onder voorbehoud. \nFeestelijke 30e Heilige Mis op de kermis (autoscooter) met muzikale medewerking van zanggroep Corde et Animo en het Kermisconcertorgel van de fam. Hinzen. Celebrant: Hoofdaalmoezenier Bernhard van Welzenes van het kermis-\, schippers- en circuspastoraat in de aanwezigheid van het gemeentebestuur. \nIedereen welkom. \n 
URL:https://www.kscc.nl/event/kermis-mis-in-de-autoscooter-in-echt/
LOCATION:Kermis Echt\, Nieuwe Markt 55\, Echt\, 6101 CV\, Nederland
CATEGORIES:Kermis,Parochie
ATTACH;FMTTYPE=image/jpeg:https://www.kscc.nl/wp-content/uploads/2022/09/Echter-kermis-2024-logo-e1747213681317.jpg
GEO:51.102565044627;5.8722953985313
X-APPLE-STRUCTURED-LOCATION;VALUE=URI;X-ADDRESS=Kermis Echt Nieuwe Markt 55 Echt 6101 CV Nederland;X-APPLE-RADIUS=500;X-TITLE=Nieuwe Markt 55:geo:5.8722953985313,51.102565044627
END:VEVENT
BEGIN:VEVENT
DTSTART;TZID=Europe/Amsterdam:20250928T110000
DTEND;TZID=Europe/Amsterdam:20250928T120000
DTSTAMP:20260421T130754
CREATED:20240603T075802Z
LAST-MODIFIED:20250911T133750Z
UID:10005270-1759057200-1759060800@www.kscc.nl
SUMMARY:Kermis mis in Weert
DESCRIPTION:Dit jaar is er voor het eerst een kermis mis in Weert. De mis vindt plaats in de autoscooter van familie Hinzen aan het Bassin. De voorgangers zijn: Deken Honings en aalmoezenier B. van Welzenes. \nIedereen is welkom!
URL:https://www.kscc.nl/event/kermis-mis-in-oirschot/
LOCATION:Kermis mis Weert\, Bassin\, Weert\, 6001
CATEGORIES:Kermis,Parochie
ATTACH;FMTTYPE=image/jpeg:https://www.kscc.nl/wp-content/uploads/2024/06/Kermis-mis-Weert.jpg
GEO:51.257549;5.705313
X-APPLE-STRUCTURED-LOCATION;VALUE=URI;X-ADDRESS=Kermis mis Weert Bassin Weert 6001;X-APPLE-RADIUS=500;X-TITLE=Bassin:geo:5.705313,51.257549
END:VEVENT
BEGIN:VEVENT
DTSTART;TZID=Europe/Amsterdam:20250907T103000
DTEND;TZID=Europe/Amsterdam:20250907T113000
DTSTAMP:20260421T130754
CREATED:20220822T090220Z
LAST-MODIFIED:20250501T094601Z
UID:10002668-1757241000-1757244600@www.kscc.nl
SUMMARY:Kermis mis in Roosendaal
DESCRIPTION:Deze zondag is er een kermis mis in de autoscooter op het Kadeplein in Roosendaal. U bent van harte welkom. Celebrant is kermisaalmoezenier Bernhard van Welzenes sdb \nMet muzikale bijdrage van gemengd koor Langkoor. \nVan harte nodig ik u uit om hierbij aanwezig te zijn. \nProgramma onder voorbehoud.
URL:https://www.kscc.nl/event/kermis-mis-in-roosendaal/
LOCATION:Kermis Roosendaal\, Kadeplein\, Roosendaal\, 4703 GB
CATEGORIES:Kermis,Parochie
ATTACH;FMTTYPE=image/jpeg:https://www.kscc.nl/wp-content/uploads/2023/06/Kermis-in-Roosendaal-Uitgelichte-afb.-logo.jpg
GEO:51.5349327;4.4508263
X-APPLE-STRUCTURED-LOCATION;VALUE=URI;X-ADDRESS=Kermis Roosendaal Kadeplein Roosendaal 4703 GB;X-APPLE-RADIUS=500;X-TITLE=Kadeplein:geo:4.4508263,51.5349327
END:VEVENT
BEGIN:VEVENT
DTSTART;TZID=Europe/Amsterdam:20250831T103000
DTEND;TZID=Europe/Amsterdam:20250831T113000
DTSTAMP:20260421T130754
CREATED:20220818T123849Z
LAST-MODIFIED:20250514T093206Z
UID:10002666-1756636200-1756639800@www.kscc.nl
SUMMARY:Kermis mis in Budel
DESCRIPTION:Deze zondag is er een kermis mis in de autoscooter van de familie Tuyl op de Markt in Budel. U bent van harte welkom. Celebrant is kermisaalmoezenier Bernhard van Welzenes sdb. \nProgramma onder voorbehoud.
URL:https://www.kscc.nl/event/kermis-mis-in-budel/
LOCATION:Kermis Budel\, Markt\, Budel\, 6021 CE
CATEGORIES:Kermis,Parochie
ATTACH;FMTTYPE=image/jpeg:https://www.kscc.nl/wp-content/uploads/2022/08/Budel-kermis-logo.jpg
GEO:51.274452;5.574596
X-APPLE-STRUCTURED-LOCATION;VALUE=URI;X-ADDRESS=Kermis Budel Markt Budel 6021 CE;X-APPLE-RADIUS=500;X-TITLE=Markt:geo:5.574596,51.274452
END:VEVENT
BEGIN:VEVENT
DTSTART;TZID=Europe/Amsterdam:20250817T110000
DTEND;TZID=Europe/Amsterdam:20250817T120000
DTSTAMP:20260421T130754
CREATED:20220818T121549Z
LAST-MODIFIED:20250813T115632Z
UID:10002665-1755428400-1755432000@www.kscc.nl
SUMMARY:Kermis mis in Oss
DESCRIPTION:Ook dit jaar weer de jaarlijkse kermis mis in de autoscooter op het Burchtplein in Oss. Celebrant is kermisaalmoezenier Bernhard van Welzenes sdb. \nHet St. Sebastiaangilde begeleidt de aalmoezenier vanuit de rotonde aan de Koornstraat naar de plek van de KermisMis. Het Osse koor MengelmOeSS verzorgt de zang bij deze viering. Het St. Sebastiaangilde sluit de dienst af met een vendelgroet. \nOp de vloer waar normaal de autoscooters rijden zijn zitplaatsen om de dienst bij te wonen. Iedereen is welkom. \n 
URL:https://www.kscc.nl/event/kermis-mis-in-oss/
LOCATION:Kermis Oss\, Burchtplein\, Oss\, 5341 CX
CATEGORIES:Kermis,Parochie
ATTACH;FMTTYPE=image/jpeg:https://www.kscc.nl/wp-content/uploads/2023/06/Kermis-Oss-logo.jpg
GEO:51.771976;5.526003
X-APPLE-STRUCTURED-LOCATION;VALUE=URI;X-ADDRESS=Kermis Oss Burchtplein Oss 5341 CX;X-APPLE-RADIUS=500;X-TITLE=Burchtplein:geo:5.526003,51.771976
END:VEVENT
BEGIN:VEVENT
DTSTART;TZID=Europe/Amsterdam:20250810T110000
DTEND;TZID=Europe/Amsterdam:20250810T120000
DTSTAMP:20260421T130754
CREATED:20220705T103100Z
LAST-MODIFIED:20250514T092054Z
UID:10002664-1754823600-1754827200@www.kscc.nl
SUMMARY:Kermis - Mis in Hoorn
DESCRIPTION:Op zondag 10 augustus is er een eucharistieviering in de botsauto’s met kermisaalmoezenier Berhard van Welzenes sdb. De muzikale begeleiding is van het “Om te Hoorn Meezingkoor” o.l.v. dirigente Margreet Drijver. \nIedereen welkom.
URL:https://www.kscc.nl/event/kermis-mis-in-hoorn/
LOCATION:Kermis Hoorn\, Gedempte Turfhaven\, Hoorn\, Noord-holland\, 1621 HE
CATEGORIES:Parochie
ATTACH;FMTTYPE=image/jpeg:https://www.kscc.nl/wp-content/uploads/2022/07/Kermis-Hoorn-logo.jpg
GEO:52.6427428;5.0571173
X-APPLE-STRUCTURED-LOCATION;VALUE=URI;X-ADDRESS=Kermis Hoorn Gedempte Turfhaven Hoorn Noord-holland 1621 HE;X-APPLE-RADIUS=500;X-TITLE=Gedempte Turfhaven:geo:5.0571173,52.6427428
END:VEVENT
BEGIN:VEVENT
DTSTART;TZID=Europe/Amsterdam:20250720T110000
DTEND;TZID=Europe/Amsterdam:20250720T120000
DTSTAMP:20260421T130754
CREATED:20220620T120943Z
LAST-MODIFIED:20250501T073544Z
UID:10002661-1753009200-1753012800@www.kscc.nl
SUMMARY:Kermis mis in Tilburg
DESCRIPTION:Programma onder voorbehoud. \n 
URL:https://www.kscc.nl/event/kermis-mis-in-tilburg/
LOCATION:De Tilburgse Kermis\, Burgemeester Brokxlaan\, Tilburg
CATEGORIES:Kermis,Parochie
ATTACH;FMTTYPE=image/jpeg:https://www.kscc.nl/wp-content/uploads/2022/06/Kermis-Tilburg-logo-1.jpg
GEO:51.5618245;5.0833293
X-APPLE-STRUCTURED-LOCATION;VALUE=URI;X-ADDRESS=De Tilburgse Kermis Burgemeester Brokxlaan Tilburg;X-APPLE-RADIUS=500;X-TITLE=Burgemeester Brokxlaan:geo:5.0833293,51.5618245
END:VEVENT
BEGIN:VEVENT
DTSTART;TZID=Europe/Amsterdam:20250713T103000
DTEND;TZID=Europe/Amsterdam:20250713T120000
DTSTAMP:20260421T130754
CREATED:20230606T113738Z
LAST-MODIFIED:20250514T085629Z
UID:10003257-1752402600-1752408000@www.kscc.nl
SUMMARY:Kermis mis in Laren
DESCRIPTION:Op zondag 13 juli 10.30 uur wordt de kermis-mis in Laren gehouden op de Autoscooter (botsauto’s) van de familie Speelman op het Plein 1945. De kermis-mis wordt muzikaal opgeluisterd door muziekvereniging St. Jan uit Laren. Aalmoezenier Van Welzenes sdb zal voorgaan als celebrant. \nIedereen welkom.
URL:https://www.kscc.nl/event/kermis-mis-in-laren/
LOCATION:Kermis Laren (NH)\, Plein 1945\, Laren\, Noord-holland
CATEGORIES:Kermis,Parochie
ATTACH;FMTTYPE=image/png:https://www.kscc.nl/wp-content/uploads/2023/06/Kermis-Laren-logo.png
GEO:52.2540338;5.229635
X-APPLE-STRUCTURED-LOCATION;VALUE=URI;X-ADDRESS=Kermis Laren (NH) Plein 1945 Laren Noord-holland;X-APPLE-RADIUS=500;X-TITLE=Plein 1945:geo:5.229635,52.2540338
END:VEVENT
BEGIN:VEVENT
DTSTART;TZID=Europe/Amsterdam:20250706T104500
DTEND;TZID=Europe/Amsterdam:20250706T120000
DTSTAMP:20260421T130754
CREATED:20230606T102914Z
LAST-MODIFIED:20250514T083456Z
UID:10003256-1751798700-1751803200@www.kscc.nl
SUMMARY:Kermis mis in Best
DESCRIPTION:Op zondag 6 juli 10.45 uur wordt de kermis-mis in Best gehouden op de Autoscooter (botsauto’s) op het Raadhuisplein. Aalmoezenier Van Welzenes sdb zal voorgaan als hoofdcelebrant. \nNa de dienst is er gelegenheid voor het drinken van een kopje koffie bij de Poffertjessalon met daarbij een warme olie- of krentenbol. \n 
URL:https://www.kscc.nl/event/kermis-mis-in-best/
LOCATION:Kermis Best\, Raadhuisplein\, Best\, 5683 EB
CATEGORIES:Kermis,Parochie
ATTACH;FMTTYPE=image/jpeg:https://www.kscc.nl/wp-content/uploads/2023/06/Kermis-Best-2023-logo.jpg
GEO:51.5117974;5.3961019
X-APPLE-STRUCTURED-LOCATION;VALUE=URI;X-ADDRESS=Kermis Best Raadhuisplein Best 5683 EB;X-APPLE-RADIUS=500;X-TITLE=Raadhuisplein:geo:5.3961019,51.5117974
END:VEVENT
BEGIN:VEVENT
DTSTART;TZID=Europe/Amsterdam:20240721T110000
DTEND;TZID=Europe/Amsterdam:20240721T120000
DTSTAMP:20260421T130754
CREATED:20250501T072541Z
LAST-MODIFIED:20250501T072541Z
UID:10005517-1721559600-1721563200@www.kscc.nl
SUMMARY:Kermis mis in Utrecht nog niet zeker
DESCRIPTION:Nog niet zeker of aalmoezenier hier naar toegaat anno mei 2025 \n 
URL:https://www.kscc.nl/event/kermis-mis-in-utrecht/
LOCATION:De Tilburgse Kermis\, Burgemeester Brokxlaan\, Tilburg
CATEGORIES:Kermis,Parochie
ATTACH;FMTTYPE=image/jpeg:https://www.kscc.nl/wp-content/uploads/2022/06/Kermis-Tilburg-logo-1.jpg
GEO:51.5618245;5.0833293
X-APPLE-STRUCTURED-LOCATION;VALUE=URI;X-ADDRESS=De Tilburgse Kermis Burgemeester Brokxlaan Tilburg;X-APPLE-RADIUS=500;X-TITLE=Burgemeester Brokxlaan:geo:5.0833293,51.5618245
END:VEVENT
END:VCALENDAR