BEGIN:VCALENDAR
VERSION:2.0
PRODID:-//KSCC - ECPv6.15.20//NONSGML v1.0//EN
CALSCALE:GREGORIAN
METHOD:PUBLISH
X-ORIGINAL-URL:https://www.kscc.nl
X-WR-CALDESC:Evenementen voor KSCC
REFRESH-INTERVAL;VALUE=DURATION:PT1H
X-Robots-Tag:noindex
X-PUBLISHED-TTL:PT1H
BEGIN:VTIMEZONE
TZID:Europe/Amsterdam
BEGIN:DAYLIGHT
TZOFFSETFROM:+0100
TZOFFSETTO:+0200
TZNAME:CEST
DTSTART:20240331T010000
END:DAYLIGHT
BEGIN:STANDARD
TZOFFSETFROM:+0200
TZOFFSETTO:+0100
TZNAME:CET
DTSTART:20241027T010000
END:STANDARD
BEGIN:DAYLIGHT
TZOFFSETFROM:+0100
TZOFFSETTO:+0200
TZNAME:CEST
DTSTART:20250330T010000
END:DAYLIGHT
BEGIN:STANDARD
TZOFFSETFROM:+0200
TZOFFSETTO:+0100
TZNAME:CET
DTSTART:20251026T010000
END:STANDARD
BEGIN:DAYLIGHT
TZOFFSETFROM:+0100
TZOFFSETTO:+0200
TZNAME:CEST
DTSTART:20260329T010000
END:DAYLIGHT
BEGIN:STANDARD
TZOFFSETFROM:+0200
TZOFFSETTO:+0100
TZNAME:CET
DTSTART:20261025T010000
END:STANDARD
END:VTIMEZONE
BEGIN:VEVENT
DTSTART;TZID=Europe/Amsterdam:20251225T100000
DTEND;TZID=Europe/Amsterdam:20251225T110000
DTSTAMP:20260421T123630
CREATED:20211207T105733Z
LAST-MODIFIED:20251210T112349Z
UID:10002636-1766656800-1766660400@www.kscc.nl
SUMMARY:Eerste Kerstdagviering in het Freiwald Kerstcircus
DESCRIPTION:Deze viering is ook te volgen via livestream. Ga naar onze livestreampagina op deze website om de uitzending te bekijken.
URL:https://www.kscc.nl/event/eerste-kerstdagviering-op-het-kscc-parochiecentrum/
LOCATION:Goffertwei Kerstcircus\, Slotemaker de Bruïneweg 268\, Nijmegen\, 6532 AD
CATEGORIES:Parochie
ATTACH;FMTTYPE=image/jpeg:https://www.kscc.nl/wp-content/uploads/2022/12/Kerstviering-Circus-Freiwald-met-tekst.jpg
GEO:51.82593;5.83974
X-APPLE-STRUCTURED-LOCATION;VALUE=URI;X-ADDRESS=Goffertwei Kerstcircus Slotemaker de Bruïneweg 268 Nijmegen 6532 AD;X-APPLE-RADIUS=500;X-TITLE=Slotemaker de Bruïneweg 268:geo:5.83974,51.82593
END:VEVENT
BEGIN:VEVENT
DTSTART;TZID=Europe/Amsterdam:20251224T190000
DTEND;TZID=Europe/Amsterdam:20251224T203000
DTSTAMP:20260421T123630
CREATED:20211207T105011Z
LAST-MODIFIED:20251117T123734Z
UID:10002635-1766602800-1766608200@www.kscc.nl
SUMMARY:Kerstnachtviering op het KSCC Parochiecentrum Nijmegen
DESCRIPTION:Op de avond van 24 december wordt de liturgie gevierd ter ere van de geboorte van Jezus Christus. De nachtmis wordt voor gegaan door landelijk aalmoezenier B. van Welzenes sdb. De muzikale begeleiding wordt (onder voorbehoud) verzorgd met medewerking van het KSCC Kerkkoor\, Jeroen en Philip (trompet en hoorn). \nOok te volgen via livestream. Ga naar onze livestreampagina op deze website om de uitzending te bekijken.
URL:https://www.kscc.nl/event/kerstnachtviering-op-het-kscc-parochiecentrum-nijmegen/
LOCATION:KSCC Nijmegen\, Waalhaven 1 K / Navigatie: Havenweg\, Nijmegen\, 6541 AG
CATEGORIES:Parochie
ATTACH;FMTTYPE=image/jpeg:https://www.kscc.nl/wp-content/uploads/2021/12/Kerststal-2021_compressed.jpg
GEO:51.85155;5.849944
X-APPLE-STRUCTURED-LOCATION;VALUE=URI;X-ADDRESS=KSCC Nijmegen Waalhaven 1 K / Navigatie: Havenweg Nijmegen 6541 AG;X-APPLE-RADIUS=500;X-TITLE=Waalhaven 1 K / Navigatie: Havenweg:geo:5.849944,51.85155
END:VEVENT
END:VCALENDAR