BEGIN:VCALENDAR
VERSION:2.0
PRODID:-//KSCC - ECPv6.15.20//NONSGML v1.0//EN
CALSCALE:GREGORIAN
METHOD:PUBLISH
X-WR-CALNAME:KSCC
X-ORIGINAL-URL:https://www.kscc.nl
X-WR-CALDESC:Evenementen voor KSCC
REFRESH-INTERVAL;VALUE=DURATION:PT1H
X-Robots-Tag:noindex
X-PUBLISHED-TTL:PT1H
BEGIN:VTIMEZONE
TZID:Europe/Amsterdam
BEGIN:DAYLIGHT
TZOFFSETFROM:+0100
TZOFFSETTO:+0200
TZNAME:CEST
DTSTART:20230326T010000
END:DAYLIGHT
BEGIN:STANDARD
TZOFFSETFROM:+0200
TZOFFSETTO:+0100
TZNAME:CET
DTSTART:20231029T010000
END:STANDARD
BEGIN:DAYLIGHT
TZOFFSETFROM:+0100
TZOFFSETTO:+0200
TZNAME:CEST
DTSTART:20240331T010000
END:DAYLIGHT
BEGIN:STANDARD
TZOFFSETFROM:+0200
TZOFFSETTO:+0100
TZNAME:CET
DTSTART:20241027T010000
END:STANDARD
BEGIN:DAYLIGHT
TZOFFSETFROM:+0100
TZOFFSETTO:+0200
TZNAME:CEST
DTSTART:20250330T010000
END:DAYLIGHT
BEGIN:STANDARD
TZOFFSETFROM:+0200
TZOFFSETTO:+0100
TZNAME:CET
DTSTART:20251026T010000
END:STANDARD
END:VTIMEZONE
BEGIN:VEVENT
DTSTART;TZID=Europe/Amsterdam:20241224T180000
DTEND;TZID=Europe/Amsterdam:20241224T190000
DTSTAMP:20260421T160956
CREATED:20211223T122238Z
LAST-MODIFIED:20241022T085113Z
UID:10002639-1735063200-1735066800@www.kscc.nl
SUMMARY:Herdertjesmis KSCC Parochiecentrum te Nijmegen
DESCRIPTION:Ook dit jaar is er een Kerstjeugdviering.\nHerdertjesmis 2019 \nCelebrant is aalmoezenier Bernhard van Welzenes sdb. De viering wordt (onder voorbehoud) verder ingevuld door de familie Wagemaker en de familie Kuenen. Femke\, Hidde en Mieke Kuenen lezen het kerstverhaal. Lizette en Clarine Wagemaker spelen kerstliedjes op hun viool en Cees en Isolde Wagemaker spelen kerstliedjes met gitaar en zingen daarbij. \nAlle kinderen zijn welkom en mogen hun eigen muziekinstrument meenemen.\nEr is geen livestream of misboekje van deze viering. \n 
URL:https://www.kscc.nl/event/herdertjesmis-kscc-vrijdag-24-december/
LOCATION:KSCC Nijmegen\, Waalhaven 1 K / Navigatie: Havenweg\, Nijmegen\, 6541 AG
CATEGORIES:Parochie
ATTACH;FMTTYPE=image/jpeg:https://www.kscc.nl/wp-content/uploads/2021/03/Herdertjesmis-voor-website-Uitgelichte-afb..jpg
GEO:51.85155;5.849944
X-APPLE-STRUCTURED-LOCATION;VALUE=URI;X-ADDRESS=KSCC Nijmegen Waalhaven 1 K / Navigatie: Havenweg Nijmegen 6541 AG;X-APPLE-RADIUS=500;X-TITLE=Waalhaven 1 K / Navigatie: Havenweg:geo:5.849944,51.85155
END:VEVENT
END:VCALENDAR