BEGIN:VCALENDAR
VERSION:2.0
PRODID:-//KSCC - ECPv6.15.20//NONSGML v1.0//EN
CALSCALE:GREGORIAN
METHOD:PUBLISH
X-WR-CALNAME:KSCC
X-ORIGINAL-URL:https://www.kscc.nl
X-WR-CALDESC:Evenementen voor KSCC
REFRESH-INTERVAL;VALUE=DURATION:PT1H
X-Robots-Tag:noindex
X-PUBLISHED-TTL:PT1H
BEGIN:VTIMEZONE
TZID:Europe/Amsterdam
BEGIN:DAYLIGHT
TZOFFSETFROM:+0100
TZOFFSETTO:+0200
TZNAME:CEST
DTSTART:20210328T010000
END:DAYLIGHT
BEGIN:STANDARD
TZOFFSETFROM:+0200
TZOFFSETTO:+0100
TZNAME:CET
DTSTART:20211031T010000
END:STANDARD
BEGIN:DAYLIGHT
TZOFFSETFROM:+0100
TZOFFSETTO:+0200
TZNAME:CEST
DTSTART:20220327T010000
END:DAYLIGHT
BEGIN:STANDARD
TZOFFSETFROM:+0200
TZOFFSETTO:+0100
TZNAME:CET
DTSTART:20221030T010000
END:STANDARD
BEGIN:DAYLIGHT
TZOFFSETFROM:+0100
TZOFFSETTO:+0200
TZNAME:CEST
DTSTART:20230326T010000
END:DAYLIGHT
BEGIN:STANDARD
TZOFFSETFROM:+0200
TZOFFSETTO:+0100
TZNAME:CET
DTSTART:20231029T010000
END:STANDARD
END:VTIMEZONE
BEGIN:VEVENT
DTSTART;TZID=Europe/Amsterdam:20220910T120000
DTEND;TZID=Europe/Amsterdam:20220911T180000
DTSTAMP:20260421T114924
CREATED:20220901T093431Z
LAST-MODIFIED:20220901T093431Z
UID:10002669-1662811200-1662919200@www.kscc.nl
SUMMARY:Open Monumentendag op het Binnenvaartmuseum Nijmegen
DESCRIPTION:Schrijver Frank Antonie van Alphen neemt u mee langs haven en kade voor bijzondere verhalen. Foto: Michel Gonlag \nDit weekend wordt een Sjouwers Special georganiseerd tijdens de Open Monumentendagen. Schrijver Frank Antonie van Alphen neemt u mee langs haven en kade voor bijzondere verhalen.\nZowel zaterdag 10 september als zondag 11 september kunt u zich drie keer per dag aansluiten voor een wandeling: om 12:00\, om 14:00\, en om 16:00. Startplaats: ’t Besiendershuys\, het historische pand waar in vroeger dagen de belastinginspecteur\, de speurder naar vrachtschepen\, woonde.\nKosten voor de wandeling bedragen tien euro (€ 10\,-) per volwassen persoon. Bedrag voor deelname graag voorafgaand aan de wandeling contant afrekenen. \nVoor meer informatie: https://frankantonie.nl/
URL:https://www.kscc.nl/event/open-monumentendag-op-het-binnenvaartmuseum-nijmegen/
LOCATION:KSCC Nijmegen\, Waalhaven 1 K / Navigatie: Havenweg\, Nijmegen\, 6541 AG
CATEGORIES:Binnenvaartmuseum,KSCC
ATTACH;FMTTYPE=image/jpeg:https://www.kscc.nl/wp-content/uploads/2022/08/Logo-met-monumentendag.jpg
GEO:51.85155;5.849944
X-APPLE-STRUCTURED-LOCATION;VALUE=URI;X-ADDRESS=KSCC Nijmegen Waalhaven 1 K / Navigatie: Havenweg Nijmegen 6541 AG;X-APPLE-RADIUS=500;X-TITLE=Waalhaven 1 K / Navigatie: Havenweg:geo:5.849944,51.85155
END:VEVENT
END:VCALENDAR