BEGIN:VCALENDAR
VERSION:2.0
PRODID:-//KSCC - ECPv6.15.20//NONSGML v1.0//EN
CALSCALE:GREGORIAN
METHOD:PUBLISH
X-ORIGINAL-URL:https://www.kscc.nl
X-WR-CALDESC:Evenementen voor KSCC
REFRESH-INTERVAL;VALUE=DURATION:PT1H
X-Robots-Tag:noindex
X-PUBLISHED-TTL:PT1H
BEGIN:VTIMEZONE
TZID:Europe/Amsterdam
BEGIN:DAYLIGHT
TZOFFSETFROM:+0100
TZOFFSETTO:+0200
TZNAME:CEST
DTSTART:20240331T010000
END:DAYLIGHT
BEGIN:STANDARD
TZOFFSETFROM:+0200
TZOFFSETTO:+0100
TZNAME:CET
DTSTART:20241027T010000
END:STANDARD
BEGIN:DAYLIGHT
TZOFFSETFROM:+0100
TZOFFSETTO:+0200
TZNAME:CEST
DTSTART:20250330T010000
END:DAYLIGHT
BEGIN:STANDARD
TZOFFSETFROM:+0200
TZOFFSETTO:+0100
TZNAME:CET
DTSTART:20251026T010000
END:STANDARD
BEGIN:DAYLIGHT
TZOFFSETFROM:+0100
TZOFFSETTO:+0200
TZNAME:CEST
DTSTART:20260329T010000
END:DAYLIGHT
BEGIN:STANDARD
TZOFFSETFROM:+0200
TZOFFSETTO:+0100
TZNAME:CET
DTSTART:20261025T010000
END:STANDARD
END:VTIMEZONE
BEGIN:VEVENT
DTSTART;TZID=Europe/Amsterdam:20250817T110000
DTEND;TZID=Europe/Amsterdam:20250817T120000
DTSTAMP:20260421T135055
CREATED:20220818T121549Z
LAST-MODIFIED:20250813T115632Z
UID:10002665-1755428400-1755432000@www.kscc.nl
SUMMARY:Kermis mis in Oss
DESCRIPTION:Ook dit jaar weer de jaarlijkse kermis mis in de autoscooter op het Burchtplein in Oss. Celebrant is kermisaalmoezenier Bernhard van Welzenes sdb. \nHet St. Sebastiaangilde begeleidt de aalmoezenier vanuit de rotonde aan de Koornstraat naar de plek van de KermisMis. Het Osse koor MengelmOeSS verzorgt de zang bij deze viering. Het St. Sebastiaangilde sluit de dienst af met een vendelgroet. \nOp de vloer waar normaal de autoscooters rijden zijn zitplaatsen om de dienst bij te wonen. Iedereen is welkom. \n 
URL:https://www.kscc.nl/event/kermis-mis-in-oss/
LOCATION:Kermis Oss\, Burchtplein\, Oss\, 5341 CX
CATEGORIES:Kermis,Parochie
ATTACH;FMTTYPE=image/jpeg:https://www.kscc.nl/wp-content/uploads/2023/06/Kermis-Oss-logo.jpg
GEO:51.771976;5.526003
X-APPLE-STRUCTURED-LOCATION;VALUE=URI;X-ADDRESS=Kermis Oss Burchtplein Oss 5341 CX;X-APPLE-RADIUS=500;X-TITLE=Burchtplein:geo:5.526003,51.771976
END:VEVENT
END:VCALENDAR