BEGIN:VCALENDAR
VERSION:2.0
PRODID:-//KSCC - ECPv6.15.20//NONSGML v1.0//EN
CALSCALE:GREGORIAN
METHOD:PUBLISH
X-WR-CALNAME:KSCC
X-ORIGINAL-URL:https://www.kscc.nl
X-WR-CALDESC:Evenementen voor KSCC
REFRESH-INTERVAL;VALUE=DURATION:PT1H
X-Robots-Tag:noindex
X-PUBLISHED-TTL:PT1H
BEGIN:VTIMEZONE
TZID:Europe/Amsterdam
BEGIN:DAYLIGHT
TZOFFSETFROM:+0100
TZOFFSETTO:+0200
TZNAME:CEST
DTSTART:20210328T010000
END:DAYLIGHT
BEGIN:STANDARD
TZOFFSETFROM:+0200
TZOFFSETTO:+0100
TZNAME:CET
DTSTART:20211031T010000
END:STANDARD
BEGIN:DAYLIGHT
TZOFFSETFROM:+0100
TZOFFSETTO:+0200
TZNAME:CEST
DTSTART:20220327T010000
END:DAYLIGHT
BEGIN:STANDARD
TZOFFSETFROM:+0200
TZOFFSETTO:+0100
TZNAME:CET
DTSTART:20221030T010000
END:STANDARD
BEGIN:DAYLIGHT
TZOFFSETFROM:+0100
TZOFFSETTO:+0200
TZNAME:CEST
DTSTART:20230326T010000
END:DAYLIGHT
BEGIN:STANDARD
TZOFFSETFROM:+0200
TZOFFSETTO:+0100
TZNAME:CET
DTSTART:20231029T010000
END:STANDARD
BEGIN:DAYLIGHT
TZOFFSETFROM:+0100
TZOFFSETTO:+0200
TZNAME:CEST
DTSTART:20240331T010000
END:DAYLIGHT
BEGIN:STANDARD
TZOFFSETFROM:+0200
TZOFFSETTO:+0100
TZNAME:CET
DTSTART:20241027T010000
END:STANDARD
BEGIN:DAYLIGHT
TZOFFSETFROM:+0100
TZOFFSETTO:+0200
TZNAME:CEST
DTSTART:20250330T010000
END:DAYLIGHT
BEGIN:STANDARD
TZOFFSETFROM:+0200
TZOFFSETTO:+0100
TZNAME:CET
DTSTART:20251026T010000
END:STANDARD
BEGIN:DAYLIGHT
TZOFFSETFROM:+0100
TZOFFSETTO:+0200
TZNAME:CEST
DTSTART:20260329T010000
END:DAYLIGHT
BEGIN:STANDARD
TZOFFSETFROM:+0200
TZOFFSETTO:+0100
TZNAME:CET
DTSTART:20261025T010000
END:STANDARD
BEGIN:DAYLIGHT
TZOFFSETFROM:+0100
TZOFFSETTO:+0200
TZNAME:CEST
DTSTART:20270328T010000
END:DAYLIGHT
BEGIN:STANDARD
TZOFFSETFROM:+0200
TZOFFSETTO:+0100
TZNAME:CET
DTSTART:20271031T010000
END:STANDARD
END:VTIMEZONE
BEGIN:VEVENT
DTSTART;TZID=Europe/Amsterdam:20260405T110000
DTEND;TZID=Europe/Amsterdam:20260405T120000
DTSTAMP:20260421T134936
CREATED:20230214T085054Z
LAST-MODIFIED:20260323T125437Z
UID:10002437-1775386800-1775390400@www.kscc.nl
SUMMARY:Eerste Paasdag viering op het Parochiecentrum Nijmegen
DESCRIPTION:Pasen is het belangrijkste christelijke feest in het liturgische jaar\, volgend op de Goede Week. Op Eerste Paasdag vieren we dat Jezus uit de dood is opgestaan\, op de zondag na zijn kruisiging. Pasen wordt gevolgd door de vijftig dagen durende periode van het kerkelijke jaar tot Pinksteren. De periode van het paasfeest tot Hemelvaartsdag duurt veertig dagen. Met medewerking van Sylvia Greve (zang)\, Ingeborg Hubens (piano)\, Jacques van der Meer (piano) en het KSCC Kerkkoor. \nDe Paasviering is ook te volgen via livestream. Na de H. Mis is er koffie drinken en een sociaal samenzijn. U bent allen van harte welkom.
URL:https://www.kscc.nl/event/h-mis-en-livestream-op-het-parochiecentrum-nijmegen/
LOCATION:KSCC Nijmegen\, Waalhaven 1 K / Navigatie: Havenweg\, Nijmegen\, 6541 AG
CATEGORIES:Parochie
ATTACH;FMTTYPE=image/jpeg:https://www.kscc.nl/wp-content/uploads/2023/02/Eerste-Paasdag.jpg
GEO:51.85155;5.849944
X-APPLE-STRUCTURED-LOCATION;VALUE=URI;X-ADDRESS=KSCC Nijmegen Waalhaven 1 K / Navigatie: Havenweg Nijmegen 6541 AG;X-APPLE-RADIUS=500;X-TITLE=Waalhaven 1 K / Navigatie: Havenweg:geo:5.849944,51.85155
END:VEVENT
BEGIN:VEVENT
DTSTART;TZID=Europe/Amsterdam:20260404T190000
DTEND;TZID=Europe/Amsterdam:20260404T200000
DTSTAMP:20260421T134936
CREATED:20230131T151907Z
LAST-MODIFIED:20260323T125414Z
UID:10002875-1775329200-1775332800@www.kscc.nl
SUMMARY:Paaswake op het KSCC Parochiecentrum Nijmegen
DESCRIPTION:De paaswake is een christelijke liturgie die begint bij zonsondergang en eindigt bij zonsopgang tijdens de nacht van paaszaterdag op Pasen. Herdacht wordt dat Jezus in deze nacht opstaat. De paaswake is het feest van het licht\, het feest van het water en het feest van de vreugde om Jezus’ verrijzenis. Met medewerking van het KSCC Kerkkoor en pianist Nico Dieteren. \nCelebrant is landelijk aalmoezenier B. van Welzenes sdb. \nOok te volgen via livestream. Ga daarvoor naar onze livestream webpagina.
URL:https://www.kscc.nl/event/paaswake-op-het-kscc-parochiecentrum-nijmegen/
LOCATION:KSCC Nijmegen\, Waalhaven 1 K / Navigatie: Havenweg\, Nijmegen\, 6541 AG
CATEGORIES:Parochie
ATTACH;FMTTYPE=image/jpeg:https://www.kscc.nl/wp-content/uploads/2023/01/Stille-zaterdag-paaswake.jpg
GEO:51.85155;5.849944
X-APPLE-STRUCTURED-LOCATION;VALUE=URI;X-ADDRESS=KSCC Nijmegen Waalhaven 1 K / Navigatie: Havenweg Nijmegen 6541 AG;X-APPLE-RADIUS=500;X-TITLE=Waalhaven 1 K / Navigatie: Havenweg:geo:5.849944,51.85155
END:VEVENT
BEGIN:VEVENT
DTSTART;TZID=Europe/Amsterdam:20260403T190000
DTEND;TZID=Europe/Amsterdam:20260403T200000
DTSTAMP:20260421T134936
CREATED:20250217T125829Z
LAST-MODIFIED:20260323T125343Z
UID:10005502-1775242800-1775246400@www.kscc.nl
SUMMARY:Goede Vrijdag mis op het KSCC Parochiecentrum Nijmegen
DESCRIPTION:Goede Vrijdag is de vrijdag voor Pasen. Op deze dag herdenken christenen de kruisiging en dood van Jezus. Jezus werd volgens de Bijbel veroordeeld tot de kruisdood door de Romeinse stadhouder Pontius Pilatus\, op aandrang van het sanhedrin. Deze straf werd voltrokken op de heuvel Golgotha nabij de stad Jeruzalem. Goede Vrijdag volgt op Witte Donderdag en gaat vooraf aan Stille Zaterdag. Daarop volgt Pasen. Op Witte Donderdag begint het Triduum Sacrum dat verder bestaat uit Goede Vrijdag en Stille Zaterdag die tijdens de paaswake overgaat in het paasfeest. Met medewerking van het KSCC Kerkkoor met pianist Jacques van der Meer. \nCelebrant is landelijk aalmoezenier B. van Welzenes sdb. \nDe Goede Vrijdag mis is NIET te volgen via livestream.
URL:https://www.kscc.nl/event/goede-vrijdag-mis-op-het-kscc-parochiecentrum-nijmegen/
LOCATION:KSCC Nijmegen\, Waalhaven 1 K / Navigatie: Havenweg\, Nijmegen\, 6541 AG
CATEGORIES:Parochie
ATTACH;FMTTYPE=image/jpeg:https://www.kscc.nl/wp-content/uploads/2025/02/goede-Vrijdag-met-tekst-Uitgelichte-afbeelding.jpg
GEO:51.85155;5.849944
X-APPLE-STRUCTURED-LOCATION;VALUE=URI;X-ADDRESS=KSCC Nijmegen Waalhaven 1 K / Navigatie: Havenweg Nijmegen 6541 AG;X-APPLE-RADIUS=500;X-TITLE=Waalhaven 1 K / Navigatie: Havenweg:geo:5.849944,51.85155
END:VEVENT
BEGIN:VEVENT
DTSTART;TZID=Europe/Amsterdam:20260402T190000
DTEND;TZID=Europe/Amsterdam:20260402T200000
DTSTAMP:20260421T134936
CREATED:20250217T125259Z
LAST-MODIFIED:20260323T125317Z
UID:10005501-1775156400-1775160000@www.kscc.nl
SUMMARY:Witte Donderdag mis op het KSCC Parochiecentrum Nijmegen
DESCRIPTION:Witte Donderdag is de donderdag voor Goede Vrijdag. Op deze dag herdenken christenen zowel de voetwassing door Jezus als Het Laatste Avondmaal en de instelling van de eucharistie. Op Witte Donderdag begint het Triduum Sacrum dat verder bestaat uit Goede Vrijdag en Stille Zaterdag die tijdens de paaswake overgaat in het paasfeest. Met medewerking van pianist André Haverkort. \nCelebrant is landelijk aalmoezenier B. van Welzenes sdb. \nDeze h. Mis is NIET te volgen via livestream.
URL:https://www.kscc.nl/event/witte-donderdag-mis-op-het-kscc-parochiecentrum-nijmegen/
LOCATION:KSCC Nijmegen\, Waalhaven 1 K / Navigatie: Havenweg\, Nijmegen\, 6541 AG
CATEGORIES:Parochie
ATTACH;FMTTYPE=image/jpeg:https://www.kscc.nl/wp-content/uploads/2025/02/Witte-donderdag-2-Uitgelichte-afbeelding.jpg
GEO:51.85155;5.849944
X-APPLE-STRUCTURED-LOCATION;VALUE=URI;X-ADDRESS=KSCC Nijmegen Waalhaven 1 K / Navigatie: Havenweg Nijmegen 6541 AG;X-APPLE-RADIUS=500;X-TITLE=Waalhaven 1 K / Navigatie: Havenweg:geo:5.849944,51.85155
END:VEVENT
BEGIN:VEVENT
DTSTART;TZID=Europe/Amsterdam:20260329T110000
DTEND;TZID=Europe/Amsterdam:20260329T120000
DTSTAMP:20260421T134936
CREATED:20230131T153044Z
LAST-MODIFIED:20260323T125248Z
UID:10002876-1774782000-1774785600@www.kscc.nl
SUMMARY:Palmzondag op het KSCC Parochiecentrum Nijmegen
DESCRIPTION:Palmzondag ook wel Palmpasen genoemd\, is de laatste zondag van de vastenperiode (de zondag vóór Pasen)\, de eerste dag van de Goede Week. Op Palmzondag wordt door christenen de blijde intocht van Jezus Christus in Jeruzalem gevierd. Met medewerking van het KSCC Kerkkoor o.l.v. Jacques van der Meer. \nCelebrant is landelijk aalmoezenier B. van Welzenes sdb. \nOok te volgen via livestream. Ga daarvoor naar onze livestream webpagina.
URL:https://www.kscc.nl/event/palmzondag-op-het-kscc-parochiecentrum-nijmegen/
LOCATION:KSCC Nijmegen\, Waalhaven 1 K / Navigatie: Havenweg\, Nijmegen\, 6541 AG
CATEGORIES:Parochie
ATTACH;FMTTYPE=image/jpeg:https://www.kscc.nl/wp-content/uploads/2023/01/Palmzondag-2.jpg
GEO:51.85155;5.849944
X-APPLE-STRUCTURED-LOCATION;VALUE=URI;X-ADDRESS=KSCC Nijmegen Waalhaven 1 K / Navigatie: Havenweg Nijmegen 6541 AG;X-APPLE-RADIUS=500;X-TITLE=Waalhaven 1 K / Navigatie: Havenweg:geo:5.849944,51.85155
END:VEVENT
BEGIN:VEVENT
DTSTART;TZID=Europe/Amsterdam:20260312T140000
DTEND;TZID=Europe/Amsterdam:20260312T170000
DTSTAMP:20260421T134936
CREATED:20250707T114028Z
LAST-MODIFIED:20250916T121628Z
UID:10002739-1773324000-1773334800@www.kscc.nl
SUMMARY:KSCC Nijmegen Soos met... een bingo met paasartikelen
DESCRIPTION:Wij organiseren een Soos met…een bingo met paasartikelen. \nHet volledige programma volgt nog. \nNoteer de datum alvast in uw agenda.
URL:https://www.kscc.nl/event/kscc-nijmegen-soos-met-brandveiligheid/
LOCATION:KSCC Nijmegen\, Waalhaven 1 K / Navigatie: Havenweg\, Nijmegen\, 6541 AG
CATEGORIES:KSCC
ATTACH;FMTTYPE=image/jpeg:https://www.kscc.nl/wp-content/uploads/2022/05/Soos-met-logo-liggend.jpg
GEO:51.85155;5.849944
X-APPLE-STRUCTURED-LOCATION;VALUE=URI;X-ADDRESS=KSCC Nijmegen Waalhaven 1 K / Navigatie: Havenweg Nijmegen 6541 AG;X-APPLE-RADIUS=500;X-TITLE=Waalhaven 1 K / Navigatie: Havenweg:geo:5.849944,51.85155
END:VEVENT
BEGIN:VEVENT
DTSTART;TZID=Europe/Amsterdam:20220417T110000
DTEND;TZID=Europe/Amsterdam:20220417T123000
DTSTAMP:20260421T134936
CREATED:20220216T141940Z
LAST-MODIFIED:20220216T154829Z
UID:10002640-1650193200-1650198600@www.kscc.nl
SUMMARY:Eerste Paasdag
DESCRIPTION:Pasen is het belangrijkste christelijke feest in het liturgische jaar\, volgend op de Goede Week. Wij vieren deze dag vanuit het geloof dat Jezus uit de dood is opgestaan\, op de zondag na zijn kruisiging. \nPasen duurt twee dagen en wordt gevierd op een zondag en maandag. Beide dagen worden wel afzonderlijk eerste en tweede paasdag of paaszondag en paasmaandag genoemd. \nHet christelijke Pasen verwijst ook naar de vijftig dagen durende periode van het kerkelijke jaar vanaf het paasfeest tot Pinksteren. De periode van het paasfeest tot Hemelvaartsdag duurt veertig dagen. \nU bent van harte welkom om de eucharistieviering bij te wonen. De H. Mis wordt muzikaal ondersteund door Sylvia Greve (zang) en Ingeborg Hubens (piano) en het KSCC Kerkkoor.
URL:https://www.kscc.nl/event/eerste-paasdag/
LOCATION:KSCC Nijmegen\, Waalhaven 1 K / Navigatie: Havenweg\, Nijmegen\, 6541 AG
CATEGORIES:Parochie
ATTACH;FMTTYPE=image/jpeg:https://www.kscc.nl/wp-content/uploads/2022/02/Fra-Angelico-Wederopstanding-Christus-evenementen-website-Nieuws-Mus.jpg
GEO:51.85155;5.849944
X-APPLE-STRUCTURED-LOCATION;VALUE=URI;X-ADDRESS=KSCC Nijmegen Waalhaven 1 K / Navigatie: Havenweg Nijmegen 6541 AG;X-APPLE-RADIUS=500;X-TITLE=Waalhaven 1 K / Navigatie: Havenweg:geo:5.849944,51.85155
END:VEVENT
BEGIN:VEVENT
DTSTART;TZID=Europe/Amsterdam:20220414T190000
DTEND;TZID=Europe/Amsterdam:20220414T200000
DTSTAMP:20260421T134936
CREATED:20220315T110138Z
LAST-MODIFIED:20220315T110138Z
UID:10002644-1649962800-1649966400@www.kscc.nl
SUMMARY:Witte Donderdag
DESCRIPTION:Op Witte Donderdag wordt Het Laatste Avondmaal van Christus met zijn apostelen en de instelling van de eucharistie door Jezus herdacht. De term “Witte Donderdag” verwijst naar de gewoonte om alle kruisbeelden en andere beelden met een wit kleed te bedekken. De liturgische kleur van Witte Donderdag is dan ook wit. \nU bent van harte welkom.
URL:https://www.kscc.nl/event/witte-donderdag/
LOCATION:KSCC Nijmegen\, Waalhaven 1 K / Navigatie: Havenweg\, Nijmegen\, 6541 AG
CATEGORIES:Parochie
GEO:51.85155;5.849944
X-APPLE-STRUCTURED-LOCATION;VALUE=URI;X-ADDRESS=KSCC Nijmegen Waalhaven 1 K / Navigatie: Havenweg Nijmegen 6541 AG;X-APPLE-RADIUS=500;X-TITLE=Waalhaven 1 K / Navigatie: Havenweg:geo:5.849944,51.85155
END:VEVENT
BEGIN:VEVENT
DTSTART;TZID=Europe/Amsterdam:20220413T133000
DTEND;TZID=Europe/Amsterdam:20220413T170000
DTSTAMP:20260421T134936
CREATED:20220315T094128Z
LAST-MODIFIED:20220315T094320Z
UID:10002643-1649856600-1649869200@www.kscc.nl
SUMMARY:Paasworkshop Crea Doe met Yvonne
DESCRIPTION:Ook Yvonne Meering is terug met een Crea Doe workshop voor het maken van een mooi Paasstuk. \nHoe de Paasstukjes er precies uitzien en hoeveel het gaat kosten is op dit moment nog niet bekend\, maar zo snel mogelijk op deze plek te vinden zijn. \nMaar houd alvast een plekje vrij in uw agenda.
URL:https://www.kscc.nl/event/paasworkshop-crea-doe-met-yvonne/
LOCATION:KSCC Nijmegen\, Waalhaven 1 K / Navigatie: Havenweg\, Nijmegen\, 6541 AG
CATEGORIES:KSCC
GEO:51.85155;5.849944
X-APPLE-STRUCTURED-LOCATION;VALUE=URI;X-ADDRESS=KSCC Nijmegen Waalhaven 1 K / Navigatie: Havenweg Nijmegen 6541 AG;X-APPLE-RADIUS=500;X-TITLE=Waalhaven 1 K / Navigatie: Havenweg:geo:5.849944,51.85155
END:VEVENT
BEGIN:VEVENT
DTSTART;TZID=Europe/Amsterdam:20220410T130000
DTEND;TZID=Europe/Amsterdam:20220410T140000
DTSTAMP:20260421T134936
CREATED:20210315T141835Z
LAST-MODIFIED:20220216T131101Z
UID:10002475-1649595600-1649599200@www.kscc.nl
SUMMARY:Palmzondag
DESCRIPTION:Op Palmzondag\, ook wel Palmpasen genoemd\, is de laatste zondag van de vastenperiode (de zondag vóór Pasen)\, vanouds de tweede zondag van de Passietijd\, maar vooral belangrijk als eerste dag van de Goede Week. Op Palmzondag wordt de blijde intocht van Jezus Christus in Jeruzalem gevierd. \nU bent  van harte welkom. \nNa afloop kunt u napraten onder het genot van een kopje koffie of thee. Er is een telefonisch spreekuur met aalmoezenier\, directeur B.E.M. van Welzenes sdb
URL:https://www.kscc.nl/event/palmzondag/
LOCATION:KSCC Nijmegen\, Waalhaven 1 K / Navigatie: Havenweg\, Nijmegen\, 6541 AG
CATEGORIES:Parochie
ATTACH;FMTTYPE=image/jpeg:https://www.kscc.nl/wp-content/uploads/2021/03/Palmzondag.jpg
GEO:51.85155;5.849944
X-APPLE-STRUCTURED-LOCATION;VALUE=URI;X-ADDRESS=KSCC Nijmegen Waalhaven 1 K / Navigatie: Havenweg Nijmegen 6541 AG;X-APPLE-RADIUS=500;X-TITLE=Waalhaven 1 K / Navigatie: Havenweg:geo:5.849944,51.85155
END:VEVENT
END:VCALENDAR