BEGIN:VCALENDAR
VERSION:2.0
PRODID:-//KSCC - ECPv6.15.20//NONSGML v1.0//EN
CALSCALE:GREGORIAN
METHOD:PUBLISH
X-WR-CALNAME:KSCC
X-ORIGINAL-URL:https://www.kscc.nl
X-WR-CALDESC:Evenementen voor KSCC
REFRESH-INTERVAL;VALUE=DURATION:PT1H
X-Robots-Tag:noindex
X-PUBLISHED-TTL:PT1H
BEGIN:VTIMEZONE
TZID:Europe/Amsterdam
BEGIN:DAYLIGHT
TZOFFSETFROM:+0100
TZOFFSETTO:+0200
TZNAME:CEST
DTSTART:20240331T010000
END:DAYLIGHT
BEGIN:STANDARD
TZOFFSETFROM:+0200
TZOFFSETTO:+0100
TZNAME:CET
DTSTART:20241027T010000
END:STANDARD
BEGIN:DAYLIGHT
TZOFFSETFROM:+0100
TZOFFSETTO:+0200
TZNAME:CEST
DTSTART:20250330T010000
END:DAYLIGHT
BEGIN:STANDARD
TZOFFSETFROM:+0200
TZOFFSETTO:+0100
TZNAME:CET
DTSTART:20251026T010000
END:STANDARD
BEGIN:DAYLIGHT
TZOFFSETFROM:+0100
TZOFFSETTO:+0200
TZNAME:CEST
DTSTART:20260329T010000
END:DAYLIGHT
BEGIN:STANDARD
TZOFFSETFROM:+0200
TZOFFSETTO:+0100
TZNAME:CET
DTSTART:20261025T010000
END:STANDARD
END:VTIMEZONE
BEGIN:VEVENT
DTSTART;TZID=Europe/Amsterdam:20250907T103000
DTEND;TZID=Europe/Amsterdam:20250907T113000
DTSTAMP:20260421T011130
CREATED:20220822T090220Z
LAST-MODIFIED:20250501T094601Z
UID:10002668-1757241000-1757244600@www.kscc.nl
SUMMARY:Kermis mis in Roosendaal
DESCRIPTION:Deze zondag is er een kermis mis in de autoscooter op het Kadeplein in Roosendaal. U bent van harte welkom. Celebrant is kermisaalmoezenier Bernhard van Welzenes sdb \nMet muzikale bijdrage van gemengd koor Langkoor. \nVan harte nodig ik u uit om hierbij aanwezig te zijn. \nProgramma onder voorbehoud.
URL:https://www.kscc.nl/event/kermis-mis-in-roosendaal/
LOCATION:Kermis Roosendaal\, Kadeplein\, Roosendaal\, 4703 GB
CATEGORIES:Kermis,Parochie
ATTACH;FMTTYPE=image/jpeg:https://www.kscc.nl/wp-content/uploads/2023/06/Kermis-in-Roosendaal-Uitgelichte-afb.-logo.jpg
GEO:51.5349327;4.4508263
X-APPLE-STRUCTURED-LOCATION;VALUE=URI;X-ADDRESS=Kermis Roosendaal Kadeplein Roosendaal 4703 GB;X-APPLE-RADIUS=500;X-TITLE=Kadeplein:geo:4.4508263,51.5349327
END:VEVENT
END:VCALENDAR