BEGIN:VCALENDAR
VERSION:2.0
PRODID:-//KSCC - ECPv6.15.20//NONSGML v1.0//EN
CALSCALE:GREGORIAN
METHOD:PUBLISH
X-WR-CALNAME:KSCC
X-ORIGINAL-URL:https://www.kscc.nl
X-WR-CALDESC:Evenementen voor KSCC
REFRESH-INTERVAL;VALUE=DURATION:PT1H
X-Robots-Tag:noindex
X-PUBLISHED-TTL:PT1H
BEGIN:VTIMEZONE
TZID:Europe/Amsterdam
BEGIN:DAYLIGHT
TZOFFSETFROM:+0100
TZOFFSETTO:+0200
TZNAME:CEST
DTSTART:20240331T010000
END:DAYLIGHT
BEGIN:STANDARD
TZOFFSETFROM:+0200
TZOFFSETTO:+0100
TZNAME:CET
DTSTART:20241027T010000
END:STANDARD
BEGIN:DAYLIGHT
TZOFFSETFROM:+0100
TZOFFSETTO:+0200
TZNAME:CEST
DTSTART:20250330T010000
END:DAYLIGHT
BEGIN:STANDARD
TZOFFSETFROM:+0200
TZOFFSETTO:+0100
TZNAME:CET
DTSTART:20251026T010000
END:STANDARD
BEGIN:DAYLIGHT
TZOFFSETFROM:+0100
TZOFFSETTO:+0200
TZNAME:CEST
DTSTART:20260329T010000
END:DAYLIGHT
BEGIN:STANDARD
TZOFFSETFROM:+0200
TZOFFSETTO:+0100
TZNAME:CET
DTSTART:20261025T010000
END:STANDARD
END:VTIMEZONE
BEGIN:VEVENT
DTSTART;TZID=Europe/Amsterdam:20251127T093000
DTEND;TZID=Europe/Amsterdam:20251127T170000
DTSTAMP:20260421T143925
CREATED:20251103T093659Z
LAST-MODIFIED:20251103T133322Z
UID:10002776-1764235800-1764262800@www.kscc.nl
SUMMARY:28e Telematicadag 2025
DESCRIPTION:Op donderdag 27 november aanstaande (vanaf 9.00 uur inloop) wordt in Nijmegen op het KSCC in de Waalhaven voor de 28e keer de jaarlijkse Telematicadag georganiseerd. \nDit jaar staat de bijeenkomst in het teken van: ‘Slimme schepen\, slimme vaarwegen: AI vaart mee’ \nDe organisatie\, onder leiding van Bureau Telematica Binnenvaart\, heeft een aantrekkelijk programma in elkaar gezet dat is gericht op de binnenvaartondernemer aan de wal en in de stuurhut \nOok wordt de Telematica Award uitgereikt aan een persoon die een meer dan gemiddelde bijdrage heeft geleverd aan de toepassing van telematica in de binnenvaart en op de vaarwegen. \nGa voor alle informatie en voor inschrijving naar onze Telematicapagina.
URL:https://www.kscc.nl/event/telematicadag/
LOCATION:KSCC Nijmegen\, Waalhaven 1 K / Navigatie: Havenweg\, Nijmegen\, 6541 AG
CATEGORIES:Binnenvaart
ATTACH;FMTTYPE=image/jpeg:https://www.kscc.nl/wp-content/uploads/2022/11/Telematica-Bureau-Binnenvaart-zelfgemaakt-logo.jpg
GEO:51.85155;5.849944
X-APPLE-STRUCTURED-LOCATION;VALUE=URI;X-ADDRESS=KSCC Nijmegen Waalhaven 1 K / Navigatie: Havenweg Nijmegen 6541 AG;X-APPLE-RADIUS=500;X-TITLE=Waalhaven 1 K / Navigatie: Havenweg:geo:5.849944,51.85155
END:VEVENT
END:VCALENDAR