BEGIN:VCALENDAR
VERSION:2.0
PRODID:-//KSCC - ECPv6.15.20//NONSGML v1.0//EN
CALSCALE:GREGORIAN
METHOD:PUBLISH
X-ORIGINAL-URL:https://www.kscc.nl
X-WR-CALDESC:Evenementen voor KSCC
REFRESH-INTERVAL;VALUE=DURATION:PT1H
X-Robots-Tag:noindex
X-PUBLISHED-TTL:PT1H
BEGIN:VTIMEZONE
TZID:Europe/Amsterdam
BEGIN:DAYLIGHT
TZOFFSETFROM:+0100
TZOFFSETTO:+0200
TZNAME:CEST
DTSTART:20240331T010000
END:DAYLIGHT
BEGIN:STANDARD
TZOFFSETFROM:+0200
TZOFFSETTO:+0100
TZNAME:CET
DTSTART:20241027T010000
END:STANDARD
BEGIN:DAYLIGHT
TZOFFSETFROM:+0100
TZOFFSETTO:+0200
TZNAME:CEST
DTSTART:20250330T010000
END:DAYLIGHT
BEGIN:STANDARD
TZOFFSETFROM:+0200
TZOFFSETTO:+0100
TZNAME:CET
DTSTART:20251026T010000
END:STANDARD
BEGIN:DAYLIGHT
TZOFFSETFROM:+0100
TZOFFSETTO:+0200
TZNAME:CEST
DTSTART:20260329T010000
END:DAYLIGHT
BEGIN:STANDARD
TZOFFSETFROM:+0200
TZOFFSETTO:+0100
TZNAME:CET
DTSTART:20261025T010000
END:STANDARD
END:VTIMEZONE
BEGIN:VEVENT
DTSTART;VALUE=DATE:20250718
DTEND;VALUE=DATE:20250719
DTSTAMP:20260421T042306
CREATED:20240710T141757Z
LAST-MODIFIED:20250716T115015Z
UID:10005278-1752796800-1752883199@www.kscc.nl
SUMMARY:Kantoor KSCC vrijdag gesloten vanwege intocht vierdaagse
DESCRIPTION:Vrijdag 18 juli is de intocht van de Vierdaagse wandelaars daarom is het kantoor gesloten. We zijn wel telefonisch bereikbaar!
URL:https://www.kscc.nl/event/kantoor-kscc-vrijdag-gesloten-vanwege-intocht-vierdaagse/
LOCATION:KSCC Nijmegen\, Waalhaven 1 K / Navigatie: Havenweg\, Nijmegen\, 6541 AG
CATEGORIES:KSCC
ATTACH;FMTTYPE=image/jpeg:https://www.kscc.nl/wp-content/uploads/2022/04/Sorry-Gesloten-logo.jpg
GEO:51.85155;5.849944
X-APPLE-STRUCTURED-LOCATION;VALUE=URI;X-ADDRESS=KSCC Nijmegen Waalhaven 1 K / Navigatie: Havenweg Nijmegen 6541 AG;X-APPLE-RADIUS=500;X-TITLE=Waalhaven 1 K / Navigatie: Havenweg:geo:5.849944,51.85155
END:VEVENT
END:VCALENDAR