BEGIN:VCALENDAR
VERSION:2.0
PRODID:-//KSCC - ECPv6.15.20//NONSGML v1.0//EN
CALSCALE:GREGORIAN
METHOD:PUBLISH
X-ORIGINAL-URL:https://www.kscc.nl
X-WR-CALDESC:Evenementen voor KSCC
REFRESH-INTERVAL;VALUE=DURATION:PT1H
X-Robots-Tag:noindex
X-PUBLISHED-TTL:PT1H
BEGIN:VTIMEZONE
TZID:Europe/Amsterdam
BEGIN:DAYLIGHT
TZOFFSETFROM:+0100
TZOFFSETTO:+0200
TZNAME:CEST
DTSTART:20240331T010000
END:DAYLIGHT
BEGIN:STANDARD
TZOFFSETFROM:+0200
TZOFFSETTO:+0100
TZNAME:CET
DTSTART:20241027T010000
END:STANDARD
BEGIN:DAYLIGHT
TZOFFSETFROM:+0100
TZOFFSETTO:+0200
TZNAME:CEST
DTSTART:20250330T010000
END:DAYLIGHT
BEGIN:STANDARD
TZOFFSETFROM:+0200
TZOFFSETTO:+0100
TZNAME:CET
DTSTART:20251026T010000
END:STANDARD
BEGIN:DAYLIGHT
TZOFFSETFROM:+0100
TZOFFSETTO:+0200
TZNAME:CEST
DTSTART:20260329T010000
END:DAYLIGHT
BEGIN:STANDARD
TZOFFSETFROM:+0200
TZOFFSETTO:+0100
TZNAME:CET
DTSTART:20261025T010000
END:STANDARD
BEGIN:DAYLIGHT
TZOFFSETFROM:+0100
TZOFFSETTO:+0200
TZNAME:CEST
DTSTART:20270328T010000
END:DAYLIGHT
BEGIN:STANDARD
TZOFFSETFROM:+0200
TZOFFSETTO:+0100
TZNAME:CET
DTSTART:20271031T010000
END:STANDARD
END:VTIMEZONE
BEGIN:VEVENT
DTSTART;TZID=Europe/Amsterdam:20260412T103000
DTEND;TZID=Europe/Amsterdam:20260412T113000
DTSTAMP:20260421T130904
CREATED:20240828T094322Z
LAST-MODIFIED:20240828T094515Z
UID:10005371-1775989800-1775993400@www.kscc.nl
SUMMARY:Eucharistieviering op het KSCC Het Zuiden
DESCRIPTION:Eucharistieviering met celebrant Ad Blommerde. Na de viering is er een bestuurslid aanwezig.
URL:https://www.kscc.nl/event/eucharistieviering-op-het-kscc-het-zuiden-2/2026-04-12/
LOCATION:KSCC Het Zuiden\, Reenweg 1\, Raamsdonksveer\, 4942 VB\, Nederland
CATEGORIES:Parochie
ATTACH;FMTTYPE=image/jpeg:https://www.kscc.nl/wp-content/uploads/2021/09/2021-09-19-Kerkschip-Raamsdonksveer-59.jpg
GEO:51.7036444;4.8689386
X-APPLE-STRUCTURED-LOCATION;VALUE=URI;X-ADDRESS=KSCC Het Zuiden Reenweg 1 Raamsdonksveer 4942 VB Nederland;X-APPLE-RADIUS=500;X-TITLE=Reenweg 1:geo:4.8689386,51.7036444
END:VEVENT
BEGIN:VEVENT
DTSTART;TZID=Europe/Amsterdam:20260308T103000
DTEND;TZID=Europe/Amsterdam:20260308T113000
DTSTAMP:20260421T130904
CREATED:20240828T094322Z
LAST-MODIFIED:20240828T094515Z
UID:10005370-1772965800-1772969400@www.kscc.nl
SUMMARY:Eucharistieviering op het KSCC Het Zuiden
DESCRIPTION:Eucharistieviering met celebrant Ad Blommerde. Na de viering is er een bestuurslid aanwezig.
URL:https://www.kscc.nl/event/eucharistieviering-op-het-kscc-het-zuiden-2/2026-03-08/
LOCATION:KSCC Het Zuiden\, Reenweg 1\, Raamsdonksveer\, 4942 VB\, Nederland
CATEGORIES:Parochie
ATTACH;FMTTYPE=image/jpeg:https://www.kscc.nl/wp-content/uploads/2021/09/2021-09-19-Kerkschip-Raamsdonksveer-59.jpg
GEO:51.7036444;4.8689386
X-APPLE-STRUCTURED-LOCATION;VALUE=URI;X-ADDRESS=KSCC Het Zuiden Reenweg 1 Raamsdonksveer 4942 VB Nederland;X-APPLE-RADIUS=500;X-TITLE=Reenweg 1:geo:4.8689386,51.7036444
END:VEVENT
BEGIN:VEVENT
DTSTART;TZID=Europe/Amsterdam:20260208T103000
DTEND;TZID=Europe/Amsterdam:20260208T113000
DTSTAMP:20260421T130904
CREATED:20240828T094322Z
LAST-MODIFIED:20240828T094515Z
UID:10005369-1770546600-1770550200@www.kscc.nl
SUMMARY:Eucharistieviering op het KSCC Het Zuiden
DESCRIPTION:Eucharistieviering met celebrant Ad Blommerde. Na de viering is er een bestuurslid aanwezig.
URL:https://www.kscc.nl/event/eucharistieviering-op-het-kscc-het-zuiden-2/2026-02-08/
LOCATION:KSCC Het Zuiden\, Reenweg 1\, Raamsdonksveer\, 4942 VB\, Nederland
CATEGORIES:Parochie
ATTACH;FMTTYPE=image/jpeg:https://www.kscc.nl/wp-content/uploads/2021/09/2021-09-19-Kerkschip-Raamsdonksveer-59.jpg
GEO:51.7036444;4.8689386
X-APPLE-STRUCTURED-LOCATION;VALUE=URI;X-ADDRESS=KSCC Het Zuiden Reenweg 1 Raamsdonksveer 4942 VB Nederland;X-APPLE-RADIUS=500;X-TITLE=Reenweg 1:geo:4.8689386,51.7036444
END:VEVENT
BEGIN:VEVENT
DTSTART;TZID=Europe/Amsterdam:20260204T133000
DTEND;TZID=Europe/Amsterdam:20260204T170000
DTSTAMP:20260421T130904
CREATED:20250205T111332Z
LAST-MODIFIED:20250205T112717Z
UID:10005500-1770211800-1770224400@www.kscc.nl
SUMMARY:Kaarten en koffiedrinken op het KSCC in Raamsdonksveer
DESCRIPTION:Elke woensdagmiddag is er kaarten en koffiedrinken op het Kerkschip. Iedereen welkom.
URL:https://www.kscc.nl/event/kaarten-en-koffiedrinken-op-het-kscc-in-raamsdonksveer-4/2026-02-04/
LOCATION:KSCC Het Zuiden\, Reenweg 1\, Raamsdonksveer\, 4942 VB\, Nederland
CATEGORIES:KSCC
ATTACH;FMTTYPE=image/jpeg:https://www.kscc.nl/wp-content/uploads/2023/03/Kaarten-en-koffie-Raamsdonksveer.jpg
GEO:51.7036444;4.8689386
X-APPLE-STRUCTURED-LOCATION;VALUE=URI;X-ADDRESS=KSCC Het Zuiden Reenweg 1 Raamsdonksveer 4942 VB Nederland;X-APPLE-RADIUS=500;X-TITLE=Reenweg 1:geo:4.8689386,51.7036444
END:VEVENT
BEGIN:VEVENT
DTSTART;TZID=Europe/Amsterdam:20260128T133000
DTEND;TZID=Europe/Amsterdam:20260128T170000
DTSTAMP:20260421T130904
CREATED:20250205T111332Z
LAST-MODIFIED:20250205T112717Z
UID:10005499-1769607000-1769619600@www.kscc.nl
SUMMARY:Kaarten en koffiedrinken op het KSCC in Raamsdonksveer
DESCRIPTION:Elke woensdagmiddag is er kaarten en koffiedrinken op het Kerkschip. Iedereen welkom.
URL:https://www.kscc.nl/event/kaarten-en-koffiedrinken-op-het-kscc-in-raamsdonksveer-4/2026-01-28/
LOCATION:KSCC Het Zuiden\, Reenweg 1\, Raamsdonksveer\, 4942 VB\, Nederland
CATEGORIES:KSCC
ATTACH;FMTTYPE=image/jpeg:https://www.kscc.nl/wp-content/uploads/2023/03/Kaarten-en-koffie-Raamsdonksveer.jpg
GEO:51.7036444;4.8689386
X-APPLE-STRUCTURED-LOCATION;VALUE=URI;X-ADDRESS=KSCC Het Zuiden Reenweg 1 Raamsdonksveer 4942 VB Nederland;X-APPLE-RADIUS=500;X-TITLE=Reenweg 1:geo:4.8689386,51.7036444
END:VEVENT
BEGIN:VEVENT
DTSTART;TZID=Europe/Amsterdam:20260121T133000
DTEND;TZID=Europe/Amsterdam:20260121T170000
DTSTAMP:20260421T130904
CREATED:20250205T111332Z
LAST-MODIFIED:20250205T112717Z
UID:10005498-1769002200-1769014800@www.kscc.nl
SUMMARY:Kaarten en koffiedrinken op het KSCC in Raamsdonksveer
DESCRIPTION:Elke woensdagmiddag is er kaarten en koffiedrinken op het Kerkschip. Iedereen welkom.
URL:https://www.kscc.nl/event/kaarten-en-koffiedrinken-op-het-kscc-in-raamsdonksveer-4/2026-01-21/
LOCATION:KSCC Het Zuiden\, Reenweg 1\, Raamsdonksveer\, 4942 VB\, Nederland
CATEGORIES:KSCC
ATTACH;FMTTYPE=image/jpeg:https://www.kscc.nl/wp-content/uploads/2023/03/Kaarten-en-koffie-Raamsdonksveer.jpg
GEO:51.7036444;4.8689386
X-APPLE-STRUCTURED-LOCATION;VALUE=URI;X-ADDRESS=KSCC Het Zuiden Reenweg 1 Raamsdonksveer 4942 VB Nederland;X-APPLE-RADIUS=500;X-TITLE=Reenweg 1:geo:4.8689386,51.7036444
END:VEVENT
BEGIN:VEVENT
DTSTART;TZID=Europe/Amsterdam:20260114T133000
DTEND;TZID=Europe/Amsterdam:20260114T170000
DTSTAMP:20260421T130904
CREATED:20250205T111332Z
LAST-MODIFIED:20250205T112717Z
UID:10005497-1768397400-1768410000@www.kscc.nl
SUMMARY:Kaarten en koffiedrinken op het KSCC in Raamsdonksveer
DESCRIPTION:Elke woensdagmiddag is er kaarten en koffiedrinken op het Kerkschip. Iedereen welkom.
URL:https://www.kscc.nl/event/kaarten-en-koffiedrinken-op-het-kscc-in-raamsdonksveer-4/2026-01-14/
LOCATION:KSCC Het Zuiden\, Reenweg 1\, Raamsdonksveer\, 4942 VB\, Nederland
CATEGORIES:KSCC
ATTACH;FMTTYPE=image/jpeg:https://www.kscc.nl/wp-content/uploads/2023/03/Kaarten-en-koffie-Raamsdonksveer.jpg
GEO:51.7036444;4.8689386
X-APPLE-STRUCTURED-LOCATION;VALUE=URI;X-ADDRESS=KSCC Het Zuiden Reenweg 1 Raamsdonksveer 4942 VB Nederland;X-APPLE-RADIUS=500;X-TITLE=Reenweg 1:geo:4.8689386,51.7036444
END:VEVENT
BEGIN:VEVENT
DTSTART;TZID=Europe/Amsterdam:20260111T103000
DTEND;TZID=Europe/Amsterdam:20260111T113000
DTSTAMP:20260421T130904
CREATED:20240828T094322Z
LAST-MODIFIED:20240828T094515Z
UID:10005368-1768127400-1768131000@www.kscc.nl
SUMMARY:Eucharistieviering op het KSCC Het Zuiden
DESCRIPTION:Eucharistieviering met celebrant Ad Blommerde. Na de viering is er een bestuurslid aanwezig.
URL:https://www.kscc.nl/event/eucharistieviering-op-het-kscc-het-zuiden-2/2026-01-11/
LOCATION:KSCC Het Zuiden\, Reenweg 1\, Raamsdonksveer\, 4942 VB\, Nederland
CATEGORIES:Parochie
ATTACH;FMTTYPE=image/jpeg:https://www.kscc.nl/wp-content/uploads/2021/09/2021-09-19-Kerkschip-Raamsdonksveer-59.jpg
GEO:51.7036444;4.8689386
X-APPLE-STRUCTURED-LOCATION;VALUE=URI;X-ADDRESS=KSCC Het Zuiden Reenweg 1 Raamsdonksveer 4942 VB Nederland;X-APPLE-RADIUS=500;X-TITLE=Reenweg 1:geo:4.8689386,51.7036444
END:VEVENT
BEGIN:VEVENT
DTSTART;TZID=Europe/Amsterdam:20260107T133000
DTEND;TZID=Europe/Amsterdam:20260107T170000
DTSTAMP:20260421T130904
CREATED:20250205T111332Z
LAST-MODIFIED:20250205T112717Z
UID:10005496-1767792600-1767805200@www.kscc.nl
SUMMARY:Kaarten en koffiedrinken op het KSCC in Raamsdonksveer
DESCRIPTION:Elke woensdagmiddag is er kaarten en koffiedrinken op het Kerkschip. Iedereen welkom.
URL:https://www.kscc.nl/event/kaarten-en-koffiedrinken-op-het-kscc-in-raamsdonksveer-4/2026-01-07/
LOCATION:KSCC Het Zuiden\, Reenweg 1\, Raamsdonksveer\, 4942 VB\, Nederland
CATEGORIES:KSCC
ATTACH;FMTTYPE=image/jpeg:https://www.kscc.nl/wp-content/uploads/2023/03/Kaarten-en-koffie-Raamsdonksveer.jpg
GEO:51.7036444;4.8689386
X-APPLE-STRUCTURED-LOCATION;VALUE=URI;X-ADDRESS=KSCC Het Zuiden Reenweg 1 Raamsdonksveer 4942 VB Nederland;X-APPLE-RADIUS=500;X-TITLE=Reenweg 1:geo:4.8689386,51.7036444
END:VEVENT
BEGIN:VEVENT
DTSTART;TZID=Europe/Amsterdam:20251231T133000
DTEND;TZID=Europe/Amsterdam:20251231T170000
DTSTAMP:20260421T130904
CREATED:20250205T111332Z
LAST-MODIFIED:20250205T112717Z
UID:10005495-1767187800-1767200400@www.kscc.nl
SUMMARY:Kaarten en koffiedrinken op het KSCC in Raamsdonksveer
DESCRIPTION:Elke woensdagmiddag is er kaarten en koffiedrinken op het Kerkschip. Iedereen welkom.
URL:https://www.kscc.nl/event/kaarten-en-koffiedrinken-op-het-kscc-in-raamsdonksveer-4/2025-12-31/
LOCATION:KSCC Het Zuiden\, Reenweg 1\, Raamsdonksveer\, 4942 VB\, Nederland
CATEGORIES:KSCC
ATTACH;FMTTYPE=image/jpeg:https://www.kscc.nl/wp-content/uploads/2023/03/Kaarten-en-koffie-Raamsdonksveer.jpg
GEO:51.7036444;4.8689386
X-APPLE-STRUCTURED-LOCATION;VALUE=URI;X-ADDRESS=KSCC Het Zuiden Reenweg 1 Raamsdonksveer 4942 VB Nederland;X-APPLE-RADIUS=500;X-TITLE=Reenweg 1:geo:4.8689386,51.7036444
END:VEVENT
BEGIN:VEVENT
DTSTART;TZID=Europe/Amsterdam:20251224T133000
DTEND;TZID=Europe/Amsterdam:20251224T170000
DTSTAMP:20260421T130904
CREATED:20250205T111332Z
LAST-MODIFIED:20250205T112717Z
UID:10005494-1766583000-1766595600@www.kscc.nl
SUMMARY:Kaarten en koffiedrinken op het KSCC in Raamsdonksveer
DESCRIPTION:Elke woensdagmiddag is er kaarten en koffiedrinken op het Kerkschip. Iedereen welkom.
URL:https://www.kscc.nl/event/kaarten-en-koffiedrinken-op-het-kscc-in-raamsdonksveer-4/2025-12-24/
LOCATION:KSCC Het Zuiden\, Reenweg 1\, Raamsdonksveer\, 4942 VB\, Nederland
CATEGORIES:KSCC
ATTACH;FMTTYPE=image/jpeg:https://www.kscc.nl/wp-content/uploads/2023/03/Kaarten-en-koffie-Raamsdonksveer.jpg
GEO:51.7036444;4.8689386
X-APPLE-STRUCTURED-LOCATION;VALUE=URI;X-ADDRESS=KSCC Het Zuiden Reenweg 1 Raamsdonksveer 4942 VB Nederland;X-APPLE-RADIUS=500;X-TITLE=Reenweg 1:geo:4.8689386,51.7036444
END:VEVENT
BEGIN:VEVENT
DTSTART;TZID=Europe/Amsterdam:20251217T133000
DTEND;TZID=Europe/Amsterdam:20251217T170000
DTSTAMP:20260421T130904
CREATED:20250205T111332Z
LAST-MODIFIED:20250205T112717Z
UID:10005493-1765978200-1765990800@www.kscc.nl
SUMMARY:Kaarten en koffiedrinken op het KSCC in Raamsdonksveer
DESCRIPTION:Elke woensdagmiddag is er kaarten en koffiedrinken op het Kerkschip. Iedereen welkom.
URL:https://www.kscc.nl/event/kaarten-en-koffiedrinken-op-het-kscc-in-raamsdonksveer-4/2025-12-17/
LOCATION:KSCC Het Zuiden\, Reenweg 1\, Raamsdonksveer\, 4942 VB\, Nederland
CATEGORIES:KSCC
ATTACH;FMTTYPE=image/jpeg:https://www.kscc.nl/wp-content/uploads/2023/03/Kaarten-en-koffie-Raamsdonksveer.jpg
GEO:51.7036444;4.8689386
X-APPLE-STRUCTURED-LOCATION;VALUE=URI;X-ADDRESS=KSCC Het Zuiden Reenweg 1 Raamsdonksveer 4942 VB Nederland;X-APPLE-RADIUS=500;X-TITLE=Reenweg 1:geo:4.8689386,51.7036444
END:VEVENT
BEGIN:VEVENT
DTSTART;TZID=Europe/Amsterdam:20251214T103000
DTEND;TZID=Europe/Amsterdam:20251214T113000
DTSTAMP:20260421T130904
CREATED:20240828T094322Z
LAST-MODIFIED:20240828T094515Z
UID:10005367-1765708200-1765711800@www.kscc.nl
SUMMARY:Eucharistieviering op het KSCC Het Zuiden
DESCRIPTION:Eucharistieviering met celebrant Ad Blommerde. Na de viering is er een bestuurslid aanwezig.
URL:https://www.kscc.nl/event/eucharistieviering-op-het-kscc-het-zuiden-2/2025-12-14/
LOCATION:KSCC Het Zuiden\, Reenweg 1\, Raamsdonksveer\, 4942 VB\, Nederland
CATEGORIES:Parochie
ATTACH;FMTTYPE=image/jpeg:https://www.kscc.nl/wp-content/uploads/2021/09/2021-09-19-Kerkschip-Raamsdonksveer-59.jpg
GEO:51.7036444;4.8689386
X-APPLE-STRUCTURED-LOCATION;VALUE=URI;X-ADDRESS=KSCC Het Zuiden Reenweg 1 Raamsdonksveer 4942 VB Nederland;X-APPLE-RADIUS=500;X-TITLE=Reenweg 1:geo:4.8689386,51.7036444
END:VEVENT
BEGIN:VEVENT
DTSTART;TZID=Europe/Amsterdam:20251210T133000
DTEND;TZID=Europe/Amsterdam:20251210T170000
DTSTAMP:20260421T130904
CREATED:20250205T111332Z
LAST-MODIFIED:20250205T112717Z
UID:10005492-1765373400-1765386000@www.kscc.nl
SUMMARY:Kaarten en koffiedrinken op het KSCC in Raamsdonksveer
DESCRIPTION:Elke woensdagmiddag is er kaarten en koffiedrinken op het Kerkschip. Iedereen welkom.
URL:https://www.kscc.nl/event/kaarten-en-koffiedrinken-op-het-kscc-in-raamsdonksveer-4/2025-12-10/
LOCATION:KSCC Het Zuiden\, Reenweg 1\, Raamsdonksveer\, 4942 VB\, Nederland
CATEGORIES:KSCC
ATTACH;FMTTYPE=image/jpeg:https://www.kscc.nl/wp-content/uploads/2023/03/Kaarten-en-koffie-Raamsdonksveer.jpg
GEO:51.7036444;4.8689386
X-APPLE-STRUCTURED-LOCATION;VALUE=URI;X-ADDRESS=KSCC Het Zuiden Reenweg 1 Raamsdonksveer 4942 VB Nederland;X-APPLE-RADIUS=500;X-TITLE=Reenweg 1:geo:4.8689386,51.7036444
END:VEVENT
BEGIN:VEVENT
DTSTART;TZID=Europe/Amsterdam:20251203T133000
DTEND;TZID=Europe/Amsterdam:20251203T170000
DTSTAMP:20260421T130904
CREATED:20250205T111332Z
LAST-MODIFIED:20250205T112717Z
UID:10005491-1764768600-1764781200@www.kscc.nl
SUMMARY:Kaarten en koffiedrinken op het KSCC in Raamsdonksveer
DESCRIPTION:Elke woensdagmiddag is er kaarten en koffiedrinken op het Kerkschip. Iedereen welkom.
URL:https://www.kscc.nl/event/kaarten-en-koffiedrinken-op-het-kscc-in-raamsdonksveer-4/2025-12-03/
LOCATION:KSCC Het Zuiden\, Reenweg 1\, Raamsdonksveer\, 4942 VB\, Nederland
CATEGORIES:KSCC
ATTACH;FMTTYPE=image/jpeg:https://www.kscc.nl/wp-content/uploads/2023/03/Kaarten-en-koffie-Raamsdonksveer.jpg
GEO:51.7036444;4.8689386
X-APPLE-STRUCTURED-LOCATION;VALUE=URI;X-ADDRESS=KSCC Het Zuiden Reenweg 1 Raamsdonksveer 4942 VB Nederland;X-APPLE-RADIUS=500;X-TITLE=Reenweg 1:geo:4.8689386,51.7036444
END:VEVENT
BEGIN:VEVENT
DTSTART;TZID=Europe/Amsterdam:20251126T133000
DTEND;TZID=Europe/Amsterdam:20251126T170000
DTSTAMP:20260421T130904
CREATED:20250205T111332Z
LAST-MODIFIED:20250205T112717Z
UID:10005490-1764163800-1764176400@www.kscc.nl
SUMMARY:Kaarten en koffiedrinken op het KSCC in Raamsdonksveer
DESCRIPTION:Elke woensdagmiddag is er kaarten en koffiedrinken op het Kerkschip. Iedereen welkom.
URL:https://www.kscc.nl/event/kaarten-en-koffiedrinken-op-het-kscc-in-raamsdonksveer-4/2025-11-26/
LOCATION:KSCC Het Zuiden\, Reenweg 1\, Raamsdonksveer\, 4942 VB\, Nederland
CATEGORIES:KSCC
ATTACH;FMTTYPE=image/jpeg:https://www.kscc.nl/wp-content/uploads/2023/03/Kaarten-en-koffie-Raamsdonksveer.jpg
GEO:51.7036444;4.8689386
X-APPLE-STRUCTURED-LOCATION;VALUE=URI;X-ADDRESS=KSCC Het Zuiden Reenweg 1 Raamsdonksveer 4942 VB Nederland;X-APPLE-RADIUS=500;X-TITLE=Reenweg 1:geo:4.8689386,51.7036444
END:VEVENT
BEGIN:VEVENT
DTSTART;TZID=Europe/Amsterdam:20251119T133000
DTEND;TZID=Europe/Amsterdam:20251119T170000
DTSTAMP:20260421T130904
CREATED:20250205T111332Z
LAST-MODIFIED:20250205T112717Z
UID:10005489-1763559000-1763571600@www.kscc.nl
SUMMARY:Kaarten en koffiedrinken op het KSCC in Raamsdonksveer
DESCRIPTION:Elke woensdagmiddag is er kaarten en koffiedrinken op het Kerkschip. Iedereen welkom.
URL:https://www.kscc.nl/event/kaarten-en-koffiedrinken-op-het-kscc-in-raamsdonksveer-4/2025-11-19/
LOCATION:KSCC Het Zuiden\, Reenweg 1\, Raamsdonksveer\, 4942 VB\, Nederland
CATEGORIES:KSCC
ATTACH;FMTTYPE=image/jpeg:https://www.kscc.nl/wp-content/uploads/2023/03/Kaarten-en-koffie-Raamsdonksveer.jpg
GEO:51.7036444;4.8689386
X-APPLE-STRUCTURED-LOCATION;VALUE=URI;X-ADDRESS=KSCC Het Zuiden Reenweg 1 Raamsdonksveer 4942 VB Nederland;X-APPLE-RADIUS=500;X-TITLE=Reenweg 1:geo:4.8689386,51.7036444
END:VEVENT
BEGIN:VEVENT
DTSTART;TZID=Europe/Amsterdam:20251112T133000
DTEND;TZID=Europe/Amsterdam:20251112T170000
DTSTAMP:20260421T130904
CREATED:20250205T111332Z
LAST-MODIFIED:20250205T112717Z
UID:10005488-1762954200-1762966800@www.kscc.nl
SUMMARY:Kaarten en koffiedrinken op het KSCC in Raamsdonksveer
DESCRIPTION:Elke woensdagmiddag is er kaarten en koffiedrinken op het Kerkschip. Iedereen welkom.
URL:https://www.kscc.nl/event/kaarten-en-koffiedrinken-op-het-kscc-in-raamsdonksveer-4/2025-11-12/
LOCATION:KSCC Het Zuiden\, Reenweg 1\, Raamsdonksveer\, 4942 VB\, Nederland
CATEGORIES:KSCC
ATTACH;FMTTYPE=image/jpeg:https://www.kscc.nl/wp-content/uploads/2023/03/Kaarten-en-koffie-Raamsdonksveer.jpg
GEO:51.7036444;4.8689386
X-APPLE-STRUCTURED-LOCATION;VALUE=URI;X-ADDRESS=KSCC Het Zuiden Reenweg 1 Raamsdonksveer 4942 VB Nederland;X-APPLE-RADIUS=500;X-TITLE=Reenweg 1:geo:4.8689386,51.7036444
END:VEVENT
BEGIN:VEVENT
DTSTART;TZID=Europe/Amsterdam:20251109T103000
DTEND;TZID=Europe/Amsterdam:20251109T113000
DTSTAMP:20260421T130904
CREATED:20240828T094322Z
LAST-MODIFIED:20240828T094515Z
UID:10005366-1762684200-1762687800@www.kscc.nl
SUMMARY:Eucharistieviering op het KSCC Het Zuiden
DESCRIPTION:Eucharistieviering met celebrant Ad Blommerde. Na de viering is er een bestuurslid aanwezig.
URL:https://www.kscc.nl/event/eucharistieviering-op-het-kscc-het-zuiden-2/2025-11-09/
LOCATION:KSCC Het Zuiden\, Reenweg 1\, Raamsdonksveer\, 4942 VB\, Nederland
CATEGORIES:Parochie
ATTACH;FMTTYPE=image/jpeg:https://www.kscc.nl/wp-content/uploads/2021/09/2021-09-19-Kerkschip-Raamsdonksveer-59.jpg
GEO:51.7036444;4.8689386
X-APPLE-STRUCTURED-LOCATION;VALUE=URI;X-ADDRESS=KSCC Het Zuiden Reenweg 1 Raamsdonksveer 4942 VB Nederland;X-APPLE-RADIUS=500;X-TITLE=Reenweg 1:geo:4.8689386,51.7036444
END:VEVENT
BEGIN:VEVENT
DTSTART;TZID=Europe/Amsterdam:20251105T133000
DTEND;TZID=Europe/Amsterdam:20251105T170000
DTSTAMP:20260421T130904
CREATED:20250205T111332Z
LAST-MODIFIED:20250205T112717Z
UID:10005487-1762349400-1762362000@www.kscc.nl
SUMMARY:Kaarten en koffiedrinken op het KSCC in Raamsdonksveer
DESCRIPTION:Elke woensdagmiddag is er kaarten en koffiedrinken op het Kerkschip. Iedereen welkom.
URL:https://www.kscc.nl/event/kaarten-en-koffiedrinken-op-het-kscc-in-raamsdonksveer-4/2025-11-05/
LOCATION:KSCC Het Zuiden\, Reenweg 1\, Raamsdonksveer\, 4942 VB\, Nederland
CATEGORIES:KSCC
ATTACH;FMTTYPE=image/jpeg:https://www.kscc.nl/wp-content/uploads/2023/03/Kaarten-en-koffie-Raamsdonksveer.jpg
GEO:51.7036444;4.8689386
X-APPLE-STRUCTURED-LOCATION;VALUE=URI;X-ADDRESS=KSCC Het Zuiden Reenweg 1 Raamsdonksveer 4942 VB Nederland;X-APPLE-RADIUS=500;X-TITLE=Reenweg 1:geo:4.8689386,51.7036444
END:VEVENT
BEGIN:VEVENT
DTSTART;TZID=Europe/Amsterdam:20251029T133000
DTEND;TZID=Europe/Amsterdam:20251029T170000
DTSTAMP:20260421T130904
CREATED:20250205T111332Z
LAST-MODIFIED:20250205T112717Z
UID:10005486-1761744600-1761757200@www.kscc.nl
SUMMARY:Kaarten en koffiedrinken op het KSCC in Raamsdonksveer
DESCRIPTION:Elke woensdagmiddag is er kaarten en koffiedrinken op het Kerkschip. Iedereen welkom.
URL:https://www.kscc.nl/event/kaarten-en-koffiedrinken-op-het-kscc-in-raamsdonksveer-4/2025-10-29/
LOCATION:KSCC Het Zuiden\, Reenweg 1\, Raamsdonksveer\, 4942 VB\, Nederland
CATEGORIES:KSCC
ATTACH;FMTTYPE=image/jpeg:https://www.kscc.nl/wp-content/uploads/2023/03/Kaarten-en-koffie-Raamsdonksveer.jpg
GEO:51.7036444;4.8689386
X-APPLE-STRUCTURED-LOCATION;VALUE=URI;X-ADDRESS=KSCC Het Zuiden Reenweg 1 Raamsdonksveer 4942 VB Nederland;X-APPLE-RADIUS=500;X-TITLE=Reenweg 1:geo:4.8689386,51.7036444
END:VEVENT
BEGIN:VEVENT
DTSTART;TZID=Europe/Amsterdam:20251022T133000
DTEND;TZID=Europe/Amsterdam:20251022T170000
DTSTAMP:20260421T130904
CREATED:20250205T111332Z
LAST-MODIFIED:20250205T112717Z
UID:10005485-1761139800-1761152400@www.kscc.nl
SUMMARY:Kaarten en koffiedrinken op het KSCC in Raamsdonksveer
DESCRIPTION:Elke woensdagmiddag is er kaarten en koffiedrinken op het Kerkschip. Iedereen welkom.
URL:https://www.kscc.nl/event/kaarten-en-koffiedrinken-op-het-kscc-in-raamsdonksveer-4/2025-10-22/
LOCATION:KSCC Het Zuiden\, Reenweg 1\, Raamsdonksveer\, 4942 VB\, Nederland
CATEGORIES:KSCC
ATTACH;FMTTYPE=image/jpeg:https://www.kscc.nl/wp-content/uploads/2023/03/Kaarten-en-koffie-Raamsdonksveer.jpg
GEO:51.7036444;4.8689386
X-APPLE-STRUCTURED-LOCATION;VALUE=URI;X-ADDRESS=KSCC Het Zuiden Reenweg 1 Raamsdonksveer 4942 VB Nederland;X-APPLE-RADIUS=500;X-TITLE=Reenweg 1:geo:4.8689386,51.7036444
END:VEVENT
BEGIN:VEVENT
DTSTART;TZID=Europe/Amsterdam:20251015T133000
DTEND;TZID=Europe/Amsterdam:20251015T170000
DTSTAMP:20260421T130904
CREATED:20250205T111332Z
LAST-MODIFIED:20250205T112717Z
UID:10005484-1760535000-1760547600@www.kscc.nl
SUMMARY:Kaarten en koffiedrinken op het KSCC in Raamsdonksveer
DESCRIPTION:Elke woensdagmiddag is er kaarten en koffiedrinken op het Kerkschip. Iedereen welkom.
URL:https://www.kscc.nl/event/kaarten-en-koffiedrinken-op-het-kscc-in-raamsdonksveer-4/2025-10-15/
LOCATION:KSCC Het Zuiden\, Reenweg 1\, Raamsdonksveer\, 4942 VB\, Nederland
CATEGORIES:KSCC
ATTACH;FMTTYPE=image/jpeg:https://www.kscc.nl/wp-content/uploads/2023/03/Kaarten-en-koffie-Raamsdonksveer.jpg
GEO:51.7036444;4.8689386
X-APPLE-STRUCTURED-LOCATION;VALUE=URI;X-ADDRESS=KSCC Het Zuiden Reenweg 1 Raamsdonksveer 4942 VB Nederland;X-APPLE-RADIUS=500;X-TITLE=Reenweg 1:geo:4.8689386,51.7036444
END:VEVENT
BEGIN:VEVENT
DTSTART;TZID=Europe/Amsterdam:20251012T103000
DTEND;TZID=Europe/Amsterdam:20251012T113000
DTSTAMP:20260421T130904
CREATED:20240828T094322Z
LAST-MODIFIED:20240828T094515Z
UID:10005365-1760265000-1760268600@www.kscc.nl
SUMMARY:Eucharistieviering op het KSCC Het Zuiden
DESCRIPTION:Eucharistieviering met celebrant Ad Blommerde. Na de viering is er een bestuurslid aanwezig.
URL:https://www.kscc.nl/event/eucharistieviering-op-het-kscc-het-zuiden-2/2025-10-12/
LOCATION:KSCC Het Zuiden\, Reenweg 1\, Raamsdonksveer\, 4942 VB\, Nederland
CATEGORIES:Parochie
ATTACH;FMTTYPE=image/jpeg:https://www.kscc.nl/wp-content/uploads/2021/09/2021-09-19-Kerkschip-Raamsdonksveer-59.jpg
GEO:51.7036444;4.8689386
X-APPLE-STRUCTURED-LOCATION;VALUE=URI;X-ADDRESS=KSCC Het Zuiden Reenweg 1 Raamsdonksveer 4942 VB Nederland;X-APPLE-RADIUS=500;X-TITLE=Reenweg 1:geo:4.8689386,51.7036444
END:VEVENT
BEGIN:VEVENT
DTSTART;TZID=Europe/Amsterdam:20251008T133000
DTEND;TZID=Europe/Amsterdam:20251008T170000
DTSTAMP:20260421T130904
CREATED:20250205T111332Z
LAST-MODIFIED:20250205T112717Z
UID:10005483-1759930200-1759942800@www.kscc.nl
SUMMARY:Kaarten en koffiedrinken op het KSCC in Raamsdonksveer
DESCRIPTION:Elke woensdagmiddag is er kaarten en koffiedrinken op het Kerkschip. Iedereen welkom.
URL:https://www.kscc.nl/event/kaarten-en-koffiedrinken-op-het-kscc-in-raamsdonksveer-4/2025-10-08/
LOCATION:KSCC Het Zuiden\, Reenweg 1\, Raamsdonksveer\, 4942 VB\, Nederland
CATEGORIES:KSCC
ATTACH;FMTTYPE=image/jpeg:https://www.kscc.nl/wp-content/uploads/2023/03/Kaarten-en-koffie-Raamsdonksveer.jpg
GEO:51.7036444;4.8689386
X-APPLE-STRUCTURED-LOCATION;VALUE=URI;X-ADDRESS=KSCC Het Zuiden Reenweg 1 Raamsdonksveer 4942 VB Nederland;X-APPLE-RADIUS=500;X-TITLE=Reenweg 1:geo:4.8689386,51.7036444
END:VEVENT
BEGIN:VEVENT
DTSTART;TZID=Europe/Amsterdam:20251001T133000
DTEND;TZID=Europe/Amsterdam:20251001T170000
DTSTAMP:20260421T130904
CREATED:20250205T111332Z
LAST-MODIFIED:20250205T112717Z
UID:10005482-1759325400-1759338000@www.kscc.nl
SUMMARY:Kaarten en koffiedrinken op het KSCC in Raamsdonksveer
DESCRIPTION:Elke woensdagmiddag is er kaarten en koffiedrinken op het Kerkschip. Iedereen welkom.
URL:https://www.kscc.nl/event/kaarten-en-koffiedrinken-op-het-kscc-in-raamsdonksveer-4/2025-10-01/
LOCATION:KSCC Het Zuiden\, Reenweg 1\, Raamsdonksveer\, 4942 VB\, Nederland
CATEGORIES:KSCC
ATTACH;FMTTYPE=image/jpeg:https://www.kscc.nl/wp-content/uploads/2023/03/Kaarten-en-koffie-Raamsdonksveer.jpg
GEO:51.7036444;4.8689386
X-APPLE-STRUCTURED-LOCATION;VALUE=URI;X-ADDRESS=KSCC Het Zuiden Reenweg 1 Raamsdonksveer 4942 VB Nederland;X-APPLE-RADIUS=500;X-TITLE=Reenweg 1:geo:4.8689386,51.7036444
END:VEVENT
BEGIN:VEVENT
DTSTART;TZID=Europe/Amsterdam:20250924T133000
DTEND;TZID=Europe/Amsterdam:20250924T170000
DTSTAMP:20260421T130904
CREATED:20250205T111332Z
LAST-MODIFIED:20250205T112717Z
UID:10005481-1758720600-1758733200@www.kscc.nl
SUMMARY:Kaarten en koffiedrinken op het KSCC in Raamsdonksveer
DESCRIPTION:Elke woensdagmiddag is er kaarten en koffiedrinken op het Kerkschip. Iedereen welkom.
URL:https://www.kscc.nl/event/kaarten-en-koffiedrinken-op-het-kscc-in-raamsdonksveer-4/2025-09-24/
LOCATION:KSCC Het Zuiden\, Reenweg 1\, Raamsdonksveer\, 4942 VB\, Nederland
CATEGORIES:KSCC
ATTACH;FMTTYPE=image/jpeg:https://www.kscc.nl/wp-content/uploads/2023/03/Kaarten-en-koffie-Raamsdonksveer.jpg
GEO:51.7036444;4.8689386
X-APPLE-STRUCTURED-LOCATION;VALUE=URI;X-ADDRESS=KSCC Het Zuiden Reenweg 1 Raamsdonksveer 4942 VB Nederland;X-APPLE-RADIUS=500;X-TITLE=Reenweg 1:geo:4.8689386,51.7036444
END:VEVENT
BEGIN:VEVENT
DTSTART;TZID=Europe/Amsterdam:20250917T133000
DTEND;TZID=Europe/Amsterdam:20250917T170000
DTSTAMP:20260421T130904
CREATED:20250205T111332Z
LAST-MODIFIED:20250205T112717Z
UID:10005480-1758115800-1758128400@www.kscc.nl
SUMMARY:Kaarten en koffiedrinken op het KSCC in Raamsdonksveer
DESCRIPTION:Elke woensdagmiddag is er kaarten en koffiedrinken op het Kerkschip. Iedereen welkom.
URL:https://www.kscc.nl/event/kaarten-en-koffiedrinken-op-het-kscc-in-raamsdonksveer-4/2025-09-17/
LOCATION:KSCC Het Zuiden\, Reenweg 1\, Raamsdonksveer\, 4942 VB\, Nederland
CATEGORIES:KSCC
ATTACH;FMTTYPE=image/jpeg:https://www.kscc.nl/wp-content/uploads/2023/03/Kaarten-en-koffie-Raamsdonksveer.jpg
GEO:51.7036444;4.8689386
X-APPLE-STRUCTURED-LOCATION;VALUE=URI;X-ADDRESS=KSCC Het Zuiden Reenweg 1 Raamsdonksveer 4942 VB Nederland;X-APPLE-RADIUS=500;X-TITLE=Reenweg 1:geo:4.8689386,51.7036444
END:VEVENT
BEGIN:VEVENT
DTSTART;TZID=Europe/Amsterdam:20250914T103000
DTEND;TZID=Europe/Amsterdam:20250914T113000
DTSTAMP:20260421T130904
CREATED:20240828T094322Z
LAST-MODIFIED:20240828T094515Z
UID:10005364-1757845800-1757849400@www.kscc.nl
SUMMARY:Eucharistieviering op het KSCC Het Zuiden
DESCRIPTION:Eucharistieviering met celebrant Ad Blommerde. Na de viering is er een bestuurslid aanwezig.
URL:https://www.kscc.nl/event/eucharistieviering-op-het-kscc-het-zuiden-2/2025-09-14/
LOCATION:KSCC Het Zuiden\, Reenweg 1\, Raamsdonksveer\, 4942 VB\, Nederland
CATEGORIES:Parochie
ATTACH;FMTTYPE=image/jpeg:https://www.kscc.nl/wp-content/uploads/2021/09/2021-09-19-Kerkschip-Raamsdonksveer-59.jpg
GEO:51.7036444;4.8689386
X-APPLE-STRUCTURED-LOCATION;VALUE=URI;X-ADDRESS=KSCC Het Zuiden Reenweg 1 Raamsdonksveer 4942 VB Nederland;X-APPLE-RADIUS=500;X-TITLE=Reenweg 1:geo:4.8689386,51.7036444
END:VEVENT
BEGIN:VEVENT
DTSTART;TZID=Europe/Amsterdam:20250910T133000
DTEND;TZID=Europe/Amsterdam:20250910T170000
DTSTAMP:20260421T130904
CREATED:20250205T111332Z
LAST-MODIFIED:20250205T112717Z
UID:10005479-1757511000-1757523600@www.kscc.nl
SUMMARY:Kaarten en koffiedrinken op het KSCC in Raamsdonksveer
DESCRIPTION:Elke woensdagmiddag is er kaarten en koffiedrinken op het Kerkschip. Iedereen welkom.
URL:https://www.kscc.nl/event/kaarten-en-koffiedrinken-op-het-kscc-in-raamsdonksveer-4/2025-09-10/
LOCATION:KSCC Het Zuiden\, Reenweg 1\, Raamsdonksveer\, 4942 VB\, Nederland
CATEGORIES:KSCC
ATTACH;FMTTYPE=image/jpeg:https://www.kscc.nl/wp-content/uploads/2023/03/Kaarten-en-koffie-Raamsdonksveer.jpg
GEO:51.7036444;4.8689386
X-APPLE-STRUCTURED-LOCATION;VALUE=URI;X-ADDRESS=KSCC Het Zuiden Reenweg 1 Raamsdonksveer 4942 VB Nederland;X-APPLE-RADIUS=500;X-TITLE=Reenweg 1:geo:4.8689386,51.7036444
END:VEVENT
END:VCALENDAR