BEGIN:VCALENDAR
VERSION:2.0
PRODID:-//KSCC - ECPv6.15.20//NONSGML v1.0//EN
CALSCALE:GREGORIAN
METHOD:PUBLISH
X-WR-CALNAME:KSCC
X-ORIGINAL-URL:https://www.kscc.nl
X-WR-CALDESC:Evenementen voor KSCC
REFRESH-INTERVAL;VALUE=DURATION:PT1H
X-Robots-Tag:noindex
X-PUBLISHED-TTL:PT1H
BEGIN:VTIMEZONE
TZID:Europe/Amsterdam
BEGIN:DAYLIGHT
TZOFFSETFROM:+0100
TZOFFSETTO:+0200
TZNAME:CEST
DTSTART:20250330T010000
END:DAYLIGHT
BEGIN:STANDARD
TZOFFSETFROM:+0200
TZOFFSETTO:+0100
TZNAME:CET
DTSTART:20251026T010000
END:STANDARD
BEGIN:DAYLIGHT
TZOFFSETFROM:+0100
TZOFFSETTO:+0200
TZNAME:CEST
DTSTART:20260329T010000
END:DAYLIGHT
BEGIN:STANDARD
TZOFFSETFROM:+0200
TZOFFSETTO:+0100
TZNAME:CET
DTSTART:20261025T010000
END:STANDARD
BEGIN:DAYLIGHT
TZOFFSETFROM:+0100
TZOFFSETTO:+0200
TZNAME:CEST
DTSTART:20270328T010000
END:DAYLIGHT
BEGIN:STANDARD
TZOFFSETFROM:+0200
TZOFFSETTO:+0100
TZNAME:CET
DTSTART:20271031T010000
END:STANDARD
BEGIN:DAYLIGHT
TZOFFSETFROM:+0100
TZOFFSETTO:+0200
TZNAME:CEST
DTSTART:20280326T010000
END:DAYLIGHT
BEGIN:STANDARD
TZOFFSETFROM:+0200
TZOFFSETTO:+0100
TZNAME:CET
DTSTART:20281029T010000
END:STANDARD
BEGIN:DAYLIGHT
TZOFFSETFROM:+0100
TZOFFSETTO:+0200
TZNAME:CEST
DTSTART:20290325T010000
END:DAYLIGHT
BEGIN:STANDARD
TZOFFSETFROM:+0200
TZOFFSETTO:+0100
TZNAME:CET
DTSTART:20291028T010000
END:STANDARD
END:VTIMEZONE
BEGIN:VEVENT
DTSTART;TZID=Europe/Amsterdam:20260510T103000
DTEND;TZID=Europe/Amsterdam:20260510T113000
DTSTAMP:20260421T130005
CREATED:20240828T094322Z
LAST-MODIFIED:20240828T094515Z
UID:10005372-1778409000-1778412600@www.kscc.nl
SUMMARY:Eucharistieviering op het KSCC Het Zuiden
DESCRIPTION:Eucharistieviering met celebrant Ad Blommerde. Na de viering is er een bestuurslid aanwezig.
URL:https://www.kscc.nl/event/eucharistieviering-op-het-kscc-het-zuiden-2/2026-05-10/
LOCATION:KSCC Het Zuiden\, Reenweg 1\, Raamsdonksveer\, 4942 VB\, Nederland
CATEGORIES:Parochie
ATTACH;FMTTYPE=image/jpeg:https://www.kscc.nl/wp-content/uploads/2021/09/2021-09-19-Kerkschip-Raamsdonksveer-59.jpg
GEO:51.7036444;4.8689386
X-APPLE-STRUCTURED-LOCATION;VALUE=URI;X-ADDRESS=KSCC Het Zuiden Reenweg 1 Raamsdonksveer 4942 VB Nederland;X-APPLE-RADIUS=500;X-TITLE=Reenweg 1:geo:4.8689386,51.7036444
END:VEVENT
BEGIN:VEVENT
DTSTART;TZID=Europe/Amsterdam:20260614T103000
DTEND;TZID=Europe/Amsterdam:20260614T113000
DTSTAMP:20260421T130005
CREATED:20240828T094322Z
LAST-MODIFIED:20240828T094515Z
UID:10005373-1781433000-1781436600@www.kscc.nl
SUMMARY:Eucharistieviering op het KSCC Het Zuiden
DESCRIPTION:Eucharistieviering met celebrant Ad Blommerde. Na de viering is er een bestuurslid aanwezig.
URL:https://www.kscc.nl/event/eucharistieviering-op-het-kscc-het-zuiden-2/2026-06-14/
LOCATION:KSCC Het Zuiden\, Reenweg 1\, Raamsdonksveer\, 4942 VB\, Nederland
CATEGORIES:Parochie
ATTACH;FMTTYPE=image/jpeg:https://www.kscc.nl/wp-content/uploads/2021/09/2021-09-19-Kerkschip-Raamsdonksveer-59.jpg
GEO:51.7036444;4.8689386
X-APPLE-STRUCTURED-LOCATION;VALUE=URI;X-ADDRESS=KSCC Het Zuiden Reenweg 1 Raamsdonksveer 4942 VB Nederland;X-APPLE-RADIUS=500;X-TITLE=Reenweg 1:geo:4.8689386,51.7036444
END:VEVENT
BEGIN:VEVENT
DTSTART;TZID=Europe/Amsterdam:20260712T103000
DTEND;TZID=Europe/Amsterdam:20260712T113000
DTSTAMP:20260421T130005
CREATED:20240828T094322Z
LAST-MODIFIED:20240828T094515Z
UID:10005374-1783852200-1783855800@www.kscc.nl
SUMMARY:Eucharistieviering op het KSCC Het Zuiden
DESCRIPTION:Eucharistieviering met celebrant Ad Blommerde. Na de viering is er een bestuurslid aanwezig.
URL:https://www.kscc.nl/event/eucharistieviering-op-het-kscc-het-zuiden-2/2026-07-12/
LOCATION:KSCC Het Zuiden\, Reenweg 1\, Raamsdonksveer\, 4942 VB\, Nederland
CATEGORIES:Parochie
ATTACH;FMTTYPE=image/jpeg:https://www.kscc.nl/wp-content/uploads/2021/09/2021-09-19-Kerkschip-Raamsdonksveer-59.jpg
GEO:51.7036444;4.8689386
X-APPLE-STRUCTURED-LOCATION;VALUE=URI;X-ADDRESS=KSCC Het Zuiden Reenweg 1 Raamsdonksveer 4942 VB Nederland;X-APPLE-RADIUS=500;X-TITLE=Reenweg 1:geo:4.8689386,51.7036444
END:VEVENT
BEGIN:VEVENT
DTSTART;TZID=Europe/Amsterdam:20260809T103000
DTEND;TZID=Europe/Amsterdam:20260809T113000
DTSTAMP:20260421T130005
CREATED:20240828T094322Z
LAST-MODIFIED:20240828T094515Z
UID:10005375-1786271400-1786275000@www.kscc.nl
SUMMARY:Eucharistieviering op het KSCC Het Zuiden
DESCRIPTION:Eucharistieviering met celebrant Ad Blommerde. Na de viering is er een bestuurslid aanwezig.
URL:https://www.kscc.nl/event/eucharistieviering-op-het-kscc-het-zuiden-2/2026-08-09/
LOCATION:KSCC Het Zuiden\, Reenweg 1\, Raamsdonksveer\, 4942 VB\, Nederland
CATEGORIES:Parochie
ATTACH;FMTTYPE=image/jpeg:https://www.kscc.nl/wp-content/uploads/2021/09/2021-09-19-Kerkschip-Raamsdonksveer-59.jpg
GEO:51.7036444;4.8689386
X-APPLE-STRUCTURED-LOCATION;VALUE=URI;X-ADDRESS=KSCC Het Zuiden Reenweg 1 Raamsdonksveer 4942 VB Nederland;X-APPLE-RADIUS=500;X-TITLE=Reenweg 1:geo:4.8689386,51.7036444
END:VEVENT
BEGIN:VEVENT
DTSTART;TZID=Europe/Amsterdam:20260913T103000
DTEND;TZID=Europe/Amsterdam:20260913T113000
DTSTAMP:20260421T130005
CREATED:20240828T094322Z
LAST-MODIFIED:20240828T094515Z
UID:10005376-1789295400-1789299000@www.kscc.nl
SUMMARY:Eucharistieviering op het KSCC Het Zuiden
DESCRIPTION:Eucharistieviering met celebrant Ad Blommerde. Na de viering is er een bestuurslid aanwezig.
URL:https://www.kscc.nl/event/eucharistieviering-op-het-kscc-het-zuiden-2/2026-09-13/
LOCATION:KSCC Het Zuiden\, Reenweg 1\, Raamsdonksveer\, 4942 VB\, Nederland
CATEGORIES:Parochie
ATTACH;FMTTYPE=image/jpeg:https://www.kscc.nl/wp-content/uploads/2021/09/2021-09-19-Kerkschip-Raamsdonksveer-59.jpg
GEO:51.7036444;4.8689386
X-APPLE-STRUCTURED-LOCATION;VALUE=URI;X-ADDRESS=KSCC Het Zuiden Reenweg 1 Raamsdonksveer 4942 VB Nederland;X-APPLE-RADIUS=500;X-TITLE=Reenweg 1:geo:4.8689386,51.7036444
END:VEVENT
BEGIN:VEVENT
DTSTART;TZID=Europe/Amsterdam:20261011T103000
DTEND;TZID=Europe/Amsterdam:20261011T113000
DTSTAMP:20260421T130005
CREATED:20240828T094322Z
LAST-MODIFIED:20240828T094515Z
UID:10005377-1791714600-1791718200@www.kscc.nl
SUMMARY:Eucharistieviering op het KSCC Het Zuiden
DESCRIPTION:Eucharistieviering met celebrant Ad Blommerde. Na de viering is er een bestuurslid aanwezig.
URL:https://www.kscc.nl/event/eucharistieviering-op-het-kscc-het-zuiden-2/2026-10-11/
LOCATION:KSCC Het Zuiden\, Reenweg 1\, Raamsdonksveer\, 4942 VB\, Nederland
CATEGORIES:Parochie
ATTACH;FMTTYPE=image/jpeg:https://www.kscc.nl/wp-content/uploads/2021/09/2021-09-19-Kerkschip-Raamsdonksveer-59.jpg
GEO:51.7036444;4.8689386
X-APPLE-STRUCTURED-LOCATION;VALUE=URI;X-ADDRESS=KSCC Het Zuiden Reenweg 1 Raamsdonksveer 4942 VB Nederland;X-APPLE-RADIUS=500;X-TITLE=Reenweg 1:geo:4.8689386,51.7036444
END:VEVENT
BEGIN:VEVENT
DTSTART;TZID=Europe/Amsterdam:20261108T103000
DTEND;TZID=Europe/Amsterdam:20261108T113000
DTSTAMP:20260421T130005
CREATED:20240828T094322Z
LAST-MODIFIED:20240828T094515Z
UID:10005378-1794133800-1794137400@www.kscc.nl
SUMMARY:Eucharistieviering op het KSCC Het Zuiden
DESCRIPTION:Eucharistieviering met celebrant Ad Blommerde. Na de viering is er een bestuurslid aanwezig.
URL:https://www.kscc.nl/event/eucharistieviering-op-het-kscc-het-zuiden-2/2026-11-08/
LOCATION:KSCC Het Zuiden\, Reenweg 1\, Raamsdonksveer\, 4942 VB\, Nederland
CATEGORIES:Parochie
ATTACH;FMTTYPE=image/jpeg:https://www.kscc.nl/wp-content/uploads/2021/09/2021-09-19-Kerkschip-Raamsdonksveer-59.jpg
GEO:51.7036444;4.8689386
X-APPLE-STRUCTURED-LOCATION;VALUE=URI;X-ADDRESS=KSCC Het Zuiden Reenweg 1 Raamsdonksveer 4942 VB Nederland;X-APPLE-RADIUS=500;X-TITLE=Reenweg 1:geo:4.8689386,51.7036444
END:VEVENT
BEGIN:VEVENT
DTSTART;TZID=Europe/Amsterdam:20261213T103000
DTEND;TZID=Europe/Amsterdam:20261213T113000
DTSTAMP:20260421T130005
CREATED:20240828T094322Z
LAST-MODIFIED:20240828T094515Z
UID:10005379-1797157800-1797161400@www.kscc.nl
SUMMARY:Eucharistieviering op het KSCC Het Zuiden
DESCRIPTION:Eucharistieviering met celebrant Ad Blommerde. Na de viering is er een bestuurslid aanwezig.
URL:https://www.kscc.nl/event/eucharistieviering-op-het-kscc-het-zuiden-2/2026-12-13/
LOCATION:KSCC Het Zuiden\, Reenweg 1\, Raamsdonksveer\, 4942 VB\, Nederland
CATEGORIES:Parochie
ATTACH;FMTTYPE=image/jpeg:https://www.kscc.nl/wp-content/uploads/2021/09/2021-09-19-Kerkschip-Raamsdonksveer-59.jpg
GEO:51.7036444;4.8689386
X-APPLE-STRUCTURED-LOCATION;VALUE=URI;X-ADDRESS=KSCC Het Zuiden Reenweg 1 Raamsdonksveer 4942 VB Nederland;X-APPLE-RADIUS=500;X-TITLE=Reenweg 1:geo:4.8689386,51.7036444
END:VEVENT
BEGIN:VEVENT
DTSTART;TZID=Europe/Amsterdam:20270110T103000
DTEND;TZID=Europe/Amsterdam:20270110T113000
DTSTAMP:20260421T130005
CREATED:20240828T094322Z
LAST-MODIFIED:20240828T094515Z
UID:10005380-1799577000-1799580600@www.kscc.nl
SUMMARY:Eucharistieviering op het KSCC Het Zuiden
DESCRIPTION:Eucharistieviering met celebrant Ad Blommerde. Na de viering is er een bestuurslid aanwezig.
URL:https://www.kscc.nl/event/eucharistieviering-op-het-kscc-het-zuiden-2/2027-01-10/
LOCATION:KSCC Het Zuiden\, Reenweg 1\, Raamsdonksveer\, 4942 VB\, Nederland
CATEGORIES:Parochie
ATTACH;FMTTYPE=image/jpeg:https://www.kscc.nl/wp-content/uploads/2021/09/2021-09-19-Kerkschip-Raamsdonksveer-59.jpg
GEO:51.7036444;4.8689386
X-APPLE-STRUCTURED-LOCATION;VALUE=URI;X-ADDRESS=KSCC Het Zuiden Reenweg 1 Raamsdonksveer 4942 VB Nederland;X-APPLE-RADIUS=500;X-TITLE=Reenweg 1:geo:4.8689386,51.7036444
END:VEVENT
BEGIN:VEVENT
DTSTART;TZID=Europe/Amsterdam:20270214T103000
DTEND;TZID=Europe/Amsterdam:20270214T113000
DTSTAMP:20260421T130005
CREATED:20240828T094322Z
LAST-MODIFIED:20240828T094515Z
UID:10005381-1802601000-1802604600@www.kscc.nl
SUMMARY:Eucharistieviering op het KSCC Het Zuiden
DESCRIPTION:Eucharistieviering met celebrant Ad Blommerde. Na de viering is er een bestuurslid aanwezig.
URL:https://www.kscc.nl/event/eucharistieviering-op-het-kscc-het-zuiden-2/2027-02-14/
LOCATION:KSCC Het Zuiden\, Reenweg 1\, Raamsdonksveer\, 4942 VB\, Nederland
CATEGORIES:Parochie
ATTACH;FMTTYPE=image/jpeg:https://www.kscc.nl/wp-content/uploads/2021/09/2021-09-19-Kerkschip-Raamsdonksveer-59.jpg
GEO:51.7036444;4.8689386
X-APPLE-STRUCTURED-LOCATION;VALUE=URI;X-ADDRESS=KSCC Het Zuiden Reenweg 1 Raamsdonksveer 4942 VB Nederland;X-APPLE-RADIUS=500;X-TITLE=Reenweg 1:geo:4.8689386,51.7036444
END:VEVENT
BEGIN:VEVENT
DTSTART;TZID=Europe/Amsterdam:20270314T103000
DTEND;TZID=Europe/Amsterdam:20270314T113000
DTSTAMP:20260421T130005
CREATED:20240828T094322Z
LAST-MODIFIED:20240828T094515Z
UID:10005382-1805020200-1805023800@www.kscc.nl
SUMMARY:Eucharistieviering op het KSCC Het Zuiden
DESCRIPTION:Eucharistieviering met celebrant Ad Blommerde. Na de viering is er een bestuurslid aanwezig.
URL:https://www.kscc.nl/event/eucharistieviering-op-het-kscc-het-zuiden-2/2027-03-14/
LOCATION:KSCC Het Zuiden\, Reenweg 1\, Raamsdonksveer\, 4942 VB\, Nederland
CATEGORIES:Parochie
ATTACH;FMTTYPE=image/jpeg:https://www.kscc.nl/wp-content/uploads/2021/09/2021-09-19-Kerkschip-Raamsdonksveer-59.jpg
GEO:51.7036444;4.8689386
X-APPLE-STRUCTURED-LOCATION;VALUE=URI;X-ADDRESS=KSCC Het Zuiden Reenweg 1 Raamsdonksveer 4942 VB Nederland;X-APPLE-RADIUS=500;X-TITLE=Reenweg 1:geo:4.8689386,51.7036444
END:VEVENT
BEGIN:VEVENT
DTSTART;TZID=Europe/Amsterdam:20270411T103000
DTEND;TZID=Europe/Amsterdam:20270411T113000
DTSTAMP:20260421T130005
CREATED:20240828T094322Z
LAST-MODIFIED:20240828T094515Z
UID:10005383-1807439400-1807443000@www.kscc.nl
SUMMARY:Eucharistieviering op het KSCC Het Zuiden
DESCRIPTION:Eucharistieviering met celebrant Ad Blommerde. Na de viering is er een bestuurslid aanwezig.
URL:https://www.kscc.nl/event/eucharistieviering-op-het-kscc-het-zuiden-2/2027-04-11/
LOCATION:KSCC Het Zuiden\, Reenweg 1\, Raamsdonksveer\, 4942 VB\, Nederland
CATEGORIES:Parochie
ATTACH;FMTTYPE=image/jpeg:https://www.kscc.nl/wp-content/uploads/2021/09/2021-09-19-Kerkschip-Raamsdonksveer-59.jpg
GEO:51.7036444;4.8689386
X-APPLE-STRUCTURED-LOCATION;VALUE=URI;X-ADDRESS=KSCC Het Zuiden Reenweg 1 Raamsdonksveer 4942 VB Nederland;X-APPLE-RADIUS=500;X-TITLE=Reenweg 1:geo:4.8689386,51.7036444
END:VEVENT
BEGIN:VEVENT
DTSTART;TZID=Europe/Amsterdam:20270509T103000
DTEND;TZID=Europe/Amsterdam:20270509T113000
DTSTAMP:20260421T130005
CREATED:20240828T094322Z
LAST-MODIFIED:20240828T094515Z
UID:10005384-1809858600-1809862200@www.kscc.nl
SUMMARY:Eucharistieviering op het KSCC Het Zuiden
DESCRIPTION:Eucharistieviering met celebrant Ad Blommerde. Na de viering is er een bestuurslid aanwezig.
URL:https://www.kscc.nl/event/eucharistieviering-op-het-kscc-het-zuiden-2/2027-05-09/
LOCATION:KSCC Het Zuiden\, Reenweg 1\, Raamsdonksveer\, 4942 VB\, Nederland
CATEGORIES:Parochie
ATTACH;FMTTYPE=image/jpeg:https://www.kscc.nl/wp-content/uploads/2021/09/2021-09-19-Kerkschip-Raamsdonksveer-59.jpg
GEO:51.7036444;4.8689386
X-APPLE-STRUCTURED-LOCATION;VALUE=URI;X-ADDRESS=KSCC Het Zuiden Reenweg 1 Raamsdonksveer 4942 VB Nederland;X-APPLE-RADIUS=500;X-TITLE=Reenweg 1:geo:4.8689386,51.7036444
END:VEVENT
BEGIN:VEVENT
DTSTART;TZID=Europe/Amsterdam:20270613T103000
DTEND;TZID=Europe/Amsterdam:20270613T113000
DTSTAMP:20260421T130005
CREATED:20240828T094322Z
LAST-MODIFIED:20240828T094515Z
UID:10005385-1812882600-1812886200@www.kscc.nl
SUMMARY:Eucharistieviering op het KSCC Het Zuiden
DESCRIPTION:Eucharistieviering met celebrant Ad Blommerde. Na de viering is er een bestuurslid aanwezig.
URL:https://www.kscc.nl/event/eucharistieviering-op-het-kscc-het-zuiden-2/2027-06-13/
LOCATION:KSCC Het Zuiden\, Reenweg 1\, Raamsdonksveer\, 4942 VB\, Nederland
CATEGORIES:Parochie
ATTACH;FMTTYPE=image/jpeg:https://www.kscc.nl/wp-content/uploads/2021/09/2021-09-19-Kerkschip-Raamsdonksveer-59.jpg
GEO:51.7036444;4.8689386
X-APPLE-STRUCTURED-LOCATION;VALUE=URI;X-ADDRESS=KSCC Het Zuiden Reenweg 1 Raamsdonksveer 4942 VB Nederland;X-APPLE-RADIUS=500;X-TITLE=Reenweg 1:geo:4.8689386,51.7036444
END:VEVENT
BEGIN:VEVENT
DTSTART;TZID=Europe/Amsterdam:20270711T103000
DTEND;TZID=Europe/Amsterdam:20270711T113000
DTSTAMP:20260421T130005
CREATED:20240828T094322Z
LAST-MODIFIED:20240828T094515Z
UID:10005386-1815301800-1815305400@www.kscc.nl
SUMMARY:Eucharistieviering op het KSCC Het Zuiden
DESCRIPTION:Eucharistieviering met celebrant Ad Blommerde. Na de viering is er een bestuurslid aanwezig.
URL:https://www.kscc.nl/event/eucharistieviering-op-het-kscc-het-zuiden-2/2027-07-11/
LOCATION:KSCC Het Zuiden\, Reenweg 1\, Raamsdonksveer\, 4942 VB\, Nederland
CATEGORIES:Parochie
ATTACH;FMTTYPE=image/jpeg:https://www.kscc.nl/wp-content/uploads/2021/09/2021-09-19-Kerkschip-Raamsdonksveer-59.jpg
GEO:51.7036444;4.8689386
X-APPLE-STRUCTURED-LOCATION;VALUE=URI;X-ADDRESS=KSCC Het Zuiden Reenweg 1 Raamsdonksveer 4942 VB Nederland;X-APPLE-RADIUS=500;X-TITLE=Reenweg 1:geo:4.8689386,51.7036444
END:VEVENT
BEGIN:VEVENT
DTSTART;TZID=Europe/Amsterdam:20270808T103000
DTEND;TZID=Europe/Amsterdam:20270808T113000
DTSTAMP:20260421T130005
CREATED:20240828T094322Z
LAST-MODIFIED:20240828T094515Z
UID:10005387-1817721000-1817724600@www.kscc.nl
SUMMARY:Eucharistieviering op het KSCC Het Zuiden
DESCRIPTION:Eucharistieviering met celebrant Ad Blommerde. Na de viering is er een bestuurslid aanwezig.
URL:https://www.kscc.nl/event/eucharistieviering-op-het-kscc-het-zuiden-2/2027-08-08/
LOCATION:KSCC Het Zuiden\, Reenweg 1\, Raamsdonksveer\, 4942 VB\, Nederland
CATEGORIES:Parochie
ATTACH;FMTTYPE=image/jpeg:https://www.kscc.nl/wp-content/uploads/2021/09/2021-09-19-Kerkschip-Raamsdonksveer-59.jpg
GEO:51.7036444;4.8689386
X-APPLE-STRUCTURED-LOCATION;VALUE=URI;X-ADDRESS=KSCC Het Zuiden Reenweg 1 Raamsdonksveer 4942 VB Nederland;X-APPLE-RADIUS=500;X-TITLE=Reenweg 1:geo:4.8689386,51.7036444
END:VEVENT
BEGIN:VEVENT
DTSTART;TZID=Europe/Amsterdam:20270912T103000
DTEND;TZID=Europe/Amsterdam:20270912T113000
DTSTAMP:20260421T130005
CREATED:20240828T094322Z
LAST-MODIFIED:20240828T094515Z
UID:10005388-1820745000-1820748600@www.kscc.nl
SUMMARY:Eucharistieviering op het KSCC Het Zuiden
DESCRIPTION:Eucharistieviering met celebrant Ad Blommerde. Na de viering is er een bestuurslid aanwezig.
URL:https://www.kscc.nl/event/eucharistieviering-op-het-kscc-het-zuiden-2/2027-09-12/
LOCATION:KSCC Het Zuiden\, Reenweg 1\, Raamsdonksveer\, 4942 VB\, Nederland
CATEGORIES:Parochie
ATTACH;FMTTYPE=image/jpeg:https://www.kscc.nl/wp-content/uploads/2021/09/2021-09-19-Kerkschip-Raamsdonksveer-59.jpg
GEO:51.7036444;4.8689386
X-APPLE-STRUCTURED-LOCATION;VALUE=URI;X-ADDRESS=KSCC Het Zuiden Reenweg 1 Raamsdonksveer 4942 VB Nederland;X-APPLE-RADIUS=500;X-TITLE=Reenweg 1:geo:4.8689386,51.7036444
END:VEVENT
BEGIN:VEVENT
DTSTART;TZID=Europe/Amsterdam:20271010T103000
DTEND;TZID=Europe/Amsterdam:20271010T113000
DTSTAMP:20260421T130005
CREATED:20240828T094322Z
LAST-MODIFIED:20240828T094515Z
UID:10005389-1823164200-1823167800@www.kscc.nl
SUMMARY:Eucharistieviering op het KSCC Het Zuiden
DESCRIPTION:Eucharistieviering met celebrant Ad Blommerde. Na de viering is er een bestuurslid aanwezig.
URL:https://www.kscc.nl/event/eucharistieviering-op-het-kscc-het-zuiden-2/2027-10-10/
LOCATION:KSCC Het Zuiden\, Reenweg 1\, Raamsdonksveer\, 4942 VB\, Nederland
CATEGORIES:Parochie
ATTACH;FMTTYPE=image/jpeg:https://www.kscc.nl/wp-content/uploads/2021/09/2021-09-19-Kerkschip-Raamsdonksveer-59.jpg
GEO:51.7036444;4.8689386
X-APPLE-STRUCTURED-LOCATION;VALUE=URI;X-ADDRESS=KSCC Het Zuiden Reenweg 1 Raamsdonksveer 4942 VB Nederland;X-APPLE-RADIUS=500;X-TITLE=Reenweg 1:geo:4.8689386,51.7036444
END:VEVENT
BEGIN:VEVENT
DTSTART;TZID=Europe/Amsterdam:20271114T103000
DTEND;TZID=Europe/Amsterdam:20271114T113000
DTSTAMP:20260421T130005
CREATED:20240828T094322Z
LAST-MODIFIED:20240828T094515Z
UID:10005390-1826188200-1826191800@www.kscc.nl
SUMMARY:Eucharistieviering op het KSCC Het Zuiden
DESCRIPTION:Eucharistieviering met celebrant Ad Blommerde. Na de viering is er een bestuurslid aanwezig.
URL:https://www.kscc.nl/event/eucharistieviering-op-het-kscc-het-zuiden-2/2027-11-14/
LOCATION:KSCC Het Zuiden\, Reenweg 1\, Raamsdonksveer\, 4942 VB\, Nederland
CATEGORIES:Parochie
ATTACH;FMTTYPE=image/jpeg:https://www.kscc.nl/wp-content/uploads/2021/09/2021-09-19-Kerkschip-Raamsdonksveer-59.jpg
GEO:51.7036444;4.8689386
X-APPLE-STRUCTURED-LOCATION;VALUE=URI;X-ADDRESS=KSCC Het Zuiden Reenweg 1 Raamsdonksveer 4942 VB Nederland;X-APPLE-RADIUS=500;X-TITLE=Reenweg 1:geo:4.8689386,51.7036444
END:VEVENT
BEGIN:VEVENT
DTSTART;TZID=Europe/Amsterdam:20271212T103000
DTEND;TZID=Europe/Amsterdam:20271212T113000
DTSTAMP:20260421T130005
CREATED:20240828T094322Z
LAST-MODIFIED:20240828T094515Z
UID:10005391-1828607400-1828611000@www.kscc.nl
SUMMARY:Eucharistieviering op het KSCC Het Zuiden
DESCRIPTION:Eucharistieviering met celebrant Ad Blommerde. Na de viering is er een bestuurslid aanwezig.
URL:https://www.kscc.nl/event/eucharistieviering-op-het-kscc-het-zuiden-2/2027-12-12/
LOCATION:KSCC Het Zuiden\, Reenweg 1\, Raamsdonksveer\, 4942 VB\, Nederland
CATEGORIES:Parochie
ATTACH;FMTTYPE=image/jpeg:https://www.kscc.nl/wp-content/uploads/2021/09/2021-09-19-Kerkschip-Raamsdonksveer-59.jpg
GEO:51.7036444;4.8689386
X-APPLE-STRUCTURED-LOCATION;VALUE=URI;X-ADDRESS=KSCC Het Zuiden Reenweg 1 Raamsdonksveer 4942 VB Nederland;X-APPLE-RADIUS=500;X-TITLE=Reenweg 1:geo:4.8689386,51.7036444
END:VEVENT
BEGIN:VEVENT
DTSTART;TZID=Europe/Amsterdam:20280109T103000
DTEND;TZID=Europe/Amsterdam:20280109T113000
DTSTAMP:20260421T130005
CREATED:20240828T094322Z
LAST-MODIFIED:20240828T094515Z
UID:10005392-1831026600-1831030200@www.kscc.nl
SUMMARY:Eucharistieviering op het KSCC Het Zuiden
DESCRIPTION:Eucharistieviering met celebrant Ad Blommerde. Na de viering is er een bestuurslid aanwezig.
URL:https://www.kscc.nl/event/eucharistieviering-op-het-kscc-het-zuiden-2/2028-01-09/
LOCATION:KSCC Het Zuiden\, Reenweg 1\, Raamsdonksveer\, 4942 VB\, Nederland
CATEGORIES:Parochie
ATTACH;FMTTYPE=image/jpeg:https://www.kscc.nl/wp-content/uploads/2021/09/2021-09-19-Kerkschip-Raamsdonksveer-59.jpg
GEO:51.7036444;4.8689386
X-APPLE-STRUCTURED-LOCATION;VALUE=URI;X-ADDRESS=KSCC Het Zuiden Reenweg 1 Raamsdonksveer 4942 VB Nederland;X-APPLE-RADIUS=500;X-TITLE=Reenweg 1:geo:4.8689386,51.7036444
END:VEVENT
BEGIN:VEVENT
DTSTART;TZID=Europe/Amsterdam:20280213T103000
DTEND;TZID=Europe/Amsterdam:20280213T113000
DTSTAMP:20260421T130005
CREATED:20240828T094322Z
LAST-MODIFIED:20240828T094515Z
UID:10005393-1834050600-1834054200@www.kscc.nl
SUMMARY:Eucharistieviering op het KSCC Het Zuiden
DESCRIPTION:Eucharistieviering met celebrant Ad Blommerde. Na de viering is er een bestuurslid aanwezig.
URL:https://www.kscc.nl/event/eucharistieviering-op-het-kscc-het-zuiden-2/2028-02-13/
LOCATION:KSCC Het Zuiden\, Reenweg 1\, Raamsdonksveer\, 4942 VB\, Nederland
CATEGORIES:Parochie
ATTACH;FMTTYPE=image/jpeg:https://www.kscc.nl/wp-content/uploads/2021/09/2021-09-19-Kerkschip-Raamsdonksveer-59.jpg
GEO:51.7036444;4.8689386
X-APPLE-STRUCTURED-LOCATION;VALUE=URI;X-ADDRESS=KSCC Het Zuiden Reenweg 1 Raamsdonksveer 4942 VB Nederland;X-APPLE-RADIUS=500;X-TITLE=Reenweg 1:geo:4.8689386,51.7036444
END:VEVENT
BEGIN:VEVENT
DTSTART;TZID=Europe/Amsterdam:20280312T103000
DTEND;TZID=Europe/Amsterdam:20280312T113000
DTSTAMP:20260421T130005
CREATED:20240828T094322Z
LAST-MODIFIED:20240828T094515Z
UID:10005394-1836469800-1836473400@www.kscc.nl
SUMMARY:Eucharistieviering op het KSCC Het Zuiden
DESCRIPTION:Eucharistieviering met celebrant Ad Blommerde. Na de viering is er een bestuurslid aanwezig.
URL:https://www.kscc.nl/event/eucharistieviering-op-het-kscc-het-zuiden-2/2028-03-12/
LOCATION:KSCC Het Zuiden\, Reenweg 1\, Raamsdonksveer\, 4942 VB\, Nederland
CATEGORIES:Parochie
ATTACH;FMTTYPE=image/jpeg:https://www.kscc.nl/wp-content/uploads/2021/09/2021-09-19-Kerkschip-Raamsdonksveer-59.jpg
GEO:51.7036444;4.8689386
X-APPLE-STRUCTURED-LOCATION;VALUE=URI;X-ADDRESS=KSCC Het Zuiden Reenweg 1 Raamsdonksveer 4942 VB Nederland;X-APPLE-RADIUS=500;X-TITLE=Reenweg 1:geo:4.8689386,51.7036444
END:VEVENT
BEGIN:VEVENT
DTSTART;TZID=Europe/Amsterdam:20280409T103000
DTEND;TZID=Europe/Amsterdam:20280409T113000
DTSTAMP:20260421T130005
CREATED:20240828T094322Z
LAST-MODIFIED:20240828T094515Z
UID:10005395-1838889000-1838892600@www.kscc.nl
SUMMARY:Eucharistieviering op het KSCC Het Zuiden
DESCRIPTION:Eucharistieviering met celebrant Ad Blommerde. Na de viering is er een bestuurslid aanwezig.
URL:https://www.kscc.nl/event/eucharistieviering-op-het-kscc-het-zuiden-2/2028-04-09/
LOCATION:KSCC Het Zuiden\, Reenweg 1\, Raamsdonksveer\, 4942 VB\, Nederland
CATEGORIES:Parochie
ATTACH;FMTTYPE=image/jpeg:https://www.kscc.nl/wp-content/uploads/2021/09/2021-09-19-Kerkschip-Raamsdonksveer-59.jpg
GEO:51.7036444;4.8689386
X-APPLE-STRUCTURED-LOCATION;VALUE=URI;X-ADDRESS=KSCC Het Zuiden Reenweg 1 Raamsdonksveer 4942 VB Nederland;X-APPLE-RADIUS=500;X-TITLE=Reenweg 1:geo:4.8689386,51.7036444
END:VEVENT
BEGIN:VEVENT
DTSTART;TZID=Europe/Amsterdam:20280514T103000
DTEND;TZID=Europe/Amsterdam:20280514T113000
DTSTAMP:20260421T130005
CREATED:20240828T094322Z
LAST-MODIFIED:20240828T094515Z
UID:10005396-1841913000-1841916600@www.kscc.nl
SUMMARY:Eucharistieviering op het KSCC Het Zuiden
DESCRIPTION:Eucharistieviering met celebrant Ad Blommerde. Na de viering is er een bestuurslid aanwezig.
URL:https://www.kscc.nl/event/eucharistieviering-op-het-kscc-het-zuiden-2/2028-05-14/
LOCATION:KSCC Het Zuiden\, Reenweg 1\, Raamsdonksveer\, 4942 VB\, Nederland
CATEGORIES:Parochie
ATTACH;FMTTYPE=image/jpeg:https://www.kscc.nl/wp-content/uploads/2021/09/2021-09-19-Kerkschip-Raamsdonksveer-59.jpg
GEO:51.7036444;4.8689386
X-APPLE-STRUCTURED-LOCATION;VALUE=URI;X-ADDRESS=KSCC Het Zuiden Reenweg 1 Raamsdonksveer 4942 VB Nederland;X-APPLE-RADIUS=500;X-TITLE=Reenweg 1:geo:4.8689386,51.7036444
END:VEVENT
BEGIN:VEVENT
DTSTART;TZID=Europe/Amsterdam:20280611T103000
DTEND;TZID=Europe/Amsterdam:20280611T113000
DTSTAMP:20260421T130005
CREATED:20240828T094322Z
LAST-MODIFIED:20240828T094515Z
UID:10005397-1844332200-1844335800@www.kscc.nl
SUMMARY:Eucharistieviering op het KSCC Het Zuiden
DESCRIPTION:Eucharistieviering met celebrant Ad Blommerde. Na de viering is er een bestuurslid aanwezig.
URL:https://www.kscc.nl/event/eucharistieviering-op-het-kscc-het-zuiden-2/2028-06-11/
LOCATION:KSCC Het Zuiden\, Reenweg 1\, Raamsdonksveer\, 4942 VB\, Nederland
CATEGORIES:Parochie
ATTACH;FMTTYPE=image/jpeg:https://www.kscc.nl/wp-content/uploads/2021/09/2021-09-19-Kerkschip-Raamsdonksveer-59.jpg
GEO:51.7036444;4.8689386
X-APPLE-STRUCTURED-LOCATION;VALUE=URI;X-ADDRESS=KSCC Het Zuiden Reenweg 1 Raamsdonksveer 4942 VB Nederland;X-APPLE-RADIUS=500;X-TITLE=Reenweg 1:geo:4.8689386,51.7036444
END:VEVENT
BEGIN:VEVENT
DTSTART;TZID=Europe/Amsterdam:20280709T103000
DTEND;TZID=Europe/Amsterdam:20280709T113000
DTSTAMP:20260421T130005
CREATED:20240828T094322Z
LAST-MODIFIED:20240828T094515Z
UID:10005398-1846751400-1846755000@www.kscc.nl
SUMMARY:Eucharistieviering op het KSCC Het Zuiden
DESCRIPTION:Eucharistieviering met celebrant Ad Blommerde. Na de viering is er een bestuurslid aanwezig.
URL:https://www.kscc.nl/event/eucharistieviering-op-het-kscc-het-zuiden-2/2028-07-09/
LOCATION:KSCC Het Zuiden\, Reenweg 1\, Raamsdonksveer\, 4942 VB\, Nederland
CATEGORIES:Parochie
ATTACH;FMTTYPE=image/jpeg:https://www.kscc.nl/wp-content/uploads/2021/09/2021-09-19-Kerkschip-Raamsdonksveer-59.jpg
GEO:51.7036444;4.8689386
X-APPLE-STRUCTURED-LOCATION;VALUE=URI;X-ADDRESS=KSCC Het Zuiden Reenweg 1 Raamsdonksveer 4942 VB Nederland;X-APPLE-RADIUS=500;X-TITLE=Reenweg 1:geo:4.8689386,51.7036444
END:VEVENT
BEGIN:VEVENT
DTSTART;TZID=Europe/Amsterdam:20280813T103000
DTEND;TZID=Europe/Amsterdam:20280813T113000
DTSTAMP:20260421T130005
CREATED:20240828T094322Z
LAST-MODIFIED:20240828T094515Z
UID:10005399-1849775400-1849779000@www.kscc.nl
SUMMARY:Eucharistieviering op het KSCC Het Zuiden
DESCRIPTION:Eucharistieviering met celebrant Ad Blommerde. Na de viering is er een bestuurslid aanwezig.
URL:https://www.kscc.nl/event/eucharistieviering-op-het-kscc-het-zuiden-2/2028-08-13/
LOCATION:KSCC Het Zuiden\, Reenweg 1\, Raamsdonksveer\, 4942 VB\, Nederland
CATEGORIES:Parochie
ATTACH;FMTTYPE=image/jpeg:https://www.kscc.nl/wp-content/uploads/2021/09/2021-09-19-Kerkschip-Raamsdonksveer-59.jpg
GEO:51.7036444;4.8689386
X-APPLE-STRUCTURED-LOCATION;VALUE=URI;X-ADDRESS=KSCC Het Zuiden Reenweg 1 Raamsdonksveer 4942 VB Nederland;X-APPLE-RADIUS=500;X-TITLE=Reenweg 1:geo:4.8689386,51.7036444
END:VEVENT
BEGIN:VEVENT
DTSTART;TZID=Europe/Amsterdam:20280910T103000
DTEND;TZID=Europe/Amsterdam:20280910T113000
DTSTAMP:20260421T130005
CREATED:20240828T094322Z
LAST-MODIFIED:20240828T094515Z
UID:10005400-1852194600-1852198200@www.kscc.nl
SUMMARY:Eucharistieviering op het KSCC Het Zuiden
DESCRIPTION:Eucharistieviering met celebrant Ad Blommerde. Na de viering is er een bestuurslid aanwezig.
URL:https://www.kscc.nl/event/eucharistieviering-op-het-kscc-het-zuiden-2/2028-09-10/
LOCATION:KSCC Het Zuiden\, Reenweg 1\, Raamsdonksveer\, 4942 VB\, Nederland
CATEGORIES:Parochie
ATTACH;FMTTYPE=image/jpeg:https://www.kscc.nl/wp-content/uploads/2021/09/2021-09-19-Kerkschip-Raamsdonksveer-59.jpg
GEO:51.7036444;4.8689386
X-APPLE-STRUCTURED-LOCATION;VALUE=URI;X-ADDRESS=KSCC Het Zuiden Reenweg 1 Raamsdonksveer 4942 VB Nederland;X-APPLE-RADIUS=500;X-TITLE=Reenweg 1:geo:4.8689386,51.7036444
END:VEVENT
BEGIN:VEVENT
DTSTART;TZID=Europe/Amsterdam:20281008T103000
DTEND;TZID=Europe/Amsterdam:20281008T113000
DTSTAMP:20260421T130005
CREATED:20240828T094322Z
LAST-MODIFIED:20240828T094515Z
UID:10005401-1854613800-1854617400@www.kscc.nl
SUMMARY:Eucharistieviering op het KSCC Het Zuiden
DESCRIPTION:Eucharistieviering met celebrant Ad Blommerde. Na de viering is er een bestuurslid aanwezig.
URL:https://www.kscc.nl/event/eucharistieviering-op-het-kscc-het-zuiden-2/2028-10-08/
LOCATION:KSCC Het Zuiden\, Reenweg 1\, Raamsdonksveer\, 4942 VB\, Nederland
CATEGORIES:Parochie
ATTACH;FMTTYPE=image/jpeg:https://www.kscc.nl/wp-content/uploads/2021/09/2021-09-19-Kerkschip-Raamsdonksveer-59.jpg
GEO:51.7036444;4.8689386
X-APPLE-STRUCTURED-LOCATION;VALUE=URI;X-ADDRESS=KSCC Het Zuiden Reenweg 1 Raamsdonksveer 4942 VB Nederland;X-APPLE-RADIUS=500;X-TITLE=Reenweg 1:geo:4.8689386,51.7036444
END:VEVENT
END:VCALENDAR