BEGIN:VCALENDAR
VERSION:2.0
PRODID:-//KSCC - ECPv6.15.20//NONSGML v1.0//EN
CALSCALE:GREGORIAN
METHOD:PUBLISH
X-ORIGINAL-URL:https://www.kscc.nl
X-WR-CALDESC:Evenementen voor KSCC
REFRESH-INTERVAL;VALUE=DURATION:PT1H
X-Robots-Tag:noindex
X-PUBLISHED-TTL:PT1H
BEGIN:VTIMEZONE
TZID:Europe/Amsterdam
BEGIN:DAYLIGHT
TZOFFSETFROM:+0100
TZOFFSETTO:+0200
TZNAME:CEST
DTSTART:20210328T010000
END:DAYLIGHT
BEGIN:STANDARD
TZOFFSETFROM:+0200
TZOFFSETTO:+0100
TZNAME:CET
DTSTART:20211031T010000
END:STANDARD
BEGIN:DAYLIGHT
TZOFFSETFROM:+0100
TZOFFSETTO:+0200
TZNAME:CEST
DTSTART:20220327T010000
END:DAYLIGHT
BEGIN:STANDARD
TZOFFSETFROM:+0200
TZOFFSETTO:+0100
TZNAME:CET
DTSTART:20221030T010000
END:STANDARD
BEGIN:DAYLIGHT
TZOFFSETFROM:+0100
TZOFFSETTO:+0200
TZNAME:CEST
DTSTART:20230326T010000
END:DAYLIGHT
BEGIN:STANDARD
TZOFFSETFROM:+0200
TZOFFSETTO:+0100
TZNAME:CET
DTSTART:20231029T010000
END:STANDARD
END:VTIMEZONE
BEGIN:VEVENT
DTSTART;TZID=Europe/Amsterdam:20221109T133000
DTEND;TZID=Europe/Amsterdam:20221109T170000
DTSTAMP:20260422T060900
CREATED:20220913T072326Z
LAST-MODIFIED:20220913T073118Z
UID:10002690-1668000600-1668013200@www.kscc.nl
SUMMARY:Kaarten en koffiedrinken op het KSCC in Raamsdonksveer
DESCRIPTION:
URL:https://www.kscc.nl/event/kaarten-en-koffiedrinken-op-het-kscc-in-raamsdonksveer-2/2022-11-09/
LOCATION:KSCC Het Zuiden\, Reenweg 1\, Raamsdonksveer\, 4942 VB\, Nederland
CATEGORIES:KSCC
ATTACH;FMTTYPE=image/jpeg:https://www.kscc.nl/wp-content/uploads/2021/09/2021-09-19-Kerkschip-Raamsdonksveer-59.jpg
GEO:51.7036444;4.8689386
X-APPLE-STRUCTURED-LOCATION;VALUE=URI;X-ADDRESS=KSCC Het Zuiden Reenweg 1 Raamsdonksveer 4942 VB Nederland;X-APPLE-RADIUS=500;X-TITLE=Reenweg 1:geo:4.8689386,51.7036444
END:VEVENT
BEGIN:VEVENT
DTSTART;TZID=Europe/Amsterdam:20221102T133000
DTEND;TZID=Europe/Amsterdam:20221102T170000
DTSTAMP:20260422T060900
CREATED:20220913T072326Z
LAST-MODIFIED:20220913T073118Z
UID:10002689-1667395800-1667408400@www.kscc.nl
SUMMARY:Kaarten en koffiedrinken op het KSCC in Raamsdonksveer
DESCRIPTION:
URL:https://www.kscc.nl/event/kaarten-en-koffiedrinken-op-het-kscc-in-raamsdonksveer-2/2022-11-02/
LOCATION:KSCC Het Zuiden\, Reenweg 1\, Raamsdonksveer\, 4942 VB\, Nederland
CATEGORIES:KSCC
ATTACH;FMTTYPE=image/jpeg:https://www.kscc.nl/wp-content/uploads/2021/09/2021-09-19-Kerkschip-Raamsdonksveer-59.jpg
GEO:51.7036444;4.8689386
X-APPLE-STRUCTURED-LOCATION;VALUE=URI;X-ADDRESS=KSCC Het Zuiden Reenweg 1 Raamsdonksveer 4942 VB Nederland;X-APPLE-RADIUS=500;X-TITLE=Reenweg 1:geo:4.8689386,51.7036444
END:VEVENT
BEGIN:VEVENT
DTSTART;TZID=Europe/Amsterdam:20221026T133000
DTEND;TZID=Europe/Amsterdam:20221026T170000
DTSTAMP:20260422T060900
CREATED:20220913T072326Z
LAST-MODIFIED:20220913T073118Z
UID:10002688-1666791000-1666803600@www.kscc.nl
SUMMARY:Kaarten en koffiedrinken op het KSCC in Raamsdonksveer
DESCRIPTION:
URL:https://www.kscc.nl/event/kaarten-en-koffiedrinken-op-het-kscc-in-raamsdonksveer-2/2022-10-26/
LOCATION:KSCC Het Zuiden\, Reenweg 1\, Raamsdonksveer\, 4942 VB\, Nederland
CATEGORIES:KSCC
ATTACH;FMTTYPE=image/jpeg:https://www.kscc.nl/wp-content/uploads/2021/09/2021-09-19-Kerkschip-Raamsdonksveer-59.jpg
GEO:51.7036444;4.8689386
X-APPLE-STRUCTURED-LOCATION;VALUE=URI;X-ADDRESS=KSCC Het Zuiden Reenweg 1 Raamsdonksveer 4942 VB Nederland;X-APPLE-RADIUS=500;X-TITLE=Reenweg 1:geo:4.8689386,51.7036444
END:VEVENT
BEGIN:VEVENT
DTSTART;TZID=Europe/Amsterdam:20221019T133000
DTEND;TZID=Europe/Amsterdam:20221019T170000
DTSTAMP:20260422T060900
CREATED:20220913T072326Z
LAST-MODIFIED:20220913T073118Z
UID:10002687-1666186200-1666198800@www.kscc.nl
SUMMARY:Kaarten en koffiedrinken op het KSCC in Raamsdonksveer
DESCRIPTION:
URL:https://www.kscc.nl/event/kaarten-en-koffiedrinken-op-het-kscc-in-raamsdonksveer-2/2022-10-19/
LOCATION:KSCC Het Zuiden\, Reenweg 1\, Raamsdonksveer\, 4942 VB\, Nederland
CATEGORIES:KSCC
ATTACH;FMTTYPE=image/jpeg:https://www.kscc.nl/wp-content/uploads/2021/09/2021-09-19-Kerkschip-Raamsdonksveer-59.jpg
GEO:51.7036444;4.8689386
X-APPLE-STRUCTURED-LOCATION;VALUE=URI;X-ADDRESS=KSCC Het Zuiden Reenweg 1 Raamsdonksveer 4942 VB Nederland;X-APPLE-RADIUS=500;X-TITLE=Reenweg 1:geo:4.8689386,51.7036444
END:VEVENT
BEGIN:VEVENT
DTSTART;TZID=Europe/Amsterdam:20221012T133000
DTEND;TZID=Europe/Amsterdam:20221012T170000
DTSTAMP:20260422T060900
CREATED:20220913T072326Z
LAST-MODIFIED:20220913T073118Z
UID:10002686-1665581400-1665594000@www.kscc.nl
SUMMARY:Kaarten en koffiedrinken op het KSCC in Raamsdonksveer
DESCRIPTION:
URL:https://www.kscc.nl/event/kaarten-en-koffiedrinken-op-het-kscc-in-raamsdonksveer-2/2022-10-12/
LOCATION:KSCC Het Zuiden\, Reenweg 1\, Raamsdonksveer\, 4942 VB\, Nederland
CATEGORIES:KSCC
ATTACH;FMTTYPE=image/jpeg:https://www.kscc.nl/wp-content/uploads/2021/09/2021-09-19-Kerkschip-Raamsdonksveer-59.jpg
GEO:51.7036444;4.8689386
X-APPLE-STRUCTURED-LOCATION;VALUE=URI;X-ADDRESS=KSCC Het Zuiden Reenweg 1 Raamsdonksveer 4942 VB Nederland;X-APPLE-RADIUS=500;X-TITLE=Reenweg 1:geo:4.8689386,51.7036444
END:VEVENT
BEGIN:VEVENT
DTSTART;TZID=Europe/Amsterdam:20221005T133000
DTEND;TZID=Europe/Amsterdam:20221005T170000
DTSTAMP:20260422T060900
CREATED:20220913T072326Z
LAST-MODIFIED:20220913T073118Z
UID:10002685-1664976600-1664989200@www.kscc.nl
SUMMARY:Kaarten en koffiedrinken op het KSCC in Raamsdonksveer
DESCRIPTION:
URL:https://www.kscc.nl/event/kaarten-en-koffiedrinken-op-het-kscc-in-raamsdonksveer-2/2022-10-05/
LOCATION:KSCC Het Zuiden\, Reenweg 1\, Raamsdonksveer\, 4942 VB\, Nederland
CATEGORIES:KSCC
ATTACH;FMTTYPE=image/jpeg:https://www.kscc.nl/wp-content/uploads/2021/09/2021-09-19-Kerkschip-Raamsdonksveer-59.jpg
GEO:51.7036444;4.8689386
X-APPLE-STRUCTURED-LOCATION;VALUE=URI;X-ADDRESS=KSCC Het Zuiden Reenweg 1 Raamsdonksveer 4942 VB Nederland;X-APPLE-RADIUS=500;X-TITLE=Reenweg 1:geo:4.8689386,51.7036444
END:VEVENT
BEGIN:VEVENT
DTSTART;TZID=Europe/Amsterdam:20220928T133000
DTEND;TZID=Europe/Amsterdam:20220928T170000
DTSTAMP:20260422T060900
CREATED:20220913T072326Z
LAST-MODIFIED:20220913T073118Z
UID:10002684-1664371800-1664384400@www.kscc.nl
SUMMARY:Kaarten en koffiedrinken op het KSCC in Raamsdonksveer
DESCRIPTION:
URL:https://www.kscc.nl/event/kaarten-en-koffiedrinken-op-het-kscc-in-raamsdonksveer-2/2022-09-28/
LOCATION:KSCC Het Zuiden\, Reenweg 1\, Raamsdonksveer\, 4942 VB\, Nederland
CATEGORIES:KSCC
ATTACH;FMTTYPE=image/jpeg:https://www.kscc.nl/wp-content/uploads/2021/09/2021-09-19-Kerkschip-Raamsdonksveer-59.jpg
GEO:51.7036444;4.8689386
X-APPLE-STRUCTURED-LOCATION;VALUE=URI;X-ADDRESS=KSCC Het Zuiden Reenweg 1 Raamsdonksveer 4942 VB Nederland;X-APPLE-RADIUS=500;X-TITLE=Reenweg 1:geo:4.8689386,51.7036444
END:VEVENT
BEGIN:VEVENT
DTSTART;TZID=Europe/Amsterdam:20220921T133000
DTEND;TZID=Europe/Amsterdam:20220921T170000
DTSTAMP:20260422T060900
CREATED:20220913T072326Z
LAST-MODIFIED:20220913T073118Z
UID:10002683-1663767000-1663779600@www.kscc.nl
SUMMARY:Kaarten en koffiedrinken op het KSCC in Raamsdonksveer
DESCRIPTION:
URL:https://www.kscc.nl/event/kaarten-en-koffiedrinken-op-het-kscc-in-raamsdonksveer-2/2022-09-21/
LOCATION:KSCC Het Zuiden\, Reenweg 1\, Raamsdonksveer\, 4942 VB\, Nederland
CATEGORIES:KSCC
ATTACH;FMTTYPE=image/jpeg:https://www.kscc.nl/wp-content/uploads/2021/09/2021-09-19-Kerkschip-Raamsdonksveer-59.jpg
GEO:51.7036444;4.8689386
X-APPLE-STRUCTURED-LOCATION;VALUE=URI;X-ADDRESS=KSCC Het Zuiden Reenweg 1 Raamsdonksveer 4942 VB Nederland;X-APPLE-RADIUS=500;X-TITLE=Reenweg 1:geo:4.8689386,51.7036444
END:VEVENT
BEGIN:VEVENT
DTSTART;TZID=Europe/Amsterdam:20220914T133000
DTEND;TZID=Europe/Amsterdam:20220914T170000
DTSTAMP:20260422T060900
CREATED:20220913T072326Z
LAST-MODIFIED:20220913T073118Z
UID:10002351-1663162200-1663174800@www.kscc.nl
SUMMARY:Kaarten en koffiedrinken op het KSCC in Raamsdonksveer
DESCRIPTION:
URL:https://www.kscc.nl/event/kaarten-en-koffiedrinken-op-het-kscc-in-raamsdonksveer-2/2022-09-14/
LOCATION:KSCC Het Zuiden\, Reenweg 1\, Raamsdonksveer\, 4942 VB\, Nederland
CATEGORIES:KSCC
ATTACH;FMTTYPE=image/jpeg:https://www.kscc.nl/wp-content/uploads/2021/09/2021-09-19-Kerkschip-Raamsdonksveer-59.jpg
GEO:51.7036444;4.8689386
X-APPLE-STRUCTURED-LOCATION;VALUE=URI;X-ADDRESS=KSCC Het Zuiden Reenweg 1 Raamsdonksveer 4942 VB Nederland;X-APPLE-RADIUS=500;X-TITLE=Reenweg 1:geo:4.8689386,51.7036444
END:VEVENT
END:VCALENDAR