BEGIN:VCALENDAR
VERSION:2.0
PRODID:-//KSCC - ECPv6.15.20//NONSGML v1.0//EN
CALSCALE:GREGORIAN
METHOD:PUBLISH
X-ORIGINAL-URL:https://www.kscc.nl
X-WR-CALDESC:Evenementen voor KSCC
REFRESH-INTERVAL;VALUE=DURATION:PT1H
X-Robots-Tag:noindex
X-PUBLISHED-TTL:PT1H
BEGIN:VTIMEZONE
TZID:Europe/Amsterdam
BEGIN:DAYLIGHT
TZOFFSETFROM:+0100
TZOFFSETTO:+0200
TZNAME:CEST
DTSTART:20270328T010000
END:DAYLIGHT
BEGIN:STANDARD
TZOFFSETFROM:+0200
TZOFFSETTO:+0100
TZNAME:CET
DTSTART:20271031T010000
END:STANDARD
BEGIN:DAYLIGHT
TZOFFSETFROM:+0100
TZOFFSETTO:+0200
TZNAME:CEST
DTSTART:20280326T010000
END:DAYLIGHT
BEGIN:STANDARD
TZOFFSETFROM:+0200
TZOFFSETTO:+0100
TZNAME:CET
DTSTART:20281029T010000
END:STANDARD
BEGIN:DAYLIGHT
TZOFFSETFROM:+0100
TZOFFSETTO:+0200
TZNAME:CEST
DTSTART:20290325T010000
END:DAYLIGHT
BEGIN:STANDARD
TZOFFSETFROM:+0200
TZOFFSETTO:+0100
TZNAME:CET
DTSTART:20291028T010000
END:STANDARD
BEGIN:DAYLIGHT
TZOFFSETFROM:+0100
TZOFFSETTO:+0200
TZNAME:CEST
DTSTART:20300331T010000
END:DAYLIGHT
BEGIN:STANDARD
TZOFFSETFROM:+0200
TZOFFSETTO:+0100
TZNAME:CET
DTSTART:20301027T010000
END:STANDARD
END:VTIMEZONE
BEGIN:VEVENT
DTSTART;TZID=Europe/Amsterdam:20280514T103000
DTEND;TZID=Europe/Amsterdam:20280514T113000
DTSTAMP:20260421T142243
CREATED:20240828T094322Z
LAST-MODIFIED:20240828T094515Z
UID:10005396-1841913000-1841916600@www.kscc.nl
SUMMARY:Eucharistieviering op het KSCC Het Zuiden
DESCRIPTION:Eucharistieviering met celebrant Ad Blommerde. Na de viering is er een bestuurslid aanwezig.
URL:https://www.kscc.nl/event/eucharistieviering-op-het-kscc-het-zuiden-2/2028-05-14/
LOCATION:KSCC Het Zuiden\, Reenweg 1\, Raamsdonksveer\, 4942 VB\, Nederland
CATEGORIES:Parochie
ATTACH;FMTTYPE=image/jpeg:https://www.kscc.nl/wp-content/uploads/2021/09/2021-09-19-Kerkschip-Raamsdonksveer-59.jpg
GEO:51.7036444;4.8689386
X-APPLE-STRUCTURED-LOCATION;VALUE=URI;X-ADDRESS=KSCC Het Zuiden Reenweg 1 Raamsdonksveer 4942 VB Nederland;X-APPLE-RADIUS=500;X-TITLE=Reenweg 1:geo:4.8689386,51.7036444
END:VEVENT
BEGIN:VEVENT
DTSTART;TZID=Europe/Amsterdam:20280611T103000
DTEND;TZID=Europe/Amsterdam:20280611T113000
DTSTAMP:20260421T142243
CREATED:20240828T094322Z
LAST-MODIFIED:20240828T094515Z
UID:10005397-1844332200-1844335800@www.kscc.nl
SUMMARY:Eucharistieviering op het KSCC Het Zuiden
DESCRIPTION:Eucharistieviering met celebrant Ad Blommerde. Na de viering is er een bestuurslid aanwezig.
URL:https://www.kscc.nl/event/eucharistieviering-op-het-kscc-het-zuiden-2/2028-06-11/
LOCATION:KSCC Het Zuiden\, Reenweg 1\, Raamsdonksveer\, 4942 VB\, Nederland
CATEGORIES:Parochie
ATTACH;FMTTYPE=image/jpeg:https://www.kscc.nl/wp-content/uploads/2021/09/2021-09-19-Kerkschip-Raamsdonksveer-59.jpg
GEO:51.7036444;4.8689386
X-APPLE-STRUCTURED-LOCATION;VALUE=URI;X-ADDRESS=KSCC Het Zuiden Reenweg 1 Raamsdonksveer 4942 VB Nederland;X-APPLE-RADIUS=500;X-TITLE=Reenweg 1:geo:4.8689386,51.7036444
END:VEVENT
BEGIN:VEVENT
DTSTART;TZID=Europe/Amsterdam:20280709T103000
DTEND;TZID=Europe/Amsterdam:20280709T113000
DTSTAMP:20260421T142243
CREATED:20240828T094322Z
LAST-MODIFIED:20240828T094515Z
UID:10005398-1846751400-1846755000@www.kscc.nl
SUMMARY:Eucharistieviering op het KSCC Het Zuiden
DESCRIPTION:Eucharistieviering met celebrant Ad Blommerde. Na de viering is er een bestuurslid aanwezig.
URL:https://www.kscc.nl/event/eucharistieviering-op-het-kscc-het-zuiden-2/2028-07-09/
LOCATION:KSCC Het Zuiden\, Reenweg 1\, Raamsdonksveer\, 4942 VB\, Nederland
CATEGORIES:Parochie
ATTACH;FMTTYPE=image/jpeg:https://www.kscc.nl/wp-content/uploads/2021/09/2021-09-19-Kerkschip-Raamsdonksveer-59.jpg
GEO:51.7036444;4.8689386
X-APPLE-STRUCTURED-LOCATION;VALUE=URI;X-ADDRESS=KSCC Het Zuiden Reenweg 1 Raamsdonksveer 4942 VB Nederland;X-APPLE-RADIUS=500;X-TITLE=Reenweg 1:geo:4.8689386,51.7036444
END:VEVENT
BEGIN:VEVENT
DTSTART;TZID=Europe/Amsterdam:20280813T103000
DTEND;TZID=Europe/Amsterdam:20280813T113000
DTSTAMP:20260421T142243
CREATED:20240828T094322Z
LAST-MODIFIED:20240828T094515Z
UID:10005399-1849775400-1849779000@www.kscc.nl
SUMMARY:Eucharistieviering op het KSCC Het Zuiden
DESCRIPTION:Eucharistieviering met celebrant Ad Blommerde. Na de viering is er een bestuurslid aanwezig.
URL:https://www.kscc.nl/event/eucharistieviering-op-het-kscc-het-zuiden-2/2028-08-13/
LOCATION:KSCC Het Zuiden\, Reenweg 1\, Raamsdonksveer\, 4942 VB\, Nederland
CATEGORIES:Parochie
ATTACH;FMTTYPE=image/jpeg:https://www.kscc.nl/wp-content/uploads/2021/09/2021-09-19-Kerkschip-Raamsdonksveer-59.jpg
GEO:51.7036444;4.8689386
X-APPLE-STRUCTURED-LOCATION;VALUE=URI;X-ADDRESS=KSCC Het Zuiden Reenweg 1 Raamsdonksveer 4942 VB Nederland;X-APPLE-RADIUS=500;X-TITLE=Reenweg 1:geo:4.8689386,51.7036444
END:VEVENT
BEGIN:VEVENT
DTSTART;TZID=Europe/Amsterdam:20280910T103000
DTEND;TZID=Europe/Amsterdam:20280910T113000
DTSTAMP:20260421T142243
CREATED:20240828T094322Z
LAST-MODIFIED:20240828T094515Z
UID:10005400-1852194600-1852198200@www.kscc.nl
SUMMARY:Eucharistieviering op het KSCC Het Zuiden
DESCRIPTION:Eucharistieviering met celebrant Ad Blommerde. Na de viering is er een bestuurslid aanwezig.
URL:https://www.kscc.nl/event/eucharistieviering-op-het-kscc-het-zuiden-2/2028-09-10/
LOCATION:KSCC Het Zuiden\, Reenweg 1\, Raamsdonksveer\, 4942 VB\, Nederland
CATEGORIES:Parochie
ATTACH;FMTTYPE=image/jpeg:https://www.kscc.nl/wp-content/uploads/2021/09/2021-09-19-Kerkschip-Raamsdonksveer-59.jpg
GEO:51.7036444;4.8689386
X-APPLE-STRUCTURED-LOCATION;VALUE=URI;X-ADDRESS=KSCC Het Zuiden Reenweg 1 Raamsdonksveer 4942 VB Nederland;X-APPLE-RADIUS=500;X-TITLE=Reenweg 1:geo:4.8689386,51.7036444
END:VEVENT
BEGIN:VEVENT
DTSTART;TZID=Europe/Amsterdam:20281008T103000
DTEND;TZID=Europe/Amsterdam:20281008T113000
DTSTAMP:20260421T142243
CREATED:20240828T094322Z
LAST-MODIFIED:20240828T094515Z
UID:10005401-1854613800-1854617400@www.kscc.nl
SUMMARY:Eucharistieviering op het KSCC Het Zuiden
DESCRIPTION:Eucharistieviering met celebrant Ad Blommerde. Na de viering is er een bestuurslid aanwezig.
URL:https://www.kscc.nl/event/eucharistieviering-op-het-kscc-het-zuiden-2/2028-10-08/
LOCATION:KSCC Het Zuiden\, Reenweg 1\, Raamsdonksveer\, 4942 VB\, Nederland
CATEGORIES:Parochie
ATTACH;FMTTYPE=image/jpeg:https://www.kscc.nl/wp-content/uploads/2021/09/2021-09-19-Kerkschip-Raamsdonksveer-59.jpg
GEO:51.7036444;4.8689386
X-APPLE-STRUCTURED-LOCATION;VALUE=URI;X-ADDRESS=KSCC Het Zuiden Reenweg 1 Raamsdonksveer 4942 VB Nederland;X-APPLE-RADIUS=500;X-TITLE=Reenweg 1:geo:4.8689386,51.7036444
END:VEVENT
BEGIN:VEVENT
DTSTART;TZID=Europe/Amsterdam:20281112T103000
DTEND;TZID=Europe/Amsterdam:20281112T113000
DTSTAMP:20260421T142243
CREATED:20240828T094322Z
LAST-MODIFIED:20240828T094515Z
UID:10005402-1857637800-1857641400@www.kscc.nl
SUMMARY:Eucharistieviering op het KSCC Het Zuiden
DESCRIPTION:Eucharistieviering met celebrant Ad Blommerde. Na de viering is er een bestuurslid aanwezig.
URL:https://www.kscc.nl/event/eucharistieviering-op-het-kscc-het-zuiden-2/2028-11-12/
LOCATION:KSCC Het Zuiden\, Reenweg 1\, Raamsdonksveer\, 4942 VB\, Nederland
CATEGORIES:Parochie
ATTACH;FMTTYPE=image/jpeg:https://www.kscc.nl/wp-content/uploads/2021/09/2021-09-19-Kerkschip-Raamsdonksveer-59.jpg
GEO:51.7036444;4.8689386
X-APPLE-STRUCTURED-LOCATION;VALUE=URI;X-ADDRESS=KSCC Het Zuiden Reenweg 1 Raamsdonksveer 4942 VB Nederland;X-APPLE-RADIUS=500;X-TITLE=Reenweg 1:geo:4.8689386,51.7036444
END:VEVENT
BEGIN:VEVENT
DTSTART;TZID=Europe/Amsterdam:20281210T103000
DTEND;TZID=Europe/Amsterdam:20281210T113000
DTSTAMP:20260421T142243
CREATED:20240828T094322Z
LAST-MODIFIED:20240828T094515Z
UID:10005403-1860057000-1860060600@www.kscc.nl
SUMMARY:Eucharistieviering op het KSCC Het Zuiden
DESCRIPTION:Eucharistieviering met celebrant Ad Blommerde. Na de viering is er een bestuurslid aanwezig.
URL:https://www.kscc.nl/event/eucharistieviering-op-het-kscc-het-zuiden-2/2028-12-10/
LOCATION:KSCC Het Zuiden\, Reenweg 1\, Raamsdonksveer\, 4942 VB\, Nederland
CATEGORIES:Parochie
ATTACH;FMTTYPE=image/jpeg:https://www.kscc.nl/wp-content/uploads/2021/09/2021-09-19-Kerkschip-Raamsdonksveer-59.jpg
GEO:51.7036444;4.8689386
X-APPLE-STRUCTURED-LOCATION;VALUE=URI;X-ADDRESS=KSCC Het Zuiden Reenweg 1 Raamsdonksveer 4942 VB Nederland;X-APPLE-RADIUS=500;X-TITLE=Reenweg 1:geo:4.8689386,51.7036444
END:VEVENT
BEGIN:VEVENT
DTSTART;TZID=Europe/Amsterdam:20290114T103000
DTEND;TZID=Europe/Amsterdam:20290114T113000
DTSTAMP:20260421T142243
CREATED:20240828T094322Z
LAST-MODIFIED:20240828T094515Z
UID:10005404-1863081000-1863084600@www.kscc.nl
SUMMARY:Eucharistieviering op het KSCC Het Zuiden
DESCRIPTION:Eucharistieviering met celebrant Ad Blommerde. Na de viering is er een bestuurslid aanwezig.
URL:https://www.kscc.nl/event/eucharistieviering-op-het-kscc-het-zuiden-2/2029-01-14/
LOCATION:KSCC Het Zuiden\, Reenweg 1\, Raamsdonksveer\, 4942 VB\, Nederland
CATEGORIES:Parochie
ATTACH;FMTTYPE=image/jpeg:https://www.kscc.nl/wp-content/uploads/2021/09/2021-09-19-Kerkschip-Raamsdonksveer-59.jpg
GEO:51.7036444;4.8689386
X-APPLE-STRUCTURED-LOCATION;VALUE=URI;X-ADDRESS=KSCC Het Zuiden Reenweg 1 Raamsdonksveer 4942 VB Nederland;X-APPLE-RADIUS=500;X-TITLE=Reenweg 1:geo:4.8689386,51.7036444
END:VEVENT
BEGIN:VEVENT
DTSTART;TZID=Europe/Amsterdam:20290211T103000
DTEND;TZID=Europe/Amsterdam:20290211T113000
DTSTAMP:20260421T142243
CREATED:20240828T094322Z
LAST-MODIFIED:20240828T094515Z
UID:10005405-1865500200-1865503800@www.kscc.nl
SUMMARY:Eucharistieviering op het KSCC Het Zuiden
DESCRIPTION:Eucharistieviering met celebrant Ad Blommerde. Na de viering is er een bestuurslid aanwezig.
URL:https://www.kscc.nl/event/eucharistieviering-op-het-kscc-het-zuiden-2/2029-02-11/
LOCATION:KSCC Het Zuiden\, Reenweg 1\, Raamsdonksveer\, 4942 VB\, Nederland
CATEGORIES:Parochie
ATTACH;FMTTYPE=image/jpeg:https://www.kscc.nl/wp-content/uploads/2021/09/2021-09-19-Kerkschip-Raamsdonksveer-59.jpg
GEO:51.7036444;4.8689386
X-APPLE-STRUCTURED-LOCATION;VALUE=URI;X-ADDRESS=KSCC Het Zuiden Reenweg 1 Raamsdonksveer 4942 VB Nederland;X-APPLE-RADIUS=500;X-TITLE=Reenweg 1:geo:4.8689386,51.7036444
END:VEVENT
BEGIN:VEVENT
DTSTART;TZID=Europe/Amsterdam:20290311T103000
DTEND;TZID=Europe/Amsterdam:20290311T113000
DTSTAMP:20260421T142243
CREATED:20240828T094322Z
LAST-MODIFIED:20240828T094515Z
UID:10005406-1867919400-1867923000@www.kscc.nl
SUMMARY:Eucharistieviering op het KSCC Het Zuiden
DESCRIPTION:Eucharistieviering met celebrant Ad Blommerde. Na de viering is er een bestuurslid aanwezig.
URL:https://www.kscc.nl/event/eucharistieviering-op-het-kscc-het-zuiden-2/2029-03-11/
LOCATION:KSCC Het Zuiden\, Reenweg 1\, Raamsdonksveer\, 4942 VB\, Nederland
CATEGORIES:Parochie
ATTACH;FMTTYPE=image/jpeg:https://www.kscc.nl/wp-content/uploads/2021/09/2021-09-19-Kerkschip-Raamsdonksveer-59.jpg
GEO:51.7036444;4.8689386
X-APPLE-STRUCTURED-LOCATION;VALUE=URI;X-ADDRESS=KSCC Het Zuiden Reenweg 1 Raamsdonksveer 4942 VB Nederland;X-APPLE-RADIUS=500;X-TITLE=Reenweg 1:geo:4.8689386,51.7036444
END:VEVENT
BEGIN:VEVENT
DTSTART;TZID=Europe/Amsterdam:20290408T103000
DTEND;TZID=Europe/Amsterdam:20290408T113000
DTSTAMP:20260421T142243
CREATED:20240828T094322Z
LAST-MODIFIED:20240828T094515Z
UID:10005407-1870338600-1870342200@www.kscc.nl
SUMMARY:Eucharistieviering op het KSCC Het Zuiden
DESCRIPTION:Eucharistieviering met celebrant Ad Blommerde. Na de viering is er een bestuurslid aanwezig.
URL:https://www.kscc.nl/event/eucharistieviering-op-het-kscc-het-zuiden-2/2029-04-08/
LOCATION:KSCC Het Zuiden\, Reenweg 1\, Raamsdonksveer\, 4942 VB\, Nederland
CATEGORIES:Parochie
ATTACH;FMTTYPE=image/jpeg:https://www.kscc.nl/wp-content/uploads/2021/09/2021-09-19-Kerkschip-Raamsdonksveer-59.jpg
GEO:51.7036444;4.8689386
X-APPLE-STRUCTURED-LOCATION;VALUE=URI;X-ADDRESS=KSCC Het Zuiden Reenweg 1 Raamsdonksveer 4942 VB Nederland;X-APPLE-RADIUS=500;X-TITLE=Reenweg 1:geo:4.8689386,51.7036444
END:VEVENT
BEGIN:VEVENT
DTSTART;TZID=Europe/Amsterdam:20290513T103000
DTEND;TZID=Europe/Amsterdam:20290513T113000
DTSTAMP:20260421T142243
CREATED:20240828T094322Z
LAST-MODIFIED:20240828T094515Z
UID:10005408-1873362600-1873366200@www.kscc.nl
SUMMARY:Eucharistieviering op het KSCC Het Zuiden
DESCRIPTION:Eucharistieviering met celebrant Ad Blommerde. Na de viering is er een bestuurslid aanwezig.
URL:https://www.kscc.nl/event/eucharistieviering-op-het-kscc-het-zuiden-2/2029-05-13/
LOCATION:KSCC Het Zuiden\, Reenweg 1\, Raamsdonksveer\, 4942 VB\, Nederland
CATEGORIES:Parochie
ATTACH;FMTTYPE=image/jpeg:https://www.kscc.nl/wp-content/uploads/2021/09/2021-09-19-Kerkschip-Raamsdonksveer-59.jpg
GEO:51.7036444;4.8689386
X-APPLE-STRUCTURED-LOCATION;VALUE=URI;X-ADDRESS=KSCC Het Zuiden Reenweg 1 Raamsdonksveer 4942 VB Nederland;X-APPLE-RADIUS=500;X-TITLE=Reenweg 1:geo:4.8689386,51.7036444
END:VEVENT
BEGIN:VEVENT
DTSTART;TZID=Europe/Amsterdam:20290610T103000
DTEND;TZID=Europe/Amsterdam:20290610T113000
DTSTAMP:20260421T142243
CREATED:20240828T094322Z
LAST-MODIFIED:20240828T094515Z
UID:10005409-1875781800-1875785400@www.kscc.nl
SUMMARY:Eucharistieviering op het KSCC Het Zuiden
DESCRIPTION:Eucharistieviering met celebrant Ad Blommerde. Na de viering is er een bestuurslid aanwezig.
URL:https://www.kscc.nl/event/eucharistieviering-op-het-kscc-het-zuiden-2/2029-06-10/
LOCATION:KSCC Het Zuiden\, Reenweg 1\, Raamsdonksveer\, 4942 VB\, Nederland
CATEGORIES:Parochie
ATTACH;FMTTYPE=image/jpeg:https://www.kscc.nl/wp-content/uploads/2021/09/2021-09-19-Kerkschip-Raamsdonksveer-59.jpg
GEO:51.7036444;4.8689386
X-APPLE-STRUCTURED-LOCATION;VALUE=URI;X-ADDRESS=KSCC Het Zuiden Reenweg 1 Raamsdonksveer 4942 VB Nederland;X-APPLE-RADIUS=500;X-TITLE=Reenweg 1:geo:4.8689386,51.7036444
END:VEVENT
BEGIN:VEVENT
DTSTART;TZID=Europe/Amsterdam:20290708T103000
DTEND;TZID=Europe/Amsterdam:20290708T113000
DTSTAMP:20260421T142243
CREATED:20240828T094322Z
LAST-MODIFIED:20240828T094515Z
UID:10005410-1878201000-1878204600@www.kscc.nl
SUMMARY:Eucharistieviering op het KSCC Het Zuiden
DESCRIPTION:Eucharistieviering met celebrant Ad Blommerde. Na de viering is er een bestuurslid aanwezig.
URL:https://www.kscc.nl/event/eucharistieviering-op-het-kscc-het-zuiden-2/2029-07-08/
LOCATION:KSCC Het Zuiden\, Reenweg 1\, Raamsdonksveer\, 4942 VB\, Nederland
CATEGORIES:Parochie
ATTACH;FMTTYPE=image/jpeg:https://www.kscc.nl/wp-content/uploads/2021/09/2021-09-19-Kerkschip-Raamsdonksveer-59.jpg
GEO:51.7036444;4.8689386
X-APPLE-STRUCTURED-LOCATION;VALUE=URI;X-ADDRESS=KSCC Het Zuiden Reenweg 1 Raamsdonksveer 4942 VB Nederland;X-APPLE-RADIUS=500;X-TITLE=Reenweg 1:geo:4.8689386,51.7036444
END:VEVENT
BEGIN:VEVENT
DTSTART;TZID=Europe/Amsterdam:20290812T103000
DTEND;TZID=Europe/Amsterdam:20290812T113000
DTSTAMP:20260421T142243
CREATED:20240828T094322Z
LAST-MODIFIED:20240828T094515Z
UID:10005411-1881225000-1881228600@www.kscc.nl
SUMMARY:Eucharistieviering op het KSCC Het Zuiden
DESCRIPTION:Eucharistieviering met celebrant Ad Blommerde. Na de viering is er een bestuurslid aanwezig.
URL:https://www.kscc.nl/event/eucharistieviering-op-het-kscc-het-zuiden-2/2029-08-12/
LOCATION:KSCC Het Zuiden\, Reenweg 1\, Raamsdonksveer\, 4942 VB\, Nederland
CATEGORIES:Parochie
ATTACH;FMTTYPE=image/jpeg:https://www.kscc.nl/wp-content/uploads/2021/09/2021-09-19-Kerkschip-Raamsdonksveer-59.jpg
GEO:51.7036444;4.8689386
X-APPLE-STRUCTURED-LOCATION;VALUE=URI;X-ADDRESS=KSCC Het Zuiden Reenweg 1 Raamsdonksveer 4942 VB Nederland;X-APPLE-RADIUS=500;X-TITLE=Reenweg 1:geo:4.8689386,51.7036444
END:VEVENT
END:VCALENDAR