BEGIN:VCALENDAR
VERSION:2.0
PRODID:-//KSCC - ECPv6.15.20//NONSGML v1.0//EN
CALSCALE:GREGORIAN
METHOD:PUBLISH
X-WR-CALNAME:KSCC
X-ORIGINAL-URL:https://www.kscc.nl
X-WR-CALDESC:Evenementen voor KSCC
REFRESH-INTERVAL;VALUE=DURATION:PT1H
X-Robots-Tag:noindex
X-PUBLISHED-TTL:PT1H
BEGIN:VTIMEZONE
TZID:Europe/Amsterdam
BEGIN:DAYLIGHT
TZOFFSETFROM:+0100
TZOFFSETTO:+0200
TZNAME:CEST
DTSTART:20240331T010000
END:DAYLIGHT
BEGIN:STANDARD
TZOFFSETFROM:+0200
TZOFFSETTO:+0100
TZNAME:CET
DTSTART:20241027T010000
END:STANDARD
BEGIN:DAYLIGHT
TZOFFSETFROM:+0100
TZOFFSETTO:+0200
TZNAME:CEST
DTSTART:20250330T010000
END:DAYLIGHT
BEGIN:STANDARD
TZOFFSETFROM:+0200
TZOFFSETTO:+0100
TZNAME:CET
DTSTART:20251026T010000
END:STANDARD
BEGIN:DAYLIGHT
TZOFFSETFROM:+0100
TZOFFSETTO:+0200
TZNAME:CEST
DTSTART:20260329T010000
END:DAYLIGHT
BEGIN:STANDARD
TZOFFSETFROM:+0200
TZOFFSETTO:+0100
TZNAME:CET
DTSTART:20261025T010000
END:STANDARD
END:VTIMEZONE
BEGIN:VEVENT
DTSTART;TZID=Europe/Amsterdam:20250730T133000
DTEND;TZID=Europe/Amsterdam:20250730T170000
DTSTAMP:20260421T170540
CREATED:20250205T111332Z
LAST-MODIFIED:20250205T112717Z
UID:10005473-1753882200-1753894800@www.kscc.nl
SUMMARY:Kaarten en koffiedrinken op het KSCC in Raamsdonksveer
DESCRIPTION:Elke woensdagmiddag is er kaarten en koffiedrinken op het Kerkschip. Iedereen welkom.
URL:https://www.kscc.nl/event/kaarten-en-koffiedrinken-op-het-kscc-in-raamsdonksveer-4/2025-07-30/
LOCATION:KSCC Het Zuiden\, Reenweg 1\, Raamsdonksveer\, 4942 VB\, Nederland
CATEGORIES:KSCC
ATTACH;FMTTYPE=image/jpeg:https://www.kscc.nl/wp-content/uploads/2023/03/Kaarten-en-koffie-Raamsdonksveer.jpg
GEO:51.7036444;4.8689386
X-APPLE-STRUCTURED-LOCATION;VALUE=URI;X-ADDRESS=KSCC Het Zuiden Reenweg 1 Raamsdonksveer 4942 VB Nederland;X-APPLE-RADIUS=500;X-TITLE=Reenweg 1:geo:4.8689386,51.7036444
END:VEVENT
BEGIN:VEVENT
DTSTART;TZID=Europe/Amsterdam:20250723T133000
DTEND;TZID=Europe/Amsterdam:20250723T170000
DTSTAMP:20260421T170540
CREATED:20250205T111332Z
LAST-MODIFIED:20250205T112717Z
UID:10005472-1753277400-1753290000@www.kscc.nl
SUMMARY:Kaarten en koffiedrinken op het KSCC in Raamsdonksveer
DESCRIPTION:Elke woensdagmiddag is er kaarten en koffiedrinken op het Kerkschip. Iedereen welkom.
URL:https://www.kscc.nl/event/kaarten-en-koffiedrinken-op-het-kscc-in-raamsdonksveer-4/2025-07-23/
LOCATION:KSCC Het Zuiden\, Reenweg 1\, Raamsdonksveer\, 4942 VB\, Nederland
CATEGORIES:KSCC
ATTACH;FMTTYPE=image/jpeg:https://www.kscc.nl/wp-content/uploads/2023/03/Kaarten-en-koffie-Raamsdonksveer.jpg
GEO:51.7036444;4.8689386
X-APPLE-STRUCTURED-LOCATION;VALUE=URI;X-ADDRESS=KSCC Het Zuiden Reenweg 1 Raamsdonksveer 4942 VB Nederland;X-APPLE-RADIUS=500;X-TITLE=Reenweg 1:geo:4.8689386,51.7036444
END:VEVENT
BEGIN:VEVENT
DTSTART;TZID=Europe/Amsterdam:20250716T133000
DTEND;TZID=Europe/Amsterdam:20250716T170000
DTSTAMP:20260421T170540
CREATED:20250205T111332Z
LAST-MODIFIED:20250205T112717Z
UID:10005471-1752672600-1752685200@www.kscc.nl
SUMMARY:Kaarten en koffiedrinken op het KSCC in Raamsdonksveer
DESCRIPTION:Elke woensdagmiddag is er kaarten en koffiedrinken op het Kerkschip. Iedereen welkom.
URL:https://www.kscc.nl/event/kaarten-en-koffiedrinken-op-het-kscc-in-raamsdonksveer-4/2025-07-16/
LOCATION:KSCC Het Zuiden\, Reenweg 1\, Raamsdonksveer\, 4942 VB\, Nederland
CATEGORIES:KSCC
ATTACH;FMTTYPE=image/jpeg:https://www.kscc.nl/wp-content/uploads/2023/03/Kaarten-en-koffie-Raamsdonksveer.jpg
GEO:51.7036444;4.8689386
X-APPLE-STRUCTURED-LOCATION;VALUE=URI;X-ADDRESS=KSCC Het Zuiden Reenweg 1 Raamsdonksveer 4942 VB Nederland;X-APPLE-RADIUS=500;X-TITLE=Reenweg 1:geo:4.8689386,51.7036444
END:VEVENT
BEGIN:VEVENT
DTSTART;TZID=Europe/Amsterdam:20250713T103000
DTEND;TZID=Europe/Amsterdam:20250713T113000
DTSTAMP:20260421T170540
CREATED:20240828T094322Z
LAST-MODIFIED:20240828T094515Z
UID:10005362-1752402600-1752406200@www.kscc.nl
SUMMARY:Eucharistieviering op het KSCC Het Zuiden
DESCRIPTION:Eucharistieviering met celebrant Ad Blommerde. Na de viering is er een bestuurslid aanwezig.
URL:https://www.kscc.nl/event/eucharistieviering-op-het-kscc-het-zuiden-2/2025-07-13/
LOCATION:KSCC Het Zuiden\, Reenweg 1\, Raamsdonksveer\, 4942 VB\, Nederland
CATEGORIES:Parochie
ATTACH;FMTTYPE=image/jpeg:https://www.kscc.nl/wp-content/uploads/2021/09/2021-09-19-Kerkschip-Raamsdonksveer-59.jpg
GEO:51.7036444;4.8689386
X-APPLE-STRUCTURED-LOCATION;VALUE=URI;X-ADDRESS=KSCC Het Zuiden Reenweg 1 Raamsdonksveer 4942 VB Nederland;X-APPLE-RADIUS=500;X-TITLE=Reenweg 1:geo:4.8689386,51.7036444
END:VEVENT
BEGIN:VEVENT
DTSTART;TZID=Europe/Amsterdam:20250709T133000
DTEND;TZID=Europe/Amsterdam:20250709T170000
DTSTAMP:20260421T170540
CREATED:20250205T111332Z
LAST-MODIFIED:20250205T112717Z
UID:10005470-1752067800-1752080400@www.kscc.nl
SUMMARY:Kaarten en koffiedrinken op het KSCC in Raamsdonksveer
DESCRIPTION:Elke woensdagmiddag is er kaarten en koffiedrinken op het Kerkschip. Iedereen welkom.
URL:https://www.kscc.nl/event/kaarten-en-koffiedrinken-op-het-kscc-in-raamsdonksveer-4/2025-07-09/
LOCATION:KSCC Het Zuiden\, Reenweg 1\, Raamsdonksveer\, 4942 VB\, Nederland
CATEGORIES:KSCC
ATTACH;FMTTYPE=image/jpeg:https://www.kscc.nl/wp-content/uploads/2023/03/Kaarten-en-koffie-Raamsdonksveer.jpg
GEO:51.7036444;4.8689386
X-APPLE-STRUCTURED-LOCATION;VALUE=URI;X-ADDRESS=KSCC Het Zuiden Reenweg 1 Raamsdonksveer 4942 VB Nederland;X-APPLE-RADIUS=500;X-TITLE=Reenweg 1:geo:4.8689386,51.7036444
END:VEVENT
BEGIN:VEVENT
DTSTART;TZID=Europe/Amsterdam:20250702T133000
DTEND;TZID=Europe/Amsterdam:20250702T170000
DTSTAMP:20260421T170540
CREATED:20250205T111332Z
LAST-MODIFIED:20250205T112717Z
UID:10005469-1751463000-1751475600@www.kscc.nl
SUMMARY:Kaarten en koffiedrinken op het KSCC in Raamsdonksveer
DESCRIPTION:Elke woensdagmiddag is er kaarten en koffiedrinken op het Kerkschip. Iedereen welkom.
URL:https://www.kscc.nl/event/kaarten-en-koffiedrinken-op-het-kscc-in-raamsdonksveer-4/2025-07-02/
LOCATION:KSCC Het Zuiden\, Reenweg 1\, Raamsdonksveer\, 4942 VB\, Nederland
CATEGORIES:KSCC
ATTACH;FMTTYPE=image/jpeg:https://www.kscc.nl/wp-content/uploads/2023/03/Kaarten-en-koffie-Raamsdonksveer.jpg
GEO:51.7036444;4.8689386
X-APPLE-STRUCTURED-LOCATION;VALUE=URI;X-ADDRESS=KSCC Het Zuiden Reenweg 1 Raamsdonksveer 4942 VB Nederland;X-APPLE-RADIUS=500;X-TITLE=Reenweg 1:geo:4.8689386,51.7036444
END:VEVENT
BEGIN:VEVENT
DTSTART;TZID=Europe/Amsterdam:20250625T133000
DTEND;TZID=Europe/Amsterdam:20250625T170000
DTSTAMP:20260421T170540
CREATED:20250205T111332Z
LAST-MODIFIED:20250205T112717Z
UID:10005468-1750858200-1750870800@www.kscc.nl
SUMMARY:Kaarten en koffiedrinken op het KSCC in Raamsdonksveer
DESCRIPTION:Elke woensdagmiddag is er kaarten en koffiedrinken op het Kerkschip. Iedereen welkom.
URL:https://www.kscc.nl/event/kaarten-en-koffiedrinken-op-het-kscc-in-raamsdonksveer-4/2025-06-25/
LOCATION:KSCC Het Zuiden\, Reenweg 1\, Raamsdonksveer\, 4942 VB\, Nederland
CATEGORIES:KSCC
ATTACH;FMTTYPE=image/jpeg:https://www.kscc.nl/wp-content/uploads/2023/03/Kaarten-en-koffie-Raamsdonksveer.jpg
GEO:51.7036444;4.8689386
X-APPLE-STRUCTURED-LOCATION;VALUE=URI;X-ADDRESS=KSCC Het Zuiden Reenweg 1 Raamsdonksveer 4942 VB Nederland;X-APPLE-RADIUS=500;X-TITLE=Reenweg 1:geo:4.8689386,51.7036444
END:VEVENT
BEGIN:VEVENT
DTSTART;TZID=Europe/Amsterdam:20250618T133000
DTEND;TZID=Europe/Amsterdam:20250618T170000
DTSTAMP:20260421T170540
CREATED:20250205T111332Z
LAST-MODIFIED:20250205T112717Z
UID:10005467-1750253400-1750266000@www.kscc.nl
SUMMARY:Kaarten en koffiedrinken op het KSCC in Raamsdonksveer
DESCRIPTION:Elke woensdagmiddag is er kaarten en koffiedrinken op het Kerkschip. Iedereen welkom.
URL:https://www.kscc.nl/event/kaarten-en-koffiedrinken-op-het-kscc-in-raamsdonksveer-4/2025-06-18/
LOCATION:KSCC Het Zuiden\, Reenweg 1\, Raamsdonksveer\, 4942 VB\, Nederland
CATEGORIES:KSCC
ATTACH;FMTTYPE=image/jpeg:https://www.kscc.nl/wp-content/uploads/2023/03/Kaarten-en-koffie-Raamsdonksveer.jpg
GEO:51.7036444;4.8689386
X-APPLE-STRUCTURED-LOCATION;VALUE=URI;X-ADDRESS=KSCC Het Zuiden Reenweg 1 Raamsdonksveer 4942 VB Nederland;X-APPLE-RADIUS=500;X-TITLE=Reenweg 1:geo:4.8689386,51.7036444
END:VEVENT
BEGIN:VEVENT
DTSTART;TZID=Europe/Amsterdam:20250611T133000
DTEND;TZID=Europe/Amsterdam:20250611T170000
DTSTAMP:20260421T170540
CREATED:20250205T111332Z
LAST-MODIFIED:20250205T112717Z
UID:10005466-1749648600-1749661200@www.kscc.nl
SUMMARY:Kaarten en koffiedrinken op het KSCC in Raamsdonksveer
DESCRIPTION:Elke woensdagmiddag is er kaarten en koffiedrinken op het Kerkschip. Iedereen welkom.
URL:https://www.kscc.nl/event/kaarten-en-koffiedrinken-op-het-kscc-in-raamsdonksveer-4/2025-06-11/
LOCATION:KSCC Het Zuiden\, Reenweg 1\, Raamsdonksveer\, 4942 VB\, Nederland
CATEGORIES:KSCC
ATTACH;FMTTYPE=image/jpeg:https://www.kscc.nl/wp-content/uploads/2023/03/Kaarten-en-koffie-Raamsdonksveer.jpg
GEO:51.7036444;4.8689386
X-APPLE-STRUCTURED-LOCATION;VALUE=URI;X-ADDRESS=KSCC Het Zuiden Reenweg 1 Raamsdonksveer 4942 VB Nederland;X-APPLE-RADIUS=500;X-TITLE=Reenweg 1:geo:4.8689386,51.7036444
END:VEVENT
BEGIN:VEVENT
DTSTART;TZID=Europe/Amsterdam:20250608T103000
DTEND;TZID=Europe/Amsterdam:20250608T113000
DTSTAMP:20260421T170540
CREATED:20240828T094322Z
LAST-MODIFIED:20240828T094515Z
UID:10005361-1749378600-1749382200@www.kscc.nl
SUMMARY:Eucharistieviering op het KSCC Het Zuiden
DESCRIPTION:Eucharistieviering met celebrant Ad Blommerde. Na de viering is er een bestuurslid aanwezig.
URL:https://www.kscc.nl/event/eucharistieviering-op-het-kscc-het-zuiden-2/2025-06-08/
LOCATION:KSCC Het Zuiden\, Reenweg 1\, Raamsdonksveer\, 4942 VB\, Nederland
CATEGORIES:Parochie
ATTACH;FMTTYPE=image/jpeg:https://www.kscc.nl/wp-content/uploads/2021/09/2021-09-19-Kerkschip-Raamsdonksveer-59.jpg
GEO:51.7036444;4.8689386
X-APPLE-STRUCTURED-LOCATION;VALUE=URI;X-ADDRESS=KSCC Het Zuiden Reenweg 1 Raamsdonksveer 4942 VB Nederland;X-APPLE-RADIUS=500;X-TITLE=Reenweg 1:geo:4.8689386,51.7036444
END:VEVENT
BEGIN:VEVENT
DTSTART;TZID=Europe/Amsterdam:20250604T133000
DTEND;TZID=Europe/Amsterdam:20250604T170000
DTSTAMP:20260421T170540
CREATED:20250205T111332Z
LAST-MODIFIED:20250205T112717Z
UID:10005465-1749043800-1749056400@www.kscc.nl
SUMMARY:Kaarten en koffiedrinken op het KSCC in Raamsdonksveer
DESCRIPTION:Elke woensdagmiddag is er kaarten en koffiedrinken op het Kerkschip. Iedereen welkom.
URL:https://www.kscc.nl/event/kaarten-en-koffiedrinken-op-het-kscc-in-raamsdonksveer-4/2025-06-04/
LOCATION:KSCC Het Zuiden\, Reenweg 1\, Raamsdonksveer\, 4942 VB\, Nederland
CATEGORIES:KSCC
ATTACH;FMTTYPE=image/jpeg:https://www.kscc.nl/wp-content/uploads/2023/03/Kaarten-en-koffie-Raamsdonksveer.jpg
GEO:51.7036444;4.8689386
X-APPLE-STRUCTURED-LOCATION;VALUE=URI;X-ADDRESS=KSCC Het Zuiden Reenweg 1 Raamsdonksveer 4942 VB Nederland;X-APPLE-RADIUS=500;X-TITLE=Reenweg 1:geo:4.8689386,51.7036444
END:VEVENT
BEGIN:VEVENT
DTSTART;TZID=Europe/Amsterdam:20250528T133000
DTEND;TZID=Europe/Amsterdam:20250528T170000
DTSTAMP:20260421T170540
CREATED:20250205T111332Z
LAST-MODIFIED:20250205T112717Z
UID:10005464-1748439000-1748451600@www.kscc.nl
SUMMARY:Kaarten en koffiedrinken op het KSCC in Raamsdonksveer
DESCRIPTION:Elke woensdagmiddag is er kaarten en koffiedrinken op het Kerkschip. Iedereen welkom.
URL:https://www.kscc.nl/event/kaarten-en-koffiedrinken-op-het-kscc-in-raamsdonksveer-4/2025-05-28/
LOCATION:KSCC Het Zuiden\, Reenweg 1\, Raamsdonksveer\, 4942 VB\, Nederland
CATEGORIES:KSCC
ATTACH;FMTTYPE=image/jpeg:https://www.kscc.nl/wp-content/uploads/2023/03/Kaarten-en-koffie-Raamsdonksveer.jpg
GEO:51.7036444;4.8689386
X-APPLE-STRUCTURED-LOCATION;VALUE=URI;X-ADDRESS=KSCC Het Zuiden Reenweg 1 Raamsdonksveer 4942 VB Nederland;X-APPLE-RADIUS=500;X-TITLE=Reenweg 1:geo:4.8689386,51.7036444
END:VEVENT
BEGIN:VEVENT
DTSTART;TZID=Europe/Amsterdam:20250521T133000
DTEND;TZID=Europe/Amsterdam:20250521T170000
DTSTAMP:20260421T170541
CREATED:20250205T111332Z
LAST-MODIFIED:20250205T112717Z
UID:10005463-1747834200-1747846800@www.kscc.nl
SUMMARY:Kaarten en koffiedrinken op het KSCC in Raamsdonksveer
DESCRIPTION:Elke woensdagmiddag is er kaarten en koffiedrinken op het Kerkschip. Iedereen welkom.
URL:https://www.kscc.nl/event/kaarten-en-koffiedrinken-op-het-kscc-in-raamsdonksveer-4/2025-05-21/
LOCATION:KSCC Het Zuiden\, Reenweg 1\, Raamsdonksveer\, 4942 VB\, Nederland
CATEGORIES:KSCC
ATTACH;FMTTYPE=image/jpeg:https://www.kscc.nl/wp-content/uploads/2023/03/Kaarten-en-koffie-Raamsdonksveer.jpg
GEO:51.7036444;4.8689386
X-APPLE-STRUCTURED-LOCATION;VALUE=URI;X-ADDRESS=KSCC Het Zuiden Reenweg 1 Raamsdonksveer 4942 VB Nederland;X-APPLE-RADIUS=500;X-TITLE=Reenweg 1:geo:4.8689386,51.7036444
END:VEVENT
BEGIN:VEVENT
DTSTART;TZID=Europe/Amsterdam:20250514T133000
DTEND;TZID=Europe/Amsterdam:20250514T170000
DTSTAMP:20260421T170541
CREATED:20250205T111332Z
LAST-MODIFIED:20250205T112717Z
UID:10005462-1747229400-1747242000@www.kscc.nl
SUMMARY:Kaarten en koffiedrinken op het KSCC in Raamsdonksveer
DESCRIPTION:Elke woensdagmiddag is er kaarten en koffiedrinken op het Kerkschip. Iedereen welkom.
URL:https://www.kscc.nl/event/kaarten-en-koffiedrinken-op-het-kscc-in-raamsdonksveer-4/2025-05-14/
LOCATION:KSCC Het Zuiden\, Reenweg 1\, Raamsdonksveer\, 4942 VB\, Nederland
CATEGORIES:KSCC
ATTACH;FMTTYPE=image/jpeg:https://www.kscc.nl/wp-content/uploads/2023/03/Kaarten-en-koffie-Raamsdonksveer.jpg
GEO:51.7036444;4.8689386
X-APPLE-STRUCTURED-LOCATION;VALUE=URI;X-ADDRESS=KSCC Het Zuiden Reenweg 1 Raamsdonksveer 4942 VB Nederland;X-APPLE-RADIUS=500;X-TITLE=Reenweg 1:geo:4.8689386,51.7036444
END:VEVENT
BEGIN:VEVENT
DTSTART;TZID=Europe/Amsterdam:20250511T103000
DTEND;TZID=Europe/Amsterdam:20250511T113000
DTSTAMP:20260421T170541
CREATED:20240828T094322Z
LAST-MODIFIED:20240828T094515Z
UID:10005360-1746959400-1746963000@www.kscc.nl
SUMMARY:Eucharistieviering op het KSCC Het Zuiden
DESCRIPTION:Eucharistieviering met celebrant Ad Blommerde. Na de viering is er een bestuurslid aanwezig.
URL:https://www.kscc.nl/event/eucharistieviering-op-het-kscc-het-zuiden-2/2025-05-11/
LOCATION:KSCC Het Zuiden\, Reenweg 1\, Raamsdonksveer\, 4942 VB\, Nederland
CATEGORIES:Parochie
ATTACH;FMTTYPE=image/jpeg:https://www.kscc.nl/wp-content/uploads/2021/09/2021-09-19-Kerkschip-Raamsdonksveer-59.jpg
GEO:51.7036444;4.8689386
X-APPLE-STRUCTURED-LOCATION;VALUE=URI;X-ADDRESS=KSCC Het Zuiden Reenweg 1 Raamsdonksveer 4942 VB Nederland;X-APPLE-RADIUS=500;X-TITLE=Reenweg 1:geo:4.8689386,51.7036444
END:VEVENT
BEGIN:VEVENT
DTSTART;TZID=Europe/Amsterdam:20250507T133000
DTEND;TZID=Europe/Amsterdam:20250507T170000
DTSTAMP:20260421T170541
CREATED:20250205T111332Z
LAST-MODIFIED:20250205T112717Z
UID:10005461-1746624600-1746637200@www.kscc.nl
SUMMARY:Kaarten en koffiedrinken op het KSCC in Raamsdonksveer
DESCRIPTION:Elke woensdagmiddag is er kaarten en koffiedrinken op het Kerkschip. Iedereen welkom.
URL:https://www.kscc.nl/event/kaarten-en-koffiedrinken-op-het-kscc-in-raamsdonksveer-4/2025-05-07/
LOCATION:KSCC Het Zuiden\, Reenweg 1\, Raamsdonksveer\, 4942 VB\, Nederland
CATEGORIES:KSCC
ATTACH;FMTTYPE=image/jpeg:https://www.kscc.nl/wp-content/uploads/2023/03/Kaarten-en-koffie-Raamsdonksveer.jpg
GEO:51.7036444;4.8689386
X-APPLE-STRUCTURED-LOCATION;VALUE=URI;X-ADDRESS=KSCC Het Zuiden Reenweg 1 Raamsdonksveer 4942 VB Nederland;X-APPLE-RADIUS=500;X-TITLE=Reenweg 1:geo:4.8689386,51.7036444
END:VEVENT
BEGIN:VEVENT
DTSTART;TZID=Europe/Amsterdam:20250430T133000
DTEND;TZID=Europe/Amsterdam:20250430T170000
DTSTAMP:20260421T170541
CREATED:20250205T111332Z
LAST-MODIFIED:20250205T112717Z
UID:10005460-1746019800-1746032400@www.kscc.nl
SUMMARY:Kaarten en koffiedrinken op het KSCC in Raamsdonksveer
DESCRIPTION:Elke woensdagmiddag is er kaarten en koffiedrinken op het Kerkschip. Iedereen welkom.
URL:https://www.kscc.nl/event/kaarten-en-koffiedrinken-op-het-kscc-in-raamsdonksveer-4/2025-04-30/
LOCATION:KSCC Het Zuiden\, Reenweg 1\, Raamsdonksveer\, 4942 VB\, Nederland
CATEGORIES:KSCC
ATTACH;FMTTYPE=image/jpeg:https://www.kscc.nl/wp-content/uploads/2023/03/Kaarten-en-koffie-Raamsdonksveer.jpg
GEO:51.7036444;4.8689386
X-APPLE-STRUCTURED-LOCATION;VALUE=URI;X-ADDRESS=KSCC Het Zuiden Reenweg 1 Raamsdonksveer 4942 VB Nederland;X-APPLE-RADIUS=500;X-TITLE=Reenweg 1:geo:4.8689386,51.7036444
END:VEVENT
BEGIN:VEVENT
DTSTART;TZID=Europe/Amsterdam:20250423T133000
DTEND;TZID=Europe/Amsterdam:20250423T170000
DTSTAMP:20260421T170541
CREATED:20250205T111332Z
LAST-MODIFIED:20250205T112717Z
UID:10005459-1745415000-1745427600@www.kscc.nl
SUMMARY:Kaarten en koffiedrinken op het KSCC in Raamsdonksveer
DESCRIPTION:Elke woensdagmiddag is er kaarten en koffiedrinken op het Kerkschip. Iedereen welkom.
URL:https://www.kscc.nl/event/kaarten-en-koffiedrinken-op-het-kscc-in-raamsdonksveer-4/2025-04-23/
LOCATION:KSCC Het Zuiden\, Reenweg 1\, Raamsdonksveer\, 4942 VB\, Nederland
CATEGORIES:KSCC
ATTACH;FMTTYPE=image/jpeg:https://www.kscc.nl/wp-content/uploads/2023/03/Kaarten-en-koffie-Raamsdonksveer.jpg
GEO:51.7036444;4.8689386
X-APPLE-STRUCTURED-LOCATION;VALUE=URI;X-ADDRESS=KSCC Het Zuiden Reenweg 1 Raamsdonksveer 4942 VB Nederland;X-APPLE-RADIUS=500;X-TITLE=Reenweg 1:geo:4.8689386,51.7036444
END:VEVENT
BEGIN:VEVENT
DTSTART;TZID=Europe/Amsterdam:20250416T133000
DTEND;TZID=Europe/Amsterdam:20250416T170000
DTSTAMP:20260421T170541
CREATED:20250205T111332Z
LAST-MODIFIED:20250205T112717Z
UID:10005458-1744810200-1744822800@www.kscc.nl
SUMMARY:Kaarten en koffiedrinken op het KSCC in Raamsdonksveer
DESCRIPTION:Elke woensdagmiddag is er kaarten en koffiedrinken op het Kerkschip. Iedereen welkom.
URL:https://www.kscc.nl/event/kaarten-en-koffiedrinken-op-het-kscc-in-raamsdonksveer-4/2025-04-16/
LOCATION:KSCC Het Zuiden\, Reenweg 1\, Raamsdonksveer\, 4942 VB\, Nederland
CATEGORIES:KSCC
ATTACH;FMTTYPE=image/jpeg:https://www.kscc.nl/wp-content/uploads/2023/03/Kaarten-en-koffie-Raamsdonksveer.jpg
GEO:51.7036444;4.8689386
X-APPLE-STRUCTURED-LOCATION;VALUE=URI;X-ADDRESS=KSCC Het Zuiden Reenweg 1 Raamsdonksveer 4942 VB Nederland;X-APPLE-RADIUS=500;X-TITLE=Reenweg 1:geo:4.8689386,51.7036444
END:VEVENT
BEGIN:VEVENT
DTSTART;TZID=Europe/Amsterdam:20250413T103000
DTEND;TZID=Europe/Amsterdam:20250413T113000
DTSTAMP:20260421T170541
CREATED:20240828T094322Z
LAST-MODIFIED:20240828T094515Z
UID:10005359-1744540200-1744543800@www.kscc.nl
SUMMARY:Eucharistieviering op het KSCC Het Zuiden
DESCRIPTION:Eucharistieviering met celebrant Ad Blommerde. Na de viering is er een bestuurslid aanwezig.
URL:https://www.kscc.nl/event/eucharistieviering-op-het-kscc-het-zuiden-2/2025-04-13/
LOCATION:KSCC Het Zuiden\, Reenweg 1\, Raamsdonksveer\, 4942 VB\, Nederland
CATEGORIES:Parochie
ATTACH;FMTTYPE=image/jpeg:https://www.kscc.nl/wp-content/uploads/2021/09/2021-09-19-Kerkschip-Raamsdonksveer-59.jpg
GEO:51.7036444;4.8689386
X-APPLE-STRUCTURED-LOCATION;VALUE=URI;X-ADDRESS=KSCC Het Zuiden Reenweg 1 Raamsdonksveer 4942 VB Nederland;X-APPLE-RADIUS=500;X-TITLE=Reenweg 1:geo:4.8689386,51.7036444
END:VEVENT
BEGIN:VEVENT
DTSTART;TZID=Europe/Amsterdam:20250409T133000
DTEND;TZID=Europe/Amsterdam:20250409T170000
DTSTAMP:20260421T170541
CREATED:20250205T111332Z
LAST-MODIFIED:20250205T112717Z
UID:10005457-1744205400-1744218000@www.kscc.nl
SUMMARY:Kaarten en koffiedrinken op het KSCC in Raamsdonksveer
DESCRIPTION:Elke woensdagmiddag is er kaarten en koffiedrinken op het Kerkschip. Iedereen welkom.
URL:https://www.kscc.nl/event/kaarten-en-koffiedrinken-op-het-kscc-in-raamsdonksveer-4/2025-04-09/
LOCATION:KSCC Het Zuiden\, Reenweg 1\, Raamsdonksveer\, 4942 VB\, Nederland
CATEGORIES:KSCC
ATTACH;FMTTYPE=image/jpeg:https://www.kscc.nl/wp-content/uploads/2023/03/Kaarten-en-koffie-Raamsdonksveer.jpg
GEO:51.7036444;4.8689386
X-APPLE-STRUCTURED-LOCATION;VALUE=URI;X-ADDRESS=KSCC Het Zuiden Reenweg 1 Raamsdonksveer 4942 VB Nederland;X-APPLE-RADIUS=500;X-TITLE=Reenweg 1:geo:4.8689386,51.7036444
END:VEVENT
BEGIN:VEVENT
DTSTART;TZID=Europe/Amsterdam:20250402T133000
DTEND;TZID=Europe/Amsterdam:20250402T170000
DTSTAMP:20260421T170541
CREATED:20250205T111332Z
LAST-MODIFIED:20250205T112717Z
UID:10005456-1743600600-1743613200@www.kscc.nl
SUMMARY:Kaarten en koffiedrinken op het KSCC in Raamsdonksveer
DESCRIPTION:Elke woensdagmiddag is er kaarten en koffiedrinken op het Kerkschip. Iedereen welkom.
URL:https://www.kscc.nl/event/kaarten-en-koffiedrinken-op-het-kscc-in-raamsdonksveer-4/2025-04-02/
LOCATION:KSCC Het Zuiden\, Reenweg 1\, Raamsdonksveer\, 4942 VB\, Nederland
CATEGORIES:KSCC
ATTACH;FMTTYPE=image/jpeg:https://www.kscc.nl/wp-content/uploads/2023/03/Kaarten-en-koffie-Raamsdonksveer.jpg
GEO:51.7036444;4.8689386
X-APPLE-STRUCTURED-LOCATION;VALUE=URI;X-ADDRESS=KSCC Het Zuiden Reenweg 1 Raamsdonksveer 4942 VB Nederland;X-APPLE-RADIUS=500;X-TITLE=Reenweg 1:geo:4.8689386,51.7036444
END:VEVENT
BEGIN:VEVENT
DTSTART;TZID=Europe/Amsterdam:20250326T133000
DTEND;TZID=Europe/Amsterdam:20250326T170000
DTSTAMP:20260421T170541
CREATED:20250205T111332Z
LAST-MODIFIED:20250205T112717Z
UID:10005455-1742995800-1743008400@www.kscc.nl
SUMMARY:Kaarten en koffiedrinken op het KSCC in Raamsdonksveer
DESCRIPTION:Elke woensdagmiddag is er kaarten en koffiedrinken op het Kerkschip. Iedereen welkom.
URL:https://www.kscc.nl/event/kaarten-en-koffiedrinken-op-het-kscc-in-raamsdonksveer-4/2025-03-26/
LOCATION:KSCC Het Zuiden\, Reenweg 1\, Raamsdonksveer\, 4942 VB\, Nederland
CATEGORIES:KSCC
ATTACH;FMTTYPE=image/jpeg:https://www.kscc.nl/wp-content/uploads/2023/03/Kaarten-en-koffie-Raamsdonksveer.jpg
GEO:51.7036444;4.8689386
X-APPLE-STRUCTURED-LOCATION;VALUE=URI;X-ADDRESS=KSCC Het Zuiden Reenweg 1 Raamsdonksveer 4942 VB Nederland;X-APPLE-RADIUS=500;X-TITLE=Reenweg 1:geo:4.8689386,51.7036444
END:VEVENT
BEGIN:VEVENT
DTSTART;TZID=Europe/Amsterdam:20250319T133000
DTEND;TZID=Europe/Amsterdam:20250319T170000
DTSTAMP:20260421T170541
CREATED:20250205T111332Z
LAST-MODIFIED:20250205T112717Z
UID:10005454-1742391000-1742403600@www.kscc.nl
SUMMARY:Kaarten en koffiedrinken op het KSCC in Raamsdonksveer
DESCRIPTION:Elke woensdagmiddag is er kaarten en koffiedrinken op het Kerkschip. Iedereen welkom.
URL:https://www.kscc.nl/event/kaarten-en-koffiedrinken-op-het-kscc-in-raamsdonksveer-4/2025-03-19/
LOCATION:KSCC Het Zuiden\, Reenweg 1\, Raamsdonksveer\, 4942 VB\, Nederland
CATEGORIES:KSCC
ATTACH;FMTTYPE=image/jpeg:https://www.kscc.nl/wp-content/uploads/2023/03/Kaarten-en-koffie-Raamsdonksveer.jpg
GEO:51.7036444;4.8689386
X-APPLE-STRUCTURED-LOCATION;VALUE=URI;X-ADDRESS=KSCC Het Zuiden Reenweg 1 Raamsdonksveer 4942 VB Nederland;X-APPLE-RADIUS=500;X-TITLE=Reenweg 1:geo:4.8689386,51.7036444
END:VEVENT
BEGIN:VEVENT
DTSTART;TZID=Europe/Amsterdam:20250312T133000
DTEND;TZID=Europe/Amsterdam:20250312T170000
DTSTAMP:20260421T170541
CREATED:20250205T111332Z
LAST-MODIFIED:20250205T112717Z
UID:10005453-1741786200-1741798800@www.kscc.nl
SUMMARY:Kaarten en koffiedrinken op het KSCC in Raamsdonksveer
DESCRIPTION:Elke woensdagmiddag is er kaarten en koffiedrinken op het Kerkschip. Iedereen welkom.
URL:https://www.kscc.nl/event/kaarten-en-koffiedrinken-op-het-kscc-in-raamsdonksveer-4/2025-03-12/
LOCATION:KSCC Het Zuiden\, Reenweg 1\, Raamsdonksveer\, 4942 VB\, Nederland
CATEGORIES:KSCC
ATTACH;FMTTYPE=image/jpeg:https://www.kscc.nl/wp-content/uploads/2023/03/Kaarten-en-koffie-Raamsdonksveer.jpg
GEO:51.7036444;4.8689386
X-APPLE-STRUCTURED-LOCATION;VALUE=URI;X-ADDRESS=KSCC Het Zuiden Reenweg 1 Raamsdonksveer 4942 VB Nederland;X-APPLE-RADIUS=500;X-TITLE=Reenweg 1:geo:4.8689386,51.7036444
END:VEVENT
BEGIN:VEVENT
DTSTART;TZID=Europe/Amsterdam:20250309T103000
DTEND;TZID=Europe/Amsterdam:20250309T113000
DTSTAMP:20260421T170541
CREATED:20240828T094322Z
LAST-MODIFIED:20240828T094515Z
UID:10005358-1741516200-1741519800@www.kscc.nl
SUMMARY:Eucharistieviering op het KSCC Het Zuiden
DESCRIPTION:Eucharistieviering met celebrant Ad Blommerde. Na de viering is er een bestuurslid aanwezig.
URL:https://www.kscc.nl/event/eucharistieviering-op-het-kscc-het-zuiden-2/2025-03-09/
LOCATION:KSCC Het Zuiden\, Reenweg 1\, Raamsdonksveer\, 4942 VB\, Nederland
CATEGORIES:Parochie
ATTACH;FMTTYPE=image/jpeg:https://www.kscc.nl/wp-content/uploads/2021/09/2021-09-19-Kerkschip-Raamsdonksveer-59.jpg
GEO:51.7036444;4.8689386
X-APPLE-STRUCTURED-LOCATION;VALUE=URI;X-ADDRESS=KSCC Het Zuiden Reenweg 1 Raamsdonksveer 4942 VB Nederland;X-APPLE-RADIUS=500;X-TITLE=Reenweg 1:geo:4.8689386,51.7036444
END:VEVENT
BEGIN:VEVENT
DTSTART;TZID=Europe/Amsterdam:20250305T133000
DTEND;TZID=Europe/Amsterdam:20250305T170000
DTSTAMP:20260421T170541
CREATED:20250205T111332Z
LAST-MODIFIED:20250205T112717Z
UID:10005452-1741181400-1741194000@www.kscc.nl
SUMMARY:Kaarten en koffiedrinken op het KSCC in Raamsdonksveer
DESCRIPTION:Elke woensdagmiddag is er kaarten en koffiedrinken op het Kerkschip. Iedereen welkom.
URL:https://www.kscc.nl/event/kaarten-en-koffiedrinken-op-het-kscc-in-raamsdonksveer-4/2025-03-05/
LOCATION:KSCC Het Zuiden\, Reenweg 1\, Raamsdonksveer\, 4942 VB\, Nederland
CATEGORIES:KSCC
ATTACH;FMTTYPE=image/jpeg:https://www.kscc.nl/wp-content/uploads/2023/03/Kaarten-en-koffie-Raamsdonksveer.jpg
GEO:51.7036444;4.8689386
X-APPLE-STRUCTURED-LOCATION;VALUE=URI;X-ADDRESS=KSCC Het Zuiden Reenweg 1 Raamsdonksveer 4942 VB Nederland;X-APPLE-RADIUS=500;X-TITLE=Reenweg 1:geo:4.8689386,51.7036444
END:VEVENT
BEGIN:VEVENT
DTSTART;TZID=Europe/Amsterdam:20250226T133000
DTEND;TZID=Europe/Amsterdam:20250226T170000
DTSTAMP:20260421T170541
CREATED:20250205T111332Z
LAST-MODIFIED:20250205T112717Z
UID:10005451-1740576600-1740589200@www.kscc.nl
SUMMARY:Kaarten en koffiedrinken op het KSCC in Raamsdonksveer
DESCRIPTION:Elke woensdagmiddag is er kaarten en koffiedrinken op het Kerkschip. Iedereen welkom.
URL:https://www.kscc.nl/event/kaarten-en-koffiedrinken-op-het-kscc-in-raamsdonksveer-4/2025-02-26/
LOCATION:KSCC Het Zuiden\, Reenweg 1\, Raamsdonksveer\, 4942 VB\, Nederland
CATEGORIES:KSCC
ATTACH;FMTTYPE=image/jpeg:https://www.kscc.nl/wp-content/uploads/2023/03/Kaarten-en-koffie-Raamsdonksveer.jpg
GEO:51.7036444;4.8689386
X-APPLE-STRUCTURED-LOCATION;VALUE=URI;X-ADDRESS=KSCC Het Zuiden Reenweg 1 Raamsdonksveer 4942 VB Nederland;X-APPLE-RADIUS=500;X-TITLE=Reenweg 1:geo:4.8689386,51.7036444
END:VEVENT
BEGIN:VEVENT
DTSTART;TZID=Europe/Amsterdam:20250219T133000
DTEND;TZID=Europe/Amsterdam:20250219T170000
DTSTAMP:20260421T170541
CREATED:20250205T111332Z
LAST-MODIFIED:20250205T112717Z
UID:10005450-1739971800-1739984400@www.kscc.nl
SUMMARY:Kaarten en koffiedrinken op het KSCC in Raamsdonksveer
DESCRIPTION:Elke woensdagmiddag is er kaarten en koffiedrinken op het Kerkschip. Iedereen welkom.
URL:https://www.kscc.nl/event/kaarten-en-koffiedrinken-op-het-kscc-in-raamsdonksveer-4/2025-02-19/
LOCATION:KSCC Het Zuiden\, Reenweg 1\, Raamsdonksveer\, 4942 VB\, Nederland
CATEGORIES:KSCC
ATTACH;FMTTYPE=image/jpeg:https://www.kscc.nl/wp-content/uploads/2023/03/Kaarten-en-koffie-Raamsdonksveer.jpg
GEO:51.7036444;4.8689386
X-APPLE-STRUCTURED-LOCATION;VALUE=URI;X-ADDRESS=KSCC Het Zuiden Reenweg 1 Raamsdonksveer 4942 VB Nederland;X-APPLE-RADIUS=500;X-TITLE=Reenweg 1:geo:4.8689386,51.7036444
END:VEVENT
BEGIN:VEVENT
DTSTART;TZID=Europe/Amsterdam:20250212T133000
DTEND;TZID=Europe/Amsterdam:20250212T170000
DTSTAMP:20260421T170541
CREATED:20250205T111332Z
LAST-MODIFIED:20250205T112717Z
UID:10005449-1739367000-1739379600@www.kscc.nl
SUMMARY:Kaarten en koffiedrinken op het KSCC in Raamsdonksveer
DESCRIPTION:Elke woensdagmiddag is er kaarten en koffiedrinken op het Kerkschip. Iedereen welkom.
URL:https://www.kscc.nl/event/kaarten-en-koffiedrinken-op-het-kscc-in-raamsdonksveer-4/2025-02-12/
LOCATION:KSCC Het Zuiden\, Reenweg 1\, Raamsdonksveer\, 4942 VB\, Nederland
CATEGORIES:KSCC
ATTACH;FMTTYPE=image/jpeg:https://www.kscc.nl/wp-content/uploads/2023/03/Kaarten-en-koffie-Raamsdonksveer.jpg
GEO:51.7036444;4.8689386
X-APPLE-STRUCTURED-LOCATION;VALUE=URI;X-ADDRESS=KSCC Het Zuiden Reenweg 1 Raamsdonksveer 4942 VB Nederland;X-APPLE-RADIUS=500;X-TITLE=Reenweg 1:geo:4.8689386,51.7036444
END:VEVENT
END:VCALENDAR