BEGIN:VCALENDAR
VERSION:2.0
PRODID:-//KSCC - ECPv6.15.20//NONSGML v1.0//EN
CALSCALE:GREGORIAN
METHOD:PUBLISH
X-WR-CALNAME:KSCC
X-ORIGINAL-URL:https://www.kscc.nl
X-WR-CALDESC:Evenementen voor KSCC
REFRESH-INTERVAL;VALUE=DURATION:PT1H
X-Robots-Tag:noindex
X-PUBLISHED-TTL:PT1H
BEGIN:VTIMEZONE
TZID:Europe/Amsterdam
BEGIN:DAYLIGHT
TZOFFSETFROM:+0100
TZOFFSETTO:+0200
TZNAME:CEST
DTSTART:20280326T010000
END:DAYLIGHT
BEGIN:STANDARD
TZOFFSETFROM:+0200
TZOFFSETTO:+0100
TZNAME:CET
DTSTART:20281029T010000
END:STANDARD
BEGIN:DAYLIGHT
TZOFFSETFROM:+0100
TZOFFSETTO:+0200
TZNAME:CEST
DTSTART:20290325T010000
END:DAYLIGHT
BEGIN:STANDARD
TZOFFSETFROM:+0200
TZOFFSETTO:+0100
TZNAME:CET
DTSTART:20291028T010000
END:STANDARD
BEGIN:DAYLIGHT
TZOFFSETFROM:+0100
TZOFFSETTO:+0200
TZNAME:CEST
DTSTART:20300331T010000
END:DAYLIGHT
BEGIN:STANDARD
TZOFFSETFROM:+0200
TZOFFSETTO:+0100
TZNAME:CET
DTSTART:20301027T010000
END:STANDARD
END:VTIMEZONE
BEGIN:VEVENT
DTSTART;TZID=Europe/Amsterdam:20290513T103000
DTEND;TZID=Europe/Amsterdam:20290513T113000
DTSTAMP:20260421T154430
CREATED:20240828T094322Z
LAST-MODIFIED:20240828T094515Z
UID:10005408-1873362600-1873366200@www.kscc.nl
SUMMARY:Eucharistieviering op het KSCC Het Zuiden
DESCRIPTION:Eucharistieviering met celebrant Ad Blommerde. Na de viering is er een bestuurslid aanwezig.
URL:https://www.kscc.nl/event/eucharistieviering-op-het-kscc-het-zuiden-2/2029-05-13/
LOCATION:KSCC Het Zuiden\, Reenweg 1\, Raamsdonksveer\, 4942 VB\, Nederland
CATEGORIES:Parochie
ATTACH;FMTTYPE=image/jpeg:https://www.kscc.nl/wp-content/uploads/2021/09/2021-09-19-Kerkschip-Raamsdonksveer-59.jpg
GEO:51.7036444;4.8689386
X-APPLE-STRUCTURED-LOCATION;VALUE=URI;X-ADDRESS=KSCC Het Zuiden Reenweg 1 Raamsdonksveer 4942 VB Nederland;X-APPLE-RADIUS=500;X-TITLE=Reenweg 1:geo:4.8689386,51.7036444
END:VEVENT
BEGIN:VEVENT
DTSTART;TZID=Europe/Amsterdam:20290610T103000
DTEND;TZID=Europe/Amsterdam:20290610T113000
DTSTAMP:20260421T154430
CREATED:20240828T094322Z
LAST-MODIFIED:20240828T094515Z
UID:10005409-1875781800-1875785400@www.kscc.nl
SUMMARY:Eucharistieviering op het KSCC Het Zuiden
DESCRIPTION:Eucharistieviering met celebrant Ad Blommerde. Na de viering is er een bestuurslid aanwezig.
URL:https://www.kscc.nl/event/eucharistieviering-op-het-kscc-het-zuiden-2/2029-06-10/
LOCATION:KSCC Het Zuiden\, Reenweg 1\, Raamsdonksveer\, 4942 VB\, Nederland
CATEGORIES:Parochie
ATTACH;FMTTYPE=image/jpeg:https://www.kscc.nl/wp-content/uploads/2021/09/2021-09-19-Kerkschip-Raamsdonksveer-59.jpg
GEO:51.7036444;4.8689386
X-APPLE-STRUCTURED-LOCATION;VALUE=URI;X-ADDRESS=KSCC Het Zuiden Reenweg 1 Raamsdonksveer 4942 VB Nederland;X-APPLE-RADIUS=500;X-TITLE=Reenweg 1:geo:4.8689386,51.7036444
END:VEVENT
BEGIN:VEVENT
DTSTART;TZID=Europe/Amsterdam:20290708T103000
DTEND;TZID=Europe/Amsterdam:20290708T113000
DTSTAMP:20260421T154430
CREATED:20240828T094322Z
LAST-MODIFIED:20240828T094515Z
UID:10005410-1878201000-1878204600@www.kscc.nl
SUMMARY:Eucharistieviering op het KSCC Het Zuiden
DESCRIPTION:Eucharistieviering met celebrant Ad Blommerde. Na de viering is er een bestuurslid aanwezig.
URL:https://www.kscc.nl/event/eucharistieviering-op-het-kscc-het-zuiden-2/2029-07-08/
LOCATION:KSCC Het Zuiden\, Reenweg 1\, Raamsdonksveer\, 4942 VB\, Nederland
CATEGORIES:Parochie
ATTACH;FMTTYPE=image/jpeg:https://www.kscc.nl/wp-content/uploads/2021/09/2021-09-19-Kerkschip-Raamsdonksveer-59.jpg
GEO:51.7036444;4.8689386
X-APPLE-STRUCTURED-LOCATION;VALUE=URI;X-ADDRESS=KSCC Het Zuiden Reenweg 1 Raamsdonksveer 4942 VB Nederland;X-APPLE-RADIUS=500;X-TITLE=Reenweg 1:geo:4.8689386,51.7036444
END:VEVENT
BEGIN:VEVENT
DTSTART;TZID=Europe/Amsterdam:20290812T103000
DTEND;TZID=Europe/Amsterdam:20290812T113000
DTSTAMP:20260421T154430
CREATED:20240828T094322Z
LAST-MODIFIED:20240828T094515Z
UID:10005411-1881225000-1881228600@www.kscc.nl
SUMMARY:Eucharistieviering op het KSCC Het Zuiden
DESCRIPTION:Eucharistieviering met celebrant Ad Blommerde. Na de viering is er een bestuurslid aanwezig.
URL:https://www.kscc.nl/event/eucharistieviering-op-het-kscc-het-zuiden-2/2029-08-12/
LOCATION:KSCC Het Zuiden\, Reenweg 1\, Raamsdonksveer\, 4942 VB\, Nederland
CATEGORIES:Parochie
ATTACH;FMTTYPE=image/jpeg:https://www.kscc.nl/wp-content/uploads/2021/09/2021-09-19-Kerkschip-Raamsdonksveer-59.jpg
GEO:51.7036444;4.8689386
X-APPLE-STRUCTURED-LOCATION;VALUE=URI;X-ADDRESS=KSCC Het Zuiden Reenweg 1 Raamsdonksveer 4942 VB Nederland;X-APPLE-RADIUS=500;X-TITLE=Reenweg 1:geo:4.8689386,51.7036444
END:VEVENT
END:VCALENDAR