BEGIN:VCALENDAR
VERSION:2.0
PRODID:-//KSCC - ECPv6.15.20//NONSGML v1.0//EN
CALSCALE:GREGORIAN
METHOD:PUBLISH
X-ORIGINAL-URL:https://www.kscc.nl
X-WR-CALDESC:Evenementen voor KSCC
REFRESH-INTERVAL;VALUE=DURATION:PT1H
X-Robots-Tag:noindex
X-PUBLISHED-TTL:PT1H
BEGIN:VTIMEZONE
TZID:Europe/Amsterdam
BEGIN:DAYLIGHT
TZOFFSETFROM:+0100
TZOFFSETTO:+0200
TZNAME:CEST
DTSTART:20220327T010000
END:DAYLIGHT
BEGIN:STANDARD
TZOFFSETFROM:+0200
TZOFFSETTO:+0100
TZNAME:CET
DTSTART:20221030T010000
END:STANDARD
BEGIN:DAYLIGHT
TZOFFSETFROM:+0100
TZOFFSETTO:+0200
TZNAME:CEST
DTSTART:20230326T010000
END:DAYLIGHT
BEGIN:STANDARD
TZOFFSETFROM:+0200
TZOFFSETTO:+0100
TZNAME:CET
DTSTART:20231029T010000
END:STANDARD
BEGIN:DAYLIGHT
TZOFFSETFROM:+0100
TZOFFSETTO:+0200
TZNAME:CEST
DTSTART:20240331T010000
END:DAYLIGHT
BEGIN:STANDARD
TZOFFSETFROM:+0200
TZOFFSETTO:+0100
TZNAME:CET
DTSTART:20241027T010000
END:STANDARD
BEGIN:DAYLIGHT
TZOFFSETFROM:+0100
TZOFFSETTO:+0200
TZNAME:CEST
DTSTART:20250330T010000
END:DAYLIGHT
BEGIN:STANDARD
TZOFFSETFROM:+0200
TZOFFSETTO:+0100
TZNAME:CET
DTSTART:20251026T010000
END:STANDARD
END:VTIMEZONE
BEGIN:VEVENT
DTSTART;TZID=Europe/Amsterdam:20240103T133000
DTEND;TZID=Europe/Amsterdam:20240103T170000
DTSTAMP:20260421T224903
CREATED:20230328T132735Z
LAST-MODIFIED:20230328T132736Z
UID:10002911-1704288600-1704301200@www.kscc.nl
SUMMARY:Kaarten en koffiedrinken op het KSCC in Raamsdonksveer
DESCRIPTION:
URL:https://www.kscc.nl/event/kaarten-en-koffiedrinken-op-het-kscc-in-raamsdonksveer-2-2/2024-01-03/
LOCATION:KSCC Het Zuiden\, Reenweg 1\, Raamsdonksveer\, 4942 VB\, Nederland
CATEGORIES:KSCC
ATTACH;FMTTYPE=image/jpeg:https://www.kscc.nl/wp-content/uploads/2023/03/Kaarten-en-koffie-Raamsdonksveer.jpg
GEO:51.7036444;4.8689386
X-APPLE-STRUCTURED-LOCATION;VALUE=URI;X-ADDRESS=KSCC Het Zuiden Reenweg 1 Raamsdonksveer 4942 VB Nederland;X-APPLE-RADIUS=500;X-TITLE=Reenweg 1:geo:4.8689386,51.7036444
END:VEVENT
BEGIN:VEVENT
DTSTART;TZID=Europe/Amsterdam:20231227T133000
DTEND;TZID=Europe/Amsterdam:20231227T170000
DTSTAMP:20260421T224903
CREATED:20230328T132735Z
LAST-MODIFIED:20230328T132736Z
UID:10002910-1703683800-1703696400@www.kscc.nl
SUMMARY:Kaarten en koffiedrinken op het KSCC in Raamsdonksveer
DESCRIPTION:
URL:https://www.kscc.nl/event/kaarten-en-koffiedrinken-op-het-kscc-in-raamsdonksveer-2-2/2023-12-27/
LOCATION:KSCC Het Zuiden\, Reenweg 1\, Raamsdonksveer\, 4942 VB\, Nederland
CATEGORIES:KSCC
ATTACH;FMTTYPE=image/jpeg:https://www.kscc.nl/wp-content/uploads/2023/03/Kaarten-en-koffie-Raamsdonksveer.jpg
GEO:51.7036444;4.8689386
X-APPLE-STRUCTURED-LOCATION;VALUE=URI;X-ADDRESS=KSCC Het Zuiden Reenweg 1 Raamsdonksveer 4942 VB Nederland;X-APPLE-RADIUS=500;X-TITLE=Reenweg 1:geo:4.8689386,51.7036444
END:VEVENT
BEGIN:VEVENT
DTSTART;TZID=Europe/Amsterdam:20231220T133000
DTEND;TZID=Europe/Amsterdam:20231220T170000
DTSTAMP:20260421T224903
CREATED:20230328T132735Z
LAST-MODIFIED:20230328T132736Z
UID:10002909-1703079000-1703091600@www.kscc.nl
SUMMARY:Kaarten en koffiedrinken op het KSCC in Raamsdonksveer
DESCRIPTION:
URL:https://www.kscc.nl/event/kaarten-en-koffiedrinken-op-het-kscc-in-raamsdonksveer-2-2/2023-12-20/
LOCATION:KSCC Het Zuiden\, Reenweg 1\, Raamsdonksveer\, 4942 VB\, Nederland
CATEGORIES:KSCC
ATTACH;FMTTYPE=image/jpeg:https://www.kscc.nl/wp-content/uploads/2023/03/Kaarten-en-koffie-Raamsdonksveer.jpg
GEO:51.7036444;4.8689386
X-APPLE-STRUCTURED-LOCATION;VALUE=URI;X-ADDRESS=KSCC Het Zuiden Reenweg 1 Raamsdonksveer 4942 VB Nederland;X-APPLE-RADIUS=500;X-TITLE=Reenweg 1:geo:4.8689386,51.7036444
END:VEVENT
BEGIN:VEVENT
DTSTART;TZID=Europe/Amsterdam:20231213T133000
DTEND;TZID=Europe/Amsterdam:20231213T170000
DTSTAMP:20260421T224903
CREATED:20230328T132735Z
LAST-MODIFIED:20230328T132736Z
UID:10002908-1702474200-1702486800@www.kscc.nl
SUMMARY:Kaarten en koffiedrinken op het KSCC in Raamsdonksveer
DESCRIPTION:
URL:https://www.kscc.nl/event/kaarten-en-koffiedrinken-op-het-kscc-in-raamsdonksveer-2-2/2023-12-13/
LOCATION:KSCC Het Zuiden\, Reenweg 1\, Raamsdonksveer\, 4942 VB\, Nederland
CATEGORIES:KSCC
ATTACH;FMTTYPE=image/jpeg:https://www.kscc.nl/wp-content/uploads/2023/03/Kaarten-en-koffie-Raamsdonksveer.jpg
GEO:51.7036444;4.8689386
X-APPLE-STRUCTURED-LOCATION;VALUE=URI;X-ADDRESS=KSCC Het Zuiden Reenweg 1 Raamsdonksveer 4942 VB Nederland;X-APPLE-RADIUS=500;X-TITLE=Reenweg 1:geo:4.8689386,51.7036444
END:VEVENT
BEGIN:VEVENT
DTSTART;TZID=Europe/Amsterdam:20231206T133000
DTEND;TZID=Europe/Amsterdam:20231206T170000
DTSTAMP:20260421T224903
CREATED:20230328T132735Z
LAST-MODIFIED:20230328T132736Z
UID:10002907-1701869400-1701882000@www.kscc.nl
SUMMARY:Kaarten en koffiedrinken op het KSCC in Raamsdonksveer
DESCRIPTION:
URL:https://www.kscc.nl/event/kaarten-en-koffiedrinken-op-het-kscc-in-raamsdonksveer-2-2/2023-12-06/
LOCATION:KSCC Het Zuiden\, Reenweg 1\, Raamsdonksveer\, 4942 VB\, Nederland
CATEGORIES:KSCC
ATTACH;FMTTYPE=image/jpeg:https://www.kscc.nl/wp-content/uploads/2023/03/Kaarten-en-koffie-Raamsdonksveer.jpg
GEO:51.7036444;4.8689386
X-APPLE-STRUCTURED-LOCATION;VALUE=URI;X-ADDRESS=KSCC Het Zuiden Reenweg 1 Raamsdonksveer 4942 VB Nederland;X-APPLE-RADIUS=500;X-TITLE=Reenweg 1:geo:4.8689386,51.7036444
END:VEVENT
BEGIN:VEVENT
DTSTART;TZID=Europe/Amsterdam:20231129T133000
DTEND;TZID=Europe/Amsterdam:20231129T170000
DTSTAMP:20260421T224903
CREATED:20230328T132735Z
LAST-MODIFIED:20230328T132736Z
UID:10002906-1701264600-1701277200@www.kscc.nl
SUMMARY:Kaarten en koffiedrinken op het KSCC in Raamsdonksveer
DESCRIPTION:
URL:https://www.kscc.nl/event/kaarten-en-koffiedrinken-op-het-kscc-in-raamsdonksveer-2-2/2023-11-29/
LOCATION:KSCC Het Zuiden\, Reenweg 1\, Raamsdonksveer\, 4942 VB\, Nederland
CATEGORIES:KSCC
ATTACH;FMTTYPE=image/jpeg:https://www.kscc.nl/wp-content/uploads/2023/03/Kaarten-en-koffie-Raamsdonksveer.jpg
GEO:51.7036444;4.8689386
X-APPLE-STRUCTURED-LOCATION;VALUE=URI;X-ADDRESS=KSCC Het Zuiden Reenweg 1 Raamsdonksveer 4942 VB Nederland;X-APPLE-RADIUS=500;X-TITLE=Reenweg 1:geo:4.8689386,51.7036444
END:VEVENT
BEGIN:VEVENT
DTSTART;TZID=Europe/Amsterdam:20231122T133000
DTEND;TZID=Europe/Amsterdam:20231122T170000
DTSTAMP:20260421T224903
CREATED:20230328T132735Z
LAST-MODIFIED:20230328T132736Z
UID:10002905-1700659800-1700672400@www.kscc.nl
SUMMARY:Kaarten en koffiedrinken op het KSCC in Raamsdonksveer
DESCRIPTION:
URL:https://www.kscc.nl/event/kaarten-en-koffiedrinken-op-het-kscc-in-raamsdonksveer-2-2/2023-11-22/
LOCATION:KSCC Het Zuiden\, Reenweg 1\, Raamsdonksveer\, 4942 VB\, Nederland
CATEGORIES:KSCC
ATTACH;FMTTYPE=image/jpeg:https://www.kscc.nl/wp-content/uploads/2023/03/Kaarten-en-koffie-Raamsdonksveer.jpg
GEO:51.7036444;4.8689386
X-APPLE-STRUCTURED-LOCATION;VALUE=URI;X-ADDRESS=KSCC Het Zuiden Reenweg 1 Raamsdonksveer 4942 VB Nederland;X-APPLE-RADIUS=500;X-TITLE=Reenweg 1:geo:4.8689386,51.7036444
END:VEVENT
BEGIN:VEVENT
DTSTART;TZID=Europe/Amsterdam:20231115T133000
DTEND;TZID=Europe/Amsterdam:20231115T170000
DTSTAMP:20260421T224903
CREATED:20230328T132735Z
LAST-MODIFIED:20230328T132736Z
UID:10002904-1700055000-1700067600@www.kscc.nl
SUMMARY:Kaarten en koffiedrinken op het KSCC in Raamsdonksveer
DESCRIPTION:
URL:https://www.kscc.nl/event/kaarten-en-koffiedrinken-op-het-kscc-in-raamsdonksveer-2-2/2023-11-15/
LOCATION:KSCC Het Zuiden\, Reenweg 1\, Raamsdonksveer\, 4942 VB\, Nederland
CATEGORIES:KSCC
ATTACH;FMTTYPE=image/jpeg:https://www.kscc.nl/wp-content/uploads/2023/03/Kaarten-en-koffie-Raamsdonksveer.jpg
GEO:51.7036444;4.8689386
X-APPLE-STRUCTURED-LOCATION;VALUE=URI;X-ADDRESS=KSCC Het Zuiden Reenweg 1 Raamsdonksveer 4942 VB Nederland;X-APPLE-RADIUS=500;X-TITLE=Reenweg 1:geo:4.8689386,51.7036444
END:VEVENT
BEGIN:VEVENT
DTSTART;TZID=Europe/Amsterdam:20231108T133000
DTEND;TZID=Europe/Amsterdam:20231108T170000
DTSTAMP:20260421T224903
CREATED:20230328T132735Z
LAST-MODIFIED:20230328T132736Z
UID:10002903-1699450200-1699462800@www.kscc.nl
SUMMARY:Kaarten en koffiedrinken op het KSCC in Raamsdonksveer
DESCRIPTION:
URL:https://www.kscc.nl/event/kaarten-en-koffiedrinken-op-het-kscc-in-raamsdonksveer-2-2/2023-11-08/
LOCATION:KSCC Het Zuiden\, Reenweg 1\, Raamsdonksveer\, 4942 VB\, Nederland
CATEGORIES:KSCC
ATTACH;FMTTYPE=image/jpeg:https://www.kscc.nl/wp-content/uploads/2023/03/Kaarten-en-koffie-Raamsdonksveer.jpg
GEO:51.7036444;4.8689386
X-APPLE-STRUCTURED-LOCATION;VALUE=URI;X-ADDRESS=KSCC Het Zuiden Reenweg 1 Raamsdonksveer 4942 VB Nederland;X-APPLE-RADIUS=500;X-TITLE=Reenweg 1:geo:4.8689386,51.7036444
END:VEVENT
BEGIN:VEVENT
DTSTART;TZID=Europe/Amsterdam:20231101T133000
DTEND;TZID=Europe/Amsterdam:20231101T170000
DTSTAMP:20260421T224903
CREATED:20230328T132735Z
LAST-MODIFIED:20230328T132736Z
UID:10002902-1698845400-1698858000@www.kscc.nl
SUMMARY:Kaarten en koffiedrinken op het KSCC in Raamsdonksveer
DESCRIPTION:
URL:https://www.kscc.nl/event/kaarten-en-koffiedrinken-op-het-kscc-in-raamsdonksveer-2-2/2023-11-01/
LOCATION:KSCC Het Zuiden\, Reenweg 1\, Raamsdonksveer\, 4942 VB\, Nederland
CATEGORIES:KSCC
ATTACH;FMTTYPE=image/jpeg:https://www.kscc.nl/wp-content/uploads/2023/03/Kaarten-en-koffie-Raamsdonksveer.jpg
GEO:51.7036444;4.8689386
X-APPLE-STRUCTURED-LOCATION;VALUE=URI;X-ADDRESS=KSCC Het Zuiden Reenweg 1 Raamsdonksveer 4942 VB Nederland;X-APPLE-RADIUS=500;X-TITLE=Reenweg 1:geo:4.8689386,51.7036444
END:VEVENT
BEGIN:VEVENT
DTSTART;TZID=Europe/Amsterdam:20231025T133000
DTEND;TZID=Europe/Amsterdam:20231025T170000
DTSTAMP:20260421T224903
CREATED:20230328T132735Z
LAST-MODIFIED:20230328T132736Z
UID:10002901-1698240600-1698253200@www.kscc.nl
SUMMARY:Kaarten en koffiedrinken op het KSCC in Raamsdonksveer
DESCRIPTION:
URL:https://www.kscc.nl/event/kaarten-en-koffiedrinken-op-het-kscc-in-raamsdonksveer-2-2/2023-10-25/
LOCATION:KSCC Het Zuiden\, Reenweg 1\, Raamsdonksveer\, 4942 VB\, Nederland
CATEGORIES:KSCC
ATTACH;FMTTYPE=image/jpeg:https://www.kscc.nl/wp-content/uploads/2023/03/Kaarten-en-koffie-Raamsdonksveer.jpg
GEO:51.7036444;4.8689386
X-APPLE-STRUCTURED-LOCATION;VALUE=URI;X-ADDRESS=KSCC Het Zuiden Reenweg 1 Raamsdonksveer 4942 VB Nederland;X-APPLE-RADIUS=500;X-TITLE=Reenweg 1:geo:4.8689386,51.7036444
END:VEVENT
BEGIN:VEVENT
DTSTART;TZID=Europe/Amsterdam:20231018T133000
DTEND;TZID=Europe/Amsterdam:20231018T170000
DTSTAMP:20260421T224903
CREATED:20230328T132735Z
LAST-MODIFIED:20230328T132736Z
UID:10002900-1697635800-1697648400@www.kscc.nl
SUMMARY:Kaarten en koffiedrinken op het KSCC in Raamsdonksveer
DESCRIPTION:
URL:https://www.kscc.nl/event/kaarten-en-koffiedrinken-op-het-kscc-in-raamsdonksveer-2-2/2023-10-18/
LOCATION:KSCC Het Zuiden\, Reenweg 1\, Raamsdonksveer\, 4942 VB\, Nederland
CATEGORIES:KSCC
ATTACH;FMTTYPE=image/jpeg:https://www.kscc.nl/wp-content/uploads/2023/03/Kaarten-en-koffie-Raamsdonksveer.jpg
GEO:51.7036444;4.8689386
X-APPLE-STRUCTURED-LOCATION;VALUE=URI;X-ADDRESS=KSCC Het Zuiden Reenweg 1 Raamsdonksveer 4942 VB Nederland;X-APPLE-RADIUS=500;X-TITLE=Reenweg 1:geo:4.8689386,51.7036444
END:VEVENT
BEGIN:VEVENT
DTSTART;TZID=Europe/Amsterdam:20231011T133000
DTEND;TZID=Europe/Amsterdam:20231011T170000
DTSTAMP:20260421T224903
CREATED:20230328T132735Z
LAST-MODIFIED:20230328T132736Z
UID:10002899-1697031000-1697043600@www.kscc.nl
SUMMARY:Kaarten en koffiedrinken op het KSCC in Raamsdonksveer
DESCRIPTION:
URL:https://www.kscc.nl/event/kaarten-en-koffiedrinken-op-het-kscc-in-raamsdonksveer-2-2/2023-10-11/
LOCATION:KSCC Het Zuiden\, Reenweg 1\, Raamsdonksveer\, 4942 VB\, Nederland
CATEGORIES:KSCC
ATTACH;FMTTYPE=image/jpeg:https://www.kscc.nl/wp-content/uploads/2023/03/Kaarten-en-koffie-Raamsdonksveer.jpg
GEO:51.7036444;4.8689386
X-APPLE-STRUCTURED-LOCATION;VALUE=URI;X-ADDRESS=KSCC Het Zuiden Reenweg 1 Raamsdonksveer 4942 VB Nederland;X-APPLE-RADIUS=500;X-TITLE=Reenweg 1:geo:4.8689386,51.7036444
END:VEVENT
BEGIN:VEVENT
DTSTART;TZID=Europe/Amsterdam:20231004T133000
DTEND;TZID=Europe/Amsterdam:20231004T170000
DTSTAMP:20260421T224903
CREATED:20230328T132735Z
LAST-MODIFIED:20230328T132736Z
UID:10002898-1696426200-1696438800@www.kscc.nl
SUMMARY:Kaarten en koffiedrinken op het KSCC in Raamsdonksveer
DESCRIPTION:
URL:https://www.kscc.nl/event/kaarten-en-koffiedrinken-op-het-kscc-in-raamsdonksveer-2-2/2023-10-04/
LOCATION:KSCC Het Zuiden\, Reenweg 1\, Raamsdonksveer\, 4942 VB\, Nederland
CATEGORIES:KSCC
ATTACH;FMTTYPE=image/jpeg:https://www.kscc.nl/wp-content/uploads/2023/03/Kaarten-en-koffie-Raamsdonksveer.jpg
GEO:51.7036444;4.8689386
X-APPLE-STRUCTURED-LOCATION;VALUE=URI;X-ADDRESS=KSCC Het Zuiden Reenweg 1 Raamsdonksveer 4942 VB Nederland;X-APPLE-RADIUS=500;X-TITLE=Reenweg 1:geo:4.8689386,51.7036444
END:VEVENT
BEGIN:VEVENT
DTSTART;TZID=Europe/Amsterdam:20230927T133000
DTEND;TZID=Europe/Amsterdam:20230927T170000
DTSTAMP:20260421T224903
CREATED:20230328T132735Z
LAST-MODIFIED:20230328T132736Z
UID:10002897-1695821400-1695834000@www.kscc.nl
SUMMARY:Kaarten en koffiedrinken op het KSCC in Raamsdonksveer
DESCRIPTION:
URL:https://www.kscc.nl/event/kaarten-en-koffiedrinken-op-het-kscc-in-raamsdonksveer-2-2/2023-09-27/
LOCATION:KSCC Het Zuiden\, Reenweg 1\, Raamsdonksveer\, 4942 VB\, Nederland
CATEGORIES:KSCC
ATTACH;FMTTYPE=image/jpeg:https://www.kscc.nl/wp-content/uploads/2023/03/Kaarten-en-koffie-Raamsdonksveer.jpg
GEO:51.7036444;4.8689386
X-APPLE-STRUCTURED-LOCATION;VALUE=URI;X-ADDRESS=KSCC Het Zuiden Reenweg 1 Raamsdonksveer 4942 VB Nederland;X-APPLE-RADIUS=500;X-TITLE=Reenweg 1:geo:4.8689386,51.7036444
END:VEVENT
BEGIN:VEVENT
DTSTART;TZID=Europe/Amsterdam:20230920T133000
DTEND;TZID=Europe/Amsterdam:20230920T170000
DTSTAMP:20260421T224903
CREATED:20230328T132735Z
LAST-MODIFIED:20230328T132736Z
UID:10002896-1695216600-1695229200@www.kscc.nl
SUMMARY:Kaarten en koffiedrinken op het KSCC in Raamsdonksveer
DESCRIPTION:
URL:https://www.kscc.nl/event/kaarten-en-koffiedrinken-op-het-kscc-in-raamsdonksveer-2-2/2023-09-20/
LOCATION:KSCC Het Zuiden\, Reenweg 1\, Raamsdonksveer\, 4942 VB\, Nederland
CATEGORIES:KSCC
ATTACH;FMTTYPE=image/jpeg:https://www.kscc.nl/wp-content/uploads/2023/03/Kaarten-en-koffie-Raamsdonksveer.jpg
GEO:51.7036444;4.8689386
X-APPLE-STRUCTURED-LOCATION;VALUE=URI;X-ADDRESS=KSCC Het Zuiden Reenweg 1 Raamsdonksveer 4942 VB Nederland;X-APPLE-RADIUS=500;X-TITLE=Reenweg 1:geo:4.8689386,51.7036444
END:VEVENT
BEGIN:VEVENT
DTSTART;TZID=Europe/Amsterdam:20230913T133000
DTEND;TZID=Europe/Amsterdam:20230913T170000
DTSTAMP:20260421T224903
CREATED:20230328T132735Z
LAST-MODIFIED:20230328T132736Z
UID:10002895-1694611800-1694624400@www.kscc.nl
SUMMARY:Kaarten en koffiedrinken op het KSCC in Raamsdonksveer
DESCRIPTION:
URL:https://www.kscc.nl/event/kaarten-en-koffiedrinken-op-het-kscc-in-raamsdonksveer-2-2/2023-09-13/
LOCATION:KSCC Het Zuiden\, Reenweg 1\, Raamsdonksveer\, 4942 VB\, Nederland
CATEGORIES:KSCC
ATTACH;FMTTYPE=image/jpeg:https://www.kscc.nl/wp-content/uploads/2023/03/Kaarten-en-koffie-Raamsdonksveer.jpg
GEO:51.7036444;4.8689386
X-APPLE-STRUCTURED-LOCATION;VALUE=URI;X-ADDRESS=KSCC Het Zuiden Reenweg 1 Raamsdonksveer 4942 VB Nederland;X-APPLE-RADIUS=500;X-TITLE=Reenweg 1:geo:4.8689386,51.7036444
END:VEVENT
BEGIN:VEVENT
DTSTART;TZID=Europe/Amsterdam:20230906T133000
DTEND;TZID=Europe/Amsterdam:20230906T170000
DTSTAMP:20260421T224903
CREATED:20230328T132735Z
LAST-MODIFIED:20230328T132736Z
UID:10002733-1694007000-1694019600@www.kscc.nl
SUMMARY:Kaarten en koffiedrinken op het KSCC in Raamsdonksveer
DESCRIPTION:
URL:https://www.kscc.nl/event/kaarten-en-koffiedrinken-op-het-kscc-in-raamsdonksveer-2-2/2023-09-06/
LOCATION:KSCC Het Zuiden\, Reenweg 1\, Raamsdonksveer\, 4942 VB\, Nederland
CATEGORIES:KSCC
ATTACH;FMTTYPE=image/jpeg:https://www.kscc.nl/wp-content/uploads/2023/03/Kaarten-en-koffie-Raamsdonksveer.jpg
GEO:51.7036444;4.8689386
X-APPLE-STRUCTURED-LOCATION;VALUE=URI;X-ADDRESS=KSCC Het Zuiden Reenweg 1 Raamsdonksveer 4942 VB Nederland;X-APPLE-RADIUS=500;X-TITLE=Reenweg 1:geo:4.8689386,51.7036444
END:VEVENT
BEGIN:VEVENT
DTSTART;TZID=Europe/Amsterdam:20230830T133000
DTEND;TZID=Europe/Amsterdam:20230830T170000
DTSTAMP:20260421T224903
CREATED:20230328T132735Z
LAST-MODIFIED:20230328T132736Z
UID:10002732-1693402200-1693414800@www.kscc.nl
SUMMARY:Kaarten en koffiedrinken op het KSCC in Raamsdonksveer
DESCRIPTION:
URL:https://www.kscc.nl/event/kaarten-en-koffiedrinken-op-het-kscc-in-raamsdonksveer-2-2/2023-08-30/
LOCATION:KSCC Het Zuiden\, Reenweg 1\, Raamsdonksveer\, 4942 VB\, Nederland
CATEGORIES:KSCC
ATTACH;FMTTYPE=image/jpeg:https://www.kscc.nl/wp-content/uploads/2023/03/Kaarten-en-koffie-Raamsdonksveer.jpg
GEO:51.7036444;4.8689386
X-APPLE-STRUCTURED-LOCATION;VALUE=URI;X-ADDRESS=KSCC Het Zuiden Reenweg 1 Raamsdonksveer 4942 VB Nederland;X-APPLE-RADIUS=500;X-TITLE=Reenweg 1:geo:4.8689386,51.7036444
END:VEVENT
BEGIN:VEVENT
DTSTART;TZID=Europe/Amsterdam:20230823T133000
DTEND;TZID=Europe/Amsterdam:20230823T170000
DTSTAMP:20260421T224903
CREATED:20230328T132735Z
LAST-MODIFIED:20230328T132736Z
UID:10002731-1692797400-1692810000@www.kscc.nl
SUMMARY:Kaarten en koffiedrinken op het KSCC in Raamsdonksveer
DESCRIPTION:
URL:https://www.kscc.nl/event/kaarten-en-koffiedrinken-op-het-kscc-in-raamsdonksveer-2-2/2023-08-23/
LOCATION:KSCC Het Zuiden\, Reenweg 1\, Raamsdonksveer\, 4942 VB\, Nederland
CATEGORIES:KSCC
ATTACH;FMTTYPE=image/jpeg:https://www.kscc.nl/wp-content/uploads/2023/03/Kaarten-en-koffie-Raamsdonksveer.jpg
GEO:51.7036444;4.8689386
X-APPLE-STRUCTURED-LOCATION;VALUE=URI;X-ADDRESS=KSCC Het Zuiden Reenweg 1 Raamsdonksveer 4942 VB Nederland;X-APPLE-RADIUS=500;X-TITLE=Reenweg 1:geo:4.8689386,51.7036444
END:VEVENT
BEGIN:VEVENT
DTSTART;TZID=Europe/Amsterdam:20230816T133000
DTEND;TZID=Europe/Amsterdam:20230816T170000
DTSTAMP:20260421T224903
CREATED:20230328T132735Z
LAST-MODIFIED:20230328T132736Z
UID:10002730-1692192600-1692205200@www.kscc.nl
SUMMARY:Kaarten en koffiedrinken op het KSCC in Raamsdonksveer
DESCRIPTION:
URL:https://www.kscc.nl/event/kaarten-en-koffiedrinken-op-het-kscc-in-raamsdonksveer-2-2/2023-08-16/
LOCATION:KSCC Het Zuiden\, Reenweg 1\, Raamsdonksveer\, 4942 VB\, Nederland
CATEGORIES:KSCC
ATTACH;FMTTYPE=image/jpeg:https://www.kscc.nl/wp-content/uploads/2023/03/Kaarten-en-koffie-Raamsdonksveer.jpg
GEO:51.7036444;4.8689386
X-APPLE-STRUCTURED-LOCATION;VALUE=URI;X-ADDRESS=KSCC Het Zuiden Reenweg 1 Raamsdonksveer 4942 VB Nederland;X-APPLE-RADIUS=500;X-TITLE=Reenweg 1:geo:4.8689386,51.7036444
END:VEVENT
BEGIN:VEVENT
DTSTART;TZID=Europe/Amsterdam:20230809T133000
DTEND;TZID=Europe/Amsterdam:20230809T170000
DTSTAMP:20260421T224903
CREATED:20230328T132735Z
LAST-MODIFIED:20230328T132736Z
UID:10002729-1691587800-1691600400@www.kscc.nl
SUMMARY:Kaarten en koffiedrinken op het KSCC in Raamsdonksveer
DESCRIPTION:
URL:https://www.kscc.nl/event/kaarten-en-koffiedrinken-op-het-kscc-in-raamsdonksveer-2-2/2023-08-09/
LOCATION:KSCC Het Zuiden\, Reenweg 1\, Raamsdonksveer\, 4942 VB\, Nederland
CATEGORIES:KSCC
ATTACH;FMTTYPE=image/jpeg:https://www.kscc.nl/wp-content/uploads/2023/03/Kaarten-en-koffie-Raamsdonksveer.jpg
GEO:51.7036444;4.8689386
X-APPLE-STRUCTURED-LOCATION;VALUE=URI;X-ADDRESS=KSCC Het Zuiden Reenweg 1 Raamsdonksveer 4942 VB Nederland;X-APPLE-RADIUS=500;X-TITLE=Reenweg 1:geo:4.8689386,51.7036444
END:VEVENT
BEGIN:VEVENT
DTSTART;TZID=Europe/Amsterdam:20230802T133000
DTEND;TZID=Europe/Amsterdam:20230802T170000
DTSTAMP:20260421T224903
CREATED:20230328T132735Z
LAST-MODIFIED:20230328T132736Z
UID:10002728-1690983000-1690995600@www.kscc.nl
SUMMARY:Kaarten en koffiedrinken op het KSCC in Raamsdonksveer
DESCRIPTION:
URL:https://www.kscc.nl/event/kaarten-en-koffiedrinken-op-het-kscc-in-raamsdonksveer-2-2/2023-08-02/
LOCATION:KSCC Het Zuiden\, Reenweg 1\, Raamsdonksveer\, 4942 VB\, Nederland
CATEGORIES:KSCC
ATTACH;FMTTYPE=image/jpeg:https://www.kscc.nl/wp-content/uploads/2023/03/Kaarten-en-koffie-Raamsdonksveer.jpg
GEO:51.7036444;4.8689386
X-APPLE-STRUCTURED-LOCATION;VALUE=URI;X-ADDRESS=KSCC Het Zuiden Reenweg 1 Raamsdonksveer 4942 VB Nederland;X-APPLE-RADIUS=500;X-TITLE=Reenweg 1:geo:4.8689386,51.7036444
END:VEVENT
BEGIN:VEVENT
DTSTART;TZID=Europe/Amsterdam:20230726T133000
DTEND;TZID=Europe/Amsterdam:20230726T170000
DTSTAMP:20260421T224903
CREATED:20230328T132735Z
LAST-MODIFIED:20230328T132736Z
UID:10002727-1690378200-1690390800@www.kscc.nl
SUMMARY:Kaarten en koffiedrinken op het KSCC in Raamsdonksveer
DESCRIPTION:
URL:https://www.kscc.nl/event/kaarten-en-koffiedrinken-op-het-kscc-in-raamsdonksveer-2-2/2023-07-26/
LOCATION:KSCC Het Zuiden\, Reenweg 1\, Raamsdonksveer\, 4942 VB\, Nederland
CATEGORIES:KSCC
ATTACH;FMTTYPE=image/jpeg:https://www.kscc.nl/wp-content/uploads/2023/03/Kaarten-en-koffie-Raamsdonksveer.jpg
GEO:51.7036444;4.8689386
X-APPLE-STRUCTURED-LOCATION;VALUE=URI;X-ADDRESS=KSCC Het Zuiden Reenweg 1 Raamsdonksveer 4942 VB Nederland;X-APPLE-RADIUS=500;X-TITLE=Reenweg 1:geo:4.8689386,51.7036444
END:VEVENT
BEGIN:VEVENT
DTSTART;TZID=Europe/Amsterdam:20230719T133000
DTEND;TZID=Europe/Amsterdam:20230719T170000
DTSTAMP:20260421T224903
CREATED:20230328T132735Z
LAST-MODIFIED:20230328T132736Z
UID:10002726-1689773400-1689786000@www.kscc.nl
SUMMARY:Kaarten en koffiedrinken op het KSCC in Raamsdonksveer
DESCRIPTION:
URL:https://www.kscc.nl/event/kaarten-en-koffiedrinken-op-het-kscc-in-raamsdonksveer-2-2/2023-07-19/
LOCATION:KSCC Het Zuiden\, Reenweg 1\, Raamsdonksveer\, 4942 VB\, Nederland
CATEGORIES:KSCC
ATTACH;FMTTYPE=image/jpeg:https://www.kscc.nl/wp-content/uploads/2023/03/Kaarten-en-koffie-Raamsdonksveer.jpg
GEO:51.7036444;4.8689386
X-APPLE-STRUCTURED-LOCATION;VALUE=URI;X-ADDRESS=KSCC Het Zuiden Reenweg 1 Raamsdonksveer 4942 VB Nederland;X-APPLE-RADIUS=500;X-TITLE=Reenweg 1:geo:4.8689386,51.7036444
END:VEVENT
BEGIN:VEVENT
DTSTART;TZID=Europe/Amsterdam:20230712T133000
DTEND;TZID=Europe/Amsterdam:20230712T170000
DTSTAMP:20260421T224903
CREATED:20230328T132735Z
LAST-MODIFIED:20230328T132736Z
UID:10002725-1689168600-1689181200@www.kscc.nl
SUMMARY:Kaarten en koffiedrinken op het KSCC in Raamsdonksveer
DESCRIPTION:
URL:https://www.kscc.nl/event/kaarten-en-koffiedrinken-op-het-kscc-in-raamsdonksveer-2-2/2023-07-12/
LOCATION:KSCC Het Zuiden\, Reenweg 1\, Raamsdonksveer\, 4942 VB\, Nederland
CATEGORIES:KSCC
ATTACH;FMTTYPE=image/jpeg:https://www.kscc.nl/wp-content/uploads/2023/03/Kaarten-en-koffie-Raamsdonksveer.jpg
GEO:51.7036444;4.8689386
X-APPLE-STRUCTURED-LOCATION;VALUE=URI;X-ADDRESS=KSCC Het Zuiden Reenweg 1 Raamsdonksveer 4942 VB Nederland;X-APPLE-RADIUS=500;X-TITLE=Reenweg 1:geo:4.8689386,51.7036444
END:VEVENT
BEGIN:VEVENT
DTSTART;TZID=Europe/Amsterdam:20230705T133000
DTEND;TZID=Europe/Amsterdam:20230705T170000
DTSTAMP:20260421T224903
CREATED:20230328T132735Z
LAST-MODIFIED:20230328T132736Z
UID:10002724-1688563800-1688576400@www.kscc.nl
SUMMARY:Kaarten en koffiedrinken op het KSCC in Raamsdonksveer
DESCRIPTION:
URL:https://www.kscc.nl/event/kaarten-en-koffiedrinken-op-het-kscc-in-raamsdonksveer-2-2/2023-07-05/
LOCATION:KSCC Het Zuiden\, Reenweg 1\, Raamsdonksveer\, 4942 VB\, Nederland
CATEGORIES:KSCC
ATTACH;FMTTYPE=image/jpeg:https://www.kscc.nl/wp-content/uploads/2023/03/Kaarten-en-koffie-Raamsdonksveer.jpg
GEO:51.7036444;4.8689386
X-APPLE-STRUCTURED-LOCATION;VALUE=URI;X-ADDRESS=KSCC Het Zuiden Reenweg 1 Raamsdonksveer 4942 VB Nederland;X-APPLE-RADIUS=500;X-TITLE=Reenweg 1:geo:4.8689386,51.7036444
END:VEVENT
BEGIN:VEVENT
DTSTART;TZID=Europe/Amsterdam:20230628T133000
DTEND;TZID=Europe/Amsterdam:20230628T170000
DTSTAMP:20260421T224903
CREATED:20230328T132735Z
LAST-MODIFIED:20230328T132736Z
UID:10002723-1687959000-1687971600@www.kscc.nl
SUMMARY:Kaarten en koffiedrinken op het KSCC in Raamsdonksveer
DESCRIPTION:
URL:https://www.kscc.nl/event/kaarten-en-koffiedrinken-op-het-kscc-in-raamsdonksveer-2-2/2023-06-28/
LOCATION:KSCC Het Zuiden\, Reenweg 1\, Raamsdonksveer\, 4942 VB\, Nederland
CATEGORIES:KSCC
ATTACH;FMTTYPE=image/jpeg:https://www.kscc.nl/wp-content/uploads/2023/03/Kaarten-en-koffie-Raamsdonksveer.jpg
GEO:51.7036444;4.8689386
X-APPLE-STRUCTURED-LOCATION;VALUE=URI;X-ADDRESS=KSCC Het Zuiden Reenweg 1 Raamsdonksveer 4942 VB Nederland;X-APPLE-RADIUS=500;X-TITLE=Reenweg 1:geo:4.8689386,51.7036444
END:VEVENT
BEGIN:VEVENT
DTSTART;TZID=Europe/Amsterdam:20230621T133000
DTEND;TZID=Europe/Amsterdam:20230621T170000
DTSTAMP:20260421T224903
CREATED:20230328T132735Z
LAST-MODIFIED:20230328T132736Z
UID:10002722-1687354200-1687366800@www.kscc.nl
SUMMARY:Kaarten en koffiedrinken op het KSCC in Raamsdonksveer
DESCRIPTION:
URL:https://www.kscc.nl/event/kaarten-en-koffiedrinken-op-het-kscc-in-raamsdonksveer-2-2/2023-06-21/
LOCATION:KSCC Het Zuiden\, Reenweg 1\, Raamsdonksveer\, 4942 VB\, Nederland
CATEGORIES:KSCC
ATTACH;FMTTYPE=image/jpeg:https://www.kscc.nl/wp-content/uploads/2023/03/Kaarten-en-koffie-Raamsdonksveer.jpg
GEO:51.7036444;4.8689386
X-APPLE-STRUCTURED-LOCATION;VALUE=URI;X-ADDRESS=KSCC Het Zuiden Reenweg 1 Raamsdonksveer 4942 VB Nederland;X-APPLE-RADIUS=500;X-TITLE=Reenweg 1:geo:4.8689386,51.7036444
END:VEVENT
BEGIN:VEVENT
DTSTART;TZID=Europe/Amsterdam:20230614T133000
DTEND;TZID=Europe/Amsterdam:20230614T170000
DTSTAMP:20260421T224903
CREATED:20230328T132735Z
LAST-MODIFIED:20230328T132736Z
UID:10002721-1686749400-1686762000@www.kscc.nl
SUMMARY:Kaarten en koffiedrinken op het KSCC in Raamsdonksveer
DESCRIPTION:
URL:https://www.kscc.nl/event/kaarten-en-koffiedrinken-op-het-kscc-in-raamsdonksveer-2-2/2023-06-14/
LOCATION:KSCC Het Zuiden\, Reenweg 1\, Raamsdonksveer\, 4942 VB\, Nederland
CATEGORIES:KSCC
ATTACH;FMTTYPE=image/jpeg:https://www.kscc.nl/wp-content/uploads/2023/03/Kaarten-en-koffie-Raamsdonksveer.jpg
GEO:51.7036444;4.8689386
X-APPLE-STRUCTURED-LOCATION;VALUE=URI;X-ADDRESS=KSCC Het Zuiden Reenweg 1 Raamsdonksveer 4942 VB Nederland;X-APPLE-RADIUS=500;X-TITLE=Reenweg 1:geo:4.8689386,51.7036444
END:VEVENT
END:VCALENDAR